{"text_format":"3","workbook":"xlsx","n_sheets":3,"sheets":["Swapper","Specials","Characters"],"not_rendered":{"macros":1,"defined_names":2},"read":"whole","date_system":"1900"}

{"sheet":"Swapper","index":0,"n_rows":9,"n_cols":27,"rows_kept":9}
[" "]
[]
[{"$nulls":3},"¢","Å","Å","Ã","¢","u","u",null,"Swipe to swap",{"$nulls":8},{"$f":"Specials!D3","v":0},{"$f":"Specials!E3","v":0},{"$f":"Specials!F3","v":0},{"$f":"Specials!G3","v":0},{"$f":"Specials!H3","v":0},{"$f":"Specials!I3","v":0},{"$f":"Specials!J3","v":0}]
[{"$nulls":3},"Å","˜","˜","…","Ã","˜","˜",{"$nulls":10},{"$f":"Specials!D4","v":0},{"$f":"Specials!E4","v":0},{"$f":"Specials!F4","v":0},{"$f":"Specials!G4","v":0},{"$f":"Specials!H4","v":0},{"$f":"Specials!I4","v":0},{"$f":"Specials!J4","v":0}]
[{"$nulls":3},"Ã","…","p","…","…","¢","˜",{"$nulls":10},{"$f":"Specials!D5","v":0},{"$f":"Specials!E5","v":0},{"$f":"Specials!F5","v":0},{"$f":"Specials!G5","v":0},{"$f":"Specials!H5","v":0},{"$f":"Specials!I5","v":0},{"$f":"Specials!J5","v":0}]
[{"$nulls":3},"Å","¢","p","u","p","¢","Ã",{"$nulls":10},{"$f":"Specials!D6","v":0},{"$f":"Specials!E6","v":0},{"$f":"Specials!F6","v":0},{"$f":"Specials!G6","v":0},{"$f":"Specials!H6","v":0},{"$f":"Specials!I6","v":0},{"$f":"Specials!J6","v":0}]
[{"$nulls":3},"Å","Ã","¢","Å","…","u","˜",{"$nulls":10},{"$f":"Specials!D7","v":0},{"$f":"Specials!E7","v":0},{"$f":"Specials!F7","v":0},{"$f":"Specials!G7","v":0},{"$f":"Specials!H7","v":0},{"$f":"Specials!I7","v":0},{"$f":"Specials!J7","v":0}]
[{"$nulls":3},"u","…","˜","p","Ã","p","Å",{"$nulls":10},{"$f":"Specials!D8","v":0},{"$f":"Specials!E8","v":0},{"$f":"Specials!F8","v":0},{"$f":"Specials!G8","v":0},{"$f":"Specials!H8","v":0},{"$f":"Specials!I8","v":0},{"$f":"Specials!J8","v":0}]
[{"$nulls":3},"…","¢","u","u","Ã","˜","…",{"$nulls":10},{"$f":"Specials!D9","v":0},{"$f":"Specials!E9","v":0},{"$f":"Specials!F9","v":0},{"$f":"Specials!G9","v":0},{"$f":"Specials!H9","v":0},{"$f":"Specials!I9","v":0},{"$f":"Specials!J9","v":0}]

{"sheet":"Specials","index":1,"n_rows":10,"n_cols":4,"rows_kept":10,"merged":[[10,3,10,9]]}
{"$rows_empty":9}
[{"$nulls":3},"`"]

{"sheet":"Characters","index":2,"n_rows":256,"n_cols":14,"rows_kept":256}
["Code","Char","Web","Wing1","Wing2","Wing3",null,null,"Code","Char","Web","Wing1","Wing2","Wing3"]
[60,{"$f":"CHAR(A2)","v":"<"},{"$f":"$B2","v":"<"},{"$f":"$B2","v":"<"},"<","<",null,null,1,{"$f":"CHAR(I2)","v":"\u0001"},{"$f":"$J2","v":"\u0001"},{"$f":"$J2","v":"\u0001"},"\u0001","\u0001"]
[61,{"$f":"CHAR(A3)","v":"="},{"$f":"$B3","v":"="},"=","=","=",null,null,2,{"$f":"CHAR(I3)","v":"\u0002"},{"$f":"$J3","v":"\u0002"},"\u0002","\u0002","\u0002"]
[83,{"$f":"CHAR(A4)","v":"S"},"S","S","S","S",null,null,3,"\u0003","\u0003","\u0003","\u0003","\u0003"]
[89,{"$f":"CHAR(A5)","v":"Y"},"Y","Y","Y","Y",null,null,4,"\u0004","\u0004","\u0004","\u0004","\u0004"]
[103,"g","g","g","g","g",null,null,5,"\u0005","\u0005","\u0005","\u0005","\u0005"]
[108,"l","l","l","l","l",null,null,6,"\u0006","\u0006","\u0006","\u0006","\u0006"]
[110,"n","n","n","n","n",null,null,7,"\u0007","\u0007","\u0007","\u0007","\u0007"]
[112,"p","p","p","p","p","Purple",null,8,"\b","\b","\b","\b","\b"]
[117,"u","u","u","u","u","Yellow",null,9,"\t","\t","\t","\t","\t"]
[133,"…","…","…","…","…","Blue",null,10,"\n","\n","\n","\n","\n"]
[152,"˜","˜","˜","˜","˜","Gray",null,11,"\u000b","\u000b","\u000b","\u000b","\u000b"]
[162,"¢","¢","¢","¢","¢","Red",null,12,"\f","\f","\f","\f","\f"]
[181,"µ","µ","µ","µ","µ",null,null,13,"\r","\r","\r","\r","\r"]
[191,"¿","¿","¿","¿","¿",null,null,14,"\u000e","\u000e","\u000e","\u000e","\u000e"]
[192,"À","À","À","À","À",null,null,15,"\u000f","\u000f","\u000f","\u000f","\u000f"]
[195,"Ã","Ã","Ã","Ã","Ã","Orange",null,16,"\u0010","\u0010","\u0010","\u0010","\u0010"]
[197,"Å","Å","Å","Å","Å","Green",null,17,"\u0011","\u0011","\u0011","\u0011","\u0011"]
[223,"ß","ß","ß","ß","ß",null,null,18,"\u0012","\u0012","\u0012","\u0012","\u0012"]
[238,"î","î","î","î","î",null,null,19,"\u0013","\u0013","\u0013","\u0013","\u0013"]
[{"$nulls":8},20,"\u0014","\u0014","\u0014","\u0014","\u0014"]
[{"$nulls":8},21,"\u0015","\u0015","\u0015","\u0015","\u0015"]
[{"$nulls":8},22,"\u0016","\u0016","\u0016","\u0016","\u0016"]
[{"$nulls":8},23,"\u0017","\u0017","\u0017","\u0017","\u0017"]
[{"$nulls":8},24,"\u0018","\u0018","\u0018","\u0018","\u0018"]
[{"$nulls":8},25,"\u0019","\u0019","\u0019","\u0019","\u0019"]
[{"$nulls":8},26,"\u001a","\u001a","\u001a","\u001a","\u001a"]
[{"$nulls":8},27,"\u001b","\u001b","\u001b","\u001b","\u001b"]
[{"$nulls":8},28,"\u001c","\u001c","\u001c","\u001c","\u001c"]
[{"$nulls":8},29,"\u001d","\u001d","\u001d","\u001d","\u001d"]
[{"$nulls":8},30,"\u001e","\u001e","\u001e","\u001e","\u001e"]
[{"$nulls":8},31,"\u001f","\u001f","\u001f","\u001f","\u001f"]
[{"$nulls":8},32," "," "," "," "," "]
[{"$nulls":8},33,"!","!","!","!","!"]
[{"$nulls":8},34,"\"","\"","\"","\"","\""]
[{"$nulls":8},35,"#","#","#","#","#"]
[{"$nulls":8},36,"$","$","$","$","$"]
[{"$nulls":8},37,"%","%","%","%","%"]
[{"$nulls":8},38,"&","&","&","&","&"]
[{"$nulls":8},39,"'","'","'","'","'"]
[{"$nulls":8},40,"(","(","(","(","("]
[{"$nulls":8},41,")",")",")",")",")"]
[{"$nulls":8},42,"*","*","*","*","*"]
[{"$nulls":8},43,"+","+","+","+","+"]
[{"$nulls":8},44,",",",",",",",",","]
[{"$nulls":8},45,"-","-","-","-","-"]
[{"$nulls":8},46,".",".",".",".","."]
[{"$nulls":8},47,"/","/","/","/","/"]
[{"$nulls":8},48,"0","0","0","0","0"]
[{"$nulls":8},49,"1","1","1","1","1"]
[{"$nulls":8},50,"2","2","2","2","2"]
[{"$nulls":8},51,"3","3","3","3","3"]
[{"$nulls":8},52,"4","4","4","4","4"]
[{"$nulls":8},53,"5","5","5","5","5"]
[{"$nulls":8},54,"6","6","6","6","6"]
[{"$nulls":8},55,"7","7","7","7","7"]
[{"$nulls":8},56,"8","8","8","8","8"]
[{"$nulls":8},57,"9","9","9","9","9"]
[{"$nulls":8},58,":",":",":",":",":"]
[{"$nulls":8},59,";",";",";",";",";"]
[{"$nulls":8},60,"<","<","<","<","<"]
[{"$nulls":8},61,"=","=","=","=","="]
[{"$nulls":8},62,">",">",">",">",">"]
[{"$nulls":8},63,"?","?","?","?","?"]
[{"$nulls":8},64,"@","@","@","@","@"]
[{"$nulls":8},65,"A","A","A","A","A"]
[{"$nulls":8},66,{"$f":"CHAR(I67)","v":"B"},{"$f":"$J67","v":"B"},"B","B","B"]
[{"$nulls":8},67,"C","C","C","C","C"]
[{"$nulls":8},68,"D","D","D","D","D"]
[{"$nulls":8},69,"E","E","E","E","E"]
[{"$nulls":8},70,"F","F","F","F","F"]
[{"$nulls":8},71,"G","G","G","G","G"]
[{"$nulls":8},72,"H","H","H","H","H"]
[{"$nulls":8},73,"I","I","I","I","I"]
[{"$nulls":8},74,"J","J","J","J","J"]
[{"$nulls":8},75,"K","K","K","K","K"]
[{"$nulls":8},76,"L","L","L","L","L"]
[{"$nulls":8},77,"M","M","M","M","M"]
[{"$nulls":8},78,"N","N","N","N","N"]
[{"$nulls":8},79,"O","O","O","O","O"]
[{"$nulls":8},80,"P","P","P","P","P"]
[{"$nulls":8},81,"Q","Q","Q","Q","Q"]
[{"$nulls":8},82,"R","R","R","R","R"]
[{"$nulls":8},83,"S","S","S","S","S"]
[{"$nulls":8},84,"T","T","T","T","T"]
[{"$nulls":8},85,"U","U","U","U","U"]
[{"$nulls":8},86,"V","V","V","V","V"]
[{"$nulls":8},87,"W","W","W","W","W"]
[{"$nulls":8},88,"X","X","X","X","X"]
[{"$nulls":8},89,"Y","Y","Y","Y","Y"]
[{"$nulls":8},90,"Z","Z","Z","Z","Z"]
[{"$nulls":8},91,"[","[","[","[","["]
[{"$nulls":8},92,"\\","\\","\\","\\","\\"]
[{"$nulls":8},93,"]","]","]","]","]"]
[{"$nulls":8},94,"^","^","^","^","^"]
[{"$nulls":8},95,"_","_","_","_","_"]
[{"$nulls":8},96,"`","`","`","`","`"]
[{"$nulls":8},97,"a","a","a","a","a"]
[{"$nulls":8},98,"b",{"$f":"$J99","v":"b"},"b","b","b"]
[{"$nulls":8},99,"c","c","c","c","c"]
[{"$nulls":8},100,"d","d","d","d","d"]
[{"$nulls":8},101,"e","e","e","e","e"]
[{"$nulls":8},102,"f","f","f","f","f"]
[{"$nulls":8},103,"g","g","g","g","g"]
[{"$nulls":8},104,"h","h","h","h","h"]
[{"$nulls":8},105,"i","i","i","i","i"]
[{"$nulls":8},106,"j","j","j","j","j"]
[{"$nulls":8},107,"k","k","k","k","k"]
[{"$nulls":8},108,"l","l","l","l","l"]
[{"$nulls":8},109,"m","m","m","m","m"]
[{"$nulls":8},110,"n","n","n","n","n"]
[{"$nulls":8},111,"o","o","o","o","o"]
[{"$nulls":8},112,"p","p","p","p","p"]
[{"$nulls":8},113,"q","q","q","q","q"]
[{"$nulls":8},114,"r","r","r","r","r"]
[{"$nulls":8},115,"s","s","s","s","s"]
[{"$nulls":8},116,"t","t","t","t","t"]
[{"$nulls":8},117,"u","u","u","u","u"]
[{"$nulls":8},118,"v","v","v","v","v"]
[{"$nulls":8},119,"w","w","w","w","w"]
[{"$nulls":8},120,"x","x","x","x","x"]
[{"$nulls":8},121,"y","y","y","y","y"]
[{"$nulls":8},122,"z","z","z","z","z"]
[{"$nulls":8},123,"{","{","{","{","{"]
[{"$nulls":8},124,"|","|","|","|","|"]
[{"$nulls":8},125,"}","}","}","}","}"]
[{"$nulls":8},126,"~","~","~","~","~"]
[{"$nulls":8},127,"\u007f","\u007f","\u007f","\u007f","\u007f"]
[{"$nulls":8},128,"€","€","€","€","€"]
[{"$nulls":8},129,"\u0081","\u0081","\u0081","\u0081","\u0081"]
[{"$nulls":8},130,{"$f":"CHAR(I131)","v":"‚"},{"$f":"$J131","v":"‚"},"‚","‚","‚"]
[{"$nulls":8},131,"ƒ","ƒ","ƒ","ƒ","ƒ"]
[{"$nulls":8},132,"„","„","„","„","„"]
[{"$nulls":8},133,"…","…","…","…","…"]
[{"$nulls":8},134,"†","†","†","†","†"]
[{"$nulls":8},135,"‡","‡","‡","‡","‡"]
[{"$nulls":8},136,"ˆ","ˆ","ˆ","ˆ","ˆ"]
[{"$nulls":8},137,"‰","‰","‰","‰","‰"]
[{"$nulls":8},138,"Š","Š","Š","Š","Š"]
[{"$nulls":8},139,"‹","‹","‹","‹","‹"]
[{"$nulls":8},140,"Œ","Œ","Œ","Œ","Œ"]
[{"$nulls":8},141,"\u008d","\u008d","\u008d","\u008d","\u008d"]
[{"$nulls":8},142,"Ž","Ž","Ž","Ž","Ž"]
[{"$nulls":8},143,"\u008f","\u008f","\u008f","\u008f","\u008f"]
[{"$nulls":8},144,"\u0090","\u0090","\u0090","\u0090","\u0090"]
[{"$nulls":8},145,"‘","‘","‘","‘","‘"]
[{"$nulls":8},146,"’","’","’","’","’"]
[{"$nulls":8},147,"“","“","“","“","“"]
[{"$nulls":8},148,"”","”","”","”","”"]
[{"$nulls":8},149,"•","•","•","•","•"]
[{"$nulls":8},150,"–","–","–","–","–"]
[{"$nulls":8},151,"—","—","—","—","—"]
[{"$nulls":8},152,"˜","˜","˜","˜","˜"]
[{"$nulls":8},153,"™","™","™","™","™"]
[{"$nulls":8},154,"š","š","š","š","š"]
[{"$nulls":8},155,"›","›","›","›","›"]
[{"$nulls":8},156,"œ","œ","œ","œ","œ"]
[{"$nulls":8},157,"\u009d","\u009d","\u009d","\u009d","\u009d"]
[{"$nulls":8},158,"ž","ž","ž","ž","ž"]
[{"$nulls":8},159,"Ÿ","Ÿ","Ÿ","Ÿ","Ÿ"]
[{"$nulls":8},160," "," "," "," "," "]
[{"$nulls":8},161,"¡","¡","¡","¡","¡"]
[{"$nulls":8},162,"¢",{"$f":"$J163","v":"¢"},"¢","¢","¢"]
[{"$nulls":8},163,"£","£","£","£","£"]
[{"$nulls":8},164,"¤","¤","¤","¤","¤"]
[{"$nulls":8},165,"¥","¥","¥","¥","¥"]
[{"$nulls":8},166,"¦","¦","¦","¦","¦"]
[{"$nulls":8},167,"§","§","§","§","§"]
[{"$nulls":8},168,"¨","¨","¨","¨","¨"]
[{"$nulls":8},169,"©","©","©","©","©"]
[{"$nulls":8},170,"ª","ª","ª","ª","ª"]
[{"$nulls":8},171,"«","«","«","«","«"]
[{"$nulls":8},172,"¬","¬","¬","¬","¬"]
[{"$nulls":8},173,"­","­","­","­","­"]
[{"$nulls":8},174,"®","®","®","®","®"]
[{"$nulls":8},175,"¯","¯","¯","¯","¯"]
[{"$nulls":8},176,"°","°","°","°","°"]
[{"$nulls":8},177,"±","±","±","±","±"]
[{"$nulls":8},178,"²","²","²","²","²"]
[{"$nulls":8},179,"³","³","³","³","³"]
[{"$nulls":8},180,"´","´","´","´","´"]
[{"$nulls":8},181,"µ","µ","µ","µ","µ"]
[{"$nulls":8},182,"¶","¶","¶","¶","¶"]
[{"$nulls":8},183,"·","·","·","·","·"]
[{"$nulls":8},184,"¸","¸","¸","¸","¸"]
[{"$nulls":8},185,"¹","¹","¹","¹","¹"]
[{"$nulls":8},186,"º","º","º","º","º"]
[{"$nulls":8},187,"»","»","»","»","»"]
[{"$nulls":8},188,"¼","¼","¼","¼","¼"]
[{"$nulls":8},189,"½","½","½","½","½"]
[{"$nulls":8},190,"¾","¾","¾","¾","¾"]
[{"$nulls":8},191,"¿","¿","¿","¿","¿"]
[{"$nulls":8},192,"À","À","À","À","À"]
[{"$nulls":8},193,"Á","Á","Á","Á","Á"]
[{"$nulls":8},194,{"$f":"CHAR(I195)","v":"Â"},{"$f":"$J195","v":"Â"},"Â","Â","Â"]
[{"$nulls":8},195,"Ã","Ã","Ã","Ã","Ã"]
[{"$nulls":8},196,"Ä","Ä","Ä","Ä","Ä"]
[{"$nulls":8},197,"Å","Å","Å","Å","Å"]
[{"$nulls":8},198,"Æ","Æ","Æ","Æ","Æ"]
[{"$nulls":8},199,"Ç","Ç","Ç","Ç","Ç"]
[{"$nulls":8},200,"È","È","È","È","È"]
[{"$nulls":8},201,"É","É","É","É","É"]
[{"$nulls":8},202,"Ê","Ê","Ê","Ê","Ê"]
[{"$nulls":8},203,"Ë","Ë","Ë","Ë","Ë"]
[{"$nulls":8},204,"Ì","Ì","Ì","Ì","Ì"]
[{"$nulls":8},205,"Í","Í","Í","Í","Í"]
[{"$nulls":8},206,"Î","Î","Î","Î","Î"]
[{"$nulls":8},207,"Ï","Ï","Ï","Ï","Ï"]
[{"$nulls":8},208,"Ð","Ð","Ð","Ð","Ð"]
[{"$nulls":8},209,"Ñ","Ñ","Ñ","Ñ","Ñ"]
[{"$nulls":8},210,"Ò","Ò","Ò","Ò","Ò"]
[{"$nulls":8},211,"Ó","Ó","Ó","Ó","Ó"]
[{"$nulls":8},212,"Ô","Ô","Ô","Ô","Ô"]
[{"$nulls":8},213,"Õ","Õ","Õ","Õ","Õ"]
[{"$nulls":8},214,"Ö","Ö","Ö","Ö","Ö"]
[{"$nulls":8},215,"×","×","×","×","×"]
[{"$nulls":8},216,"Ø","Ø","Ø","Ø","Ø"]
[{"$nulls":8},217,"Ù","Ù","Ù","Ù","Ù"]
[{"$nulls":8},218,"Ú","Ú","Ú","Ú","Ú"]
[{"$nulls":8},219,"Û","Û","Û","Û","Û"]
[{"$nulls":8},220,"Ü","Ü","Ü","Ü","Ü"]
[{"$nulls":8},221,"Ý","Ý","Ý","Ý","Ý"]
[{"$nulls":8},222,"Þ","Þ","Þ","Þ","Þ"]
[{"$nulls":8},223,"ß","ß","ß","ß","ß"]
[{"$nulls":8},224,"à","à","à","à","à"]
[{"$nulls":8},225,"á","á","á","á","á"]
[{"$nulls":8},226,"â",{"$f":"$J227","v":"â"},"â","â","â"]
[{"$nulls":8},227,"ã","ã","ã","ã","ã"]
[{"$nulls":8},228,"ä","ä","ä","ä","ä"]
[{"$nulls":8},229,"å","å","å","å","å"]
[{"$nulls":8},230,"æ","æ","æ","æ","æ"]
[{"$nulls":8},231,"ç","ç","ç","ç","ç"]
[{"$nulls":8},232,"è","è","è","è","è"]
[{"$nulls":8},233,"é","é","é","é","é"]
[{"$nulls":8},234,"ê","ê","ê","ê","ê"]
[{"$nulls":8},235,"ë","ë","ë","ë","ë"]
[{"$nulls":8},236,"ì","ì","ì","ì","ì"]
[{"$nulls":8},237,"í","í","í","í","í"]
[{"$nulls":8},238,"î","î","î","î","î"]
[{"$nulls":8},239,"ï","ï","ï","ï","ï"]
[{"$nulls":8},240,"ð","ð","ð","ð","ð"]
[{"$nulls":8},241,"ñ","ñ","ñ","ñ","ñ"]
[{"$nulls":8},242,"ò","ò","ò","ò","ò"]
[{"$nulls":8},243,"ó","ó","ó","ó","ó"]
[{"$nulls":8},244,"ô","ô","ô","ô","ô"]
[{"$nulls":8},245,"õ","õ","õ","õ","õ"]
[{"$nulls":8},246,"ö","ö","ö","ö","ö"]
[{"$nulls":8},247,"÷","÷","÷","÷","÷"]
[{"$nulls":8},248,"ø","ø","ø","ø","ø"]
[{"$nulls":8},249,"ù","ù","ù","ù","ù"]
[{"$nulls":8},250,"ú","ú","ú","ú","ú"]
[{"$nulls":8},251,"û","û","û","û","û"]
[{"$nulls":8},252,"ü",{"$f":"$J253","v":"ü"},"ü","ü","ü"]
[{"$nulls":8},253,"ý","ý","ý","ý","ý"]
[{"$nulls":8},254,"þ","þ","þ","þ","þ"]
[{"$nulls":8},255,"ÿ","ÿ","ÿ","ÿ","ÿ"]