{"text_format":"3","workbook":"xlsx","n_sheets":6,"sheets":["Setup","Game","BBlues","BReds","Edit","Lists"],"not_rendered":{"macros":1,"defined_names":3},"read":"whole","date_system":"1900"}

{"sheet":"Setup","index":0,"n_rows":4,"n_cols":2,"rows_kept":4,"merged":[[0,0,0,1]]}
["Conway's Game of Life"]
["Rows",37]
["Columns",37]
["GameMode","Vs CPU"]

{"sheet":"Game","index":1,"n_rows":41,"n_cols":38,"rows_kept":41}
[]
[null,{"$f":"IF(Edit!$A$42=TRUE,Edit!B2,IF(OR(B2=1,B2=2),CHOOSE(MIN(5,BBlues!B2+BReds!B2),0,0,B2,B2,0),IF(BBlues!B2+BReds!B2=3,IF(BBlues!B2>BReds!B2,1,2),0)))","v":0},{"$f":"IF(Edit!$A$42=TRUE,Edit!C2,IF(OR(C2=1,C2=2),CHOOSE(MIN(5,BBlues!C2+BReds!C2),0,0,C2,C2,0),IF(BBlues!C2+BReds!C2=3,IF(BBlues!C2>BReds!C2,1,2),0)))","v":0},{"$f":"IF(Edit!$A$42=TRUE,Edit!D2,IF(OR(D2=1,D2=2),CHOOSE(MIN(5,BBlues!D2+BReds!D2),0,0,D2,D2,0),IF(BBlues!D2+BReds!D2=3,IF(BBlues!D2>BReds!D2,1,2),0)))","v":0},{"$f":"IF(Edit!$A$42=TRUE,Edit!E2,IF(OR(E2=1,E2=2),CHOOSE(MIN(5,BBlues!E2+BReds!E2),0,0,E2,E2,0),IF(BBlues!E2+BReds!E2=3,IF(BBlues!E2>BReds!E2,1,2),0)))","v":0},{"$f":"IF(Edit!$A$42=TRUE,Edit!F2,IF(OR(F2=1,F2=2),CHOOSE(MIN(5,BBlues!F2+BReds!F2),0,0,F2,F2,0),IF(BBlues!F2+BReds!F2=3,IF(BBlues!F2>BReds!F2,1,2),0)))","v":0},{"$f":"IF(Edit!$A$42=TRUE,Edit!G2,IF(OR(G2=1,G2=2),CHOOSE(MIN(5,BBlues!G2+BReds!G2),0,0,G2,G2,0),IF(BBlues!G2+BReds!G2=3,IF(BBlues!G2>BReds!G2,1,2),0)))","v":0},{"$f":"IF(Edit!$A$42=TRUE,Edit!H2,IF(OR(H2=1,H2=2),CHOOSE(MIN(5,BBlues!H2+BReds!H2),0,0,H2,H2,0),IF(BBlues!H2+BReds!H2=3,IF(BBlues!H2>BReds!H2,1,2),0)))","v":0},{"$f":"IF(Edit!$A$42=TRUE,Edit!I2,IF(OR(I2=1,I2=2),CHOOSE(MIN(5,BBlues!I2+BReds!I2),0,0,I2,I2,0),IF(BBlues!I2+BReds!I2=3,IF(BBlues!I2>BReds!I2,1,2),0)))","v":1},{"$f":"IF(Edit!$A$42=TRUE,Edit!J2,IF(OR(J2=1,J2=2),CHOOSE(MIN(5,BBlues!J2+BReds!J2),0,0,J2,J2,0),IF(BBlues!J2+BReds!J2=3,IF(BBlues!J2>BReds!J2,1,2),0)))","v":1},{"$f":"IF(Edit!$A$42=TRUE,Edit!K2,IF(OR(K2=1,K2=2),CHOOSE(MIN(5,BBlues!K2+BReds!K2),0,0,K2,K2,0),IF(BBlues!K2+BReds!K2=3,IF(BBlues!K2>BReds!K2,1,2),0)))","v":0},{"$f":"IF(Edit!$A$42=TRUE,Edit!L2,IF(OR(L2=1,L2=2),CHOOSE(MIN(5,BBlues!L2+BReds!L2),0,0,L2,L2,0),IF(BBlues!L2+BReds!L2=3,IF(BBlues!L2>BReds!L2,1,2),0)))","v":0},{"$f":"IF(Edit!$A$42=TRUE,Edit!M2,IF(OR(M2=1,M2=2),CHOOSE(MIN(5,BBlues!M2+BReds!M2),0,0,M2,M2,0),IF(BBlues!M2+BReds!M2=3,IF(BBlues!M2>BReds!M2,1,2),0)))","v":0},{"$f":"IF(Edit!$A$42=TRUE,Edit!N2,IF(OR(N2=1,N2=2),CHOOSE(MIN(5,BBlues!N2+BReds!N2),0,0,N2,N2,0),IF(BBlues!N2+BReds!N2=3,IF(BBlues!N2>BReds!N2,1,2),0)))","v":0},{"$f":"IF(Edit!$A$42=TRUE,Edit!O2,IF(OR(O2=1,O2=2),CHOOSE(MIN(5,BBlues!O2+BReds!O2),0,0,O2,O2,0),IF(BBlues!O2+BReds!O2=3,IF(BBlues!O2>BReds!O2,1,2),0)))","v":0},{"$f":"IF(Edit!$A$42=TRUE,Edit!P2,IF(OR(P2=1,P2=2),CHOOSE(MIN(5,BBlues!P2+BReds!P2),0,0,P2,P2,0),IF(BBlues!P2+BReds!P2=3,IF(BBlues!P2>BReds!P2,1,2),0)))","v":0},{"$f":"IF(Edit!$A$42=TRUE,Edit!Q2,IF(OR(Q2=1,Q2=2),CHOOSE(MIN(5,BBlues!Q2+BReds!Q2),0,0,Q2,Q2,0),IF(BBlues!Q2+BReds!Q2=3,IF(BBlues!Q2>BReds!Q2,1,2),0)))","v":0},{"$f":"IF(Edit!$A$42=TRUE,Edit!R2,IF(OR(R2=1,R2=2),CHOOSE(MIN(5,BBlues!R2+BReds!R2),0,0,R2,R2,0),IF(BBlues!R2+BReds!R2=3,IF(BBlues!R2>BReds!R2,1,2),0)))","v":0},{"$f":"IF(Edit!$A$42=TRUE,Edit!S2,IF(OR(S2=1,S2=2),CHOOSE(MIN(5,BBlues!S2+BReds!S2),0,0,S2,S2,0),IF(BBlues!S2+BReds!S2=3,IF(BBlues!S2>BReds!S2,1,2),0)))","v":0},{"$f":"IF(Edit!$A$42=TRUE,Edit!T2,IF(OR(T2=1,T2=2),CHOOSE(MIN(5,BBlues!T2+BReds!T2),0,0,T2,T2,0),IF(BBlues!T2+BReds!T2=3,IF(BBlues!T2>BReds!T2,1,2),0)))","v":0},{"$f":"IF(Edit!$A$42=TRUE,Edit!U2,IF(OR(U2=1,U2=2),CHOOSE(MIN(5,BBlues!U2+BReds!U2),0,0,U2,U2,0),IF(BBlues!U2+BReds!U2=3,IF(BBlues!U2>BReds!U2,1,2),0)))","v":0},{"$f":"IF(Edit!$A$42=TRUE,Edit!V2,IF(OR(V2=1,V2=2),CHOOSE(MIN(5,BBlues!V2+BReds!V2),0,0,V2,V2,0),IF(BBlues!V2+BReds!V2=3,IF(BBlues!V2>BReds!V2,1,2),0)))","v":0},{"$f":"IF(Edit!$A$42=TRUE,Edit!W2,IF(OR(W2=1,W2=2),CHOOSE(MIN(5,BBlues!W2+BReds!W2),0,0,W2,W2,0),IF(BBlues!W2+BReds!W2=3,IF(BBlues!W2>BReds!W2,1,2),0)))","v":0},{"$f":"IF(Edit!$A$42=TRUE,Edit!X2,IF(OR(X2=1,X2=2),CHOOSE(MIN(5,BBlues!X2+BReds!X2),0,0,X2,X2,0),IF(BBlues!X2+BReds!X2=3,IF(BBlues!X2>BReds!X2,1,2),0)))","v":0},{"$f":"IF(Edit!$A$42=TRUE,Edit!Y2,IF(OR(Y2=1,Y2=2),CHOOSE(MIN(5,BBlues!Y2+BReds!Y2),0,0,Y2,Y2,0),IF(BBlues!Y2+BReds!Y2=3,IF(BBlues!Y2>BReds!Y2,1,2),0)))","v":0},{"$f":"IF(Edit!$A$42=TRUE,Edit!Z2,IF(OR(Z2=1,Z2=2),CHOOSE(MIN(5,BBlues!Z2+BReds!Z2),0,0,Z2,Z2,0),IF(BBlues!Z2+BReds!Z2=3,IF(BBlues!Z2>BReds!Z2,1,2),0)))","v":0},{"$f":"IF(Edit!$A$42=TRUE,Edit!AA2,IF(OR(AA2=1,AA2=2),CHOOSE(MIN(5,BBlues!AA2+BReds!AA2),0,0,AA2,AA2,0),IF(BBlues!AA2+BReds!AA2=3,IF(BBlues!AA2>BReds!AA2,1,2),0)))","v":0},{"$f":"IF(Edit!$A$42=TRUE,Edit!AB2,IF(OR(AB2=1,AB2=2),CHOOSE(MIN(5,BBlues!AB2+BReds!AB2),0,0,AB2,AB2,0),IF(BBlues!AB2+BReds!AB2=3,IF(BBlues!AB2>BReds!AB2,1,2),0)))","v":0},{"$f":"IF(Edit!$A$42=TRUE,Edit!AC2,IF(OR(AC2=1,AC2=2),CHOOSE(MIN(5,BBlues!AC2+BReds!AC2),0,0,AC2,AC2,0),IF(BBlues!AC2+BReds!AC2=3,IF(BBlues!AC2>BReds!AC2,1,2),0)))","v":0},{"$f":"IF(Edit!$A$42=TRUE,Edit!AD2,IF(OR(AD2=1,AD2=2),CHOOSE(MIN(5,BBlues!AD2+BReds!AD2),0,0,AD2,AD2,0),IF(BBlues!AD2+BReds!AD2=3,IF(BBlues!AD2>BReds!AD2,1,2),0)))","v":0},{"$f":"IF(Edit!$A$42=TRUE,Edit!AE2,IF(OR(AE2=1,AE2=2),CHOOSE(MIN(5,BBlues!AE2+BReds!AE2),0,0,AE2,AE2,0),IF(BBlues!AE2+BReds!AE2=3,IF(BBlues!AE2>BReds!AE2,1,2),0)))","v":0},{"$f":"IF(Edit!$A$42=TRUE,Edit!AF2,IF(OR(AF2=1,AF2=2),CHOOSE(MIN(5,BBlues!AF2+BReds!AF2),0,0,AF2,AF2,0),IF(BBlues!AF2+BReds!AF2=3,IF(BBlues!AF2>BReds!AF2,1,2),0)))","v":0},{"$f":"IF(Edit!$A$42=TRUE,Edit!AG2,IF(OR(AG2=1,AG2=2),CHOOSE(MIN(5,BBlues!AG2+BReds!AG2),0,0,AG2,AG2,0),IF(BBlues!AG2+BReds!AG2=3,IF(BBlues!AG2>BReds!AG2,1,2),0)))","v":0},{"$f":"IF(Edit!$A$42=TRUE,Edit!AH2,IF(OR(AH2=1,AH2=2),CHOOSE(MIN(5,BBlues!AH2+BReds!AH2),0,0,AH2,AH2,0),IF(BBlues!AH2+BReds!AH2=3,IF(BBlues!AH2>BReds!AH2,1,2),0)))","v":0},{"$f":"IF(Edit!$A$42=TRUE,Edit!AI2,IF(OR(AI2=1,AI2=2),CHOOSE(MIN(5,BBlues!AI2+BReds!AI2),0,0,AI2,AI2,0),IF(BBlues!AI2+BReds!AI2=3,IF(BBlues!AI2>BReds!AI2,1,2),0)))","v":0},{"$f":"IF(Edit!$A$42=TRUE,Edit!AJ2,IF(OR(AJ2=1,AJ2=2),CHOOSE(MIN(5,BBlues!AJ2+BReds!AJ2),0,0,AJ2,AJ2,0),IF(BBlues!AJ2+BReds!AJ2=3,IF(BBlues!AJ2>BReds!AJ2,1,2),0)))","v":0},{"$f":"IF(Edit!$A$42=TRUE,Edit!AK2,IF(OR(AK2=1,AK2=2),CHOOSE(MIN(5,BBlues!AK2+BReds!AK2),0,0,AK2,AK2,0),IF(BBlues!AK2+BReds!AK2=3,IF(BBlues!AK2>BReds!AK2,1,2),0)))","v":0},{"$f":"IF(Edit!$A$42=TRUE,Edit!AL2,IF(OR(AL2=1,AL2=2),CHOOSE(MIN(5,BBlues!AL2+BReds!AL2),0,0,AL2,AL2,0),IF(BBlues!AL2+BReds!AL2=3,IF(BBlues!AL2>BReds!AL2,1,2),0)))","v":0}]
[null,{"$f":"IF(Edit!$A$42=TRUE,Edit!B3,IF(OR(B3=1,B3=2),CHOOSE(MIN(5,BBlues!B3+BReds!B3),0,0,B3,B3,0),IF(BBlues!B3+BReds!B3=3,IF(BBlues!B3>BReds!B3,1,2),0)))","v":0},{"$f":"IF(Edit!$A$42=TRUE,Edit!C3,IF(OR(C3=1,C3=2),CHOOSE(MIN(5,BBlues!C3+BReds!C3),0,0,C3,C3,0),IF(BBlues!C3+BReds!C3=3,IF(BBlues!C3>BReds!C3,1,2),0)))","v":0},{"$f":"IF(Edit!$A$42=TRUE,Edit!D3,IF(OR(D3=1,D3=2),CHOOSE(MIN(5,BBlues!D3+BReds!D3),0,0,D3,D3,0),IF(BBlues!D3+BReds!D3=3,IF(BBlues!D3>BReds!D3,1,2),0)))","v":0},{"$f":"IF(Edit!$A$42=TRUE,Edit!E3,IF(OR(E3=1,E3=2),CHOOSE(MIN(5,BBlues!E3+BReds!E3),0,0,E3,E3,0),IF(BBlues!E3+BReds!E3=3,IF(BBlues!E3>BReds!E3,1,2),0)))","v":0},{"$f":"IF(Edit!$A$42=TRUE,Edit!F3,IF(OR(F3=1,F3=2),CHOOSE(MIN(5,BBlues!F3+BReds!F3),0,0,F3,F3,0),IF(BBlues!F3+BReds!F3=3,IF(BBlues!F3>BReds!F3,1,2),0)))","v":0},{"$f":"IF(Edit!$A$42=TRUE,Edit!G3,IF(OR(G3=1,G3=2),CHOOSE(MIN(5,BBlues!G3+BReds!G3),0,0,G3,G3,0),IF(BBlues!G3+BReds!G3=3,IF(BBlues!G3>BReds!G3,1,2),0)))","v":0},{"$f":"IF(Edit!$A$42=TRUE,Edit!H3,IF(OR(H3=1,H3=2),CHOOSE(MIN(5,BBlues!H3+BReds!H3),0,0,H3,H3,0),IF(BBlues!H3+BReds!H3=3,IF(BBlues!H3>BReds!H3,1,2),0)))","v":0},{"$f":"IF(Edit!$A$42=TRUE,Edit!I3,IF(OR(I3=1,I3=2),CHOOSE(MIN(5,BBlues!I3+BReds!I3),0,0,I3,I3,0),IF(BBlues!I3+BReds!I3=3,IF(BBlues!I3>BReds!I3,1,2),0)))","v":2},{"$f":"IF(Edit!$A$42=TRUE,Edit!J3,IF(OR(J3=1,J3=2),CHOOSE(MIN(5,BBlues!J3+BReds!J3),0,0,J3,J3,0),IF(BBlues!J3+BReds!J3=3,IF(BBlues!J3>BReds!J3,1,2),0)))","v":1},{"$f":"IF(Edit!$A$42=TRUE,Edit!K3,IF(OR(K3=1,K3=2),CHOOSE(MIN(5,BBlues!K3+BReds!K3),0,0,K3,K3,0),IF(BBlues!K3+BReds!K3=3,IF(BBlues!K3>BReds!K3,1,2),0)))","v":0},{"$f":"IF(Edit!$A$42=TRUE,Edit!L3,IF(OR(L3=1,L3=2),CHOOSE(MIN(5,BBlues!L3+BReds!L3),0,0,L3,L3,0),IF(BBlues!L3+BReds!L3=3,IF(BBlues!L3>BReds!L3,1,2),0)))","v":0},{"$f":"IF(Edit!$A$42=TRUE,Edit!M3,IF(OR(M3=1,M3=2),CHOOSE(MIN(5,BBlues!M3+BReds!M3),0,0,M3,M3,0),IF(BBlues!M3+BReds!M3=3,IF(BBlues!M3>BReds!M3,1,2),0)))","v":0},{"$f":"IF(Edit!$A$42=TRUE,Edit!N3,IF(OR(N3=1,N3=2),CHOOSE(MIN(5,BBlues!N3+BReds!N3),0,0,N3,N3,0),IF(BBlues!N3+BReds!N3=3,IF(BBlues!N3>BReds!N3,1,2),0)))","v":0},{"$f":"IF(Edit!$A$42=TRUE,Edit!O3,IF(OR(O3=1,O3=2),CHOOSE(MIN(5,BBlues!O3+BReds!O3),0,0,O3,O3,0),IF(BBlues!O3+BReds!O3=3,IF(BBlues!O3>BReds!O3,1,2),0)))","v":0},{"$f":"IF(Edit!$A$42=TRUE,Edit!P3,IF(OR(P3=1,P3=2),CHOOSE(MIN(5,BBlues!P3+BReds!P3),0,0,P3,P3,0),IF(BBlues!P3+BReds!P3=3,IF(BBlues!P3>BReds!P3,1,2),0)))","v":0},{"$f":"IF(Edit!$A$42=TRUE,Edit!Q3,IF(OR(Q3=1,Q3=2),CHOOSE(MIN(5,BBlues!Q3+BReds!Q3),0,0,Q3,Q3,0),IF(BBlues!Q3+BReds!Q3=3,IF(BBlues!Q3>BReds!Q3,1,2),0)))","v":0},{"$f":"IF(Edit!$A$42=TRUE,Edit!R3,IF(OR(R3=1,R3=2),CHOOSE(MIN(5,BBlues!R3+BReds!R3),0,0,R3,R3,0),IF(BBlues!R3+BReds!R3=3,IF(BBlues!R3>BReds!R3,1,2),0)))","v":0},{"$f":"IF(Edit!$A$42=TRUE,Edit!S3,IF(OR(S3=1,S3=2),CHOOSE(MIN(5,BBlues!S3+BReds!S3),0,0,S3,S3,0),IF(BBlues!S3+BReds!S3=3,IF(BBlues!S3>BReds!S3,1,2),0)))","v":0},{"$f":"IF(Edit!$A$42=TRUE,Edit!T3,IF(OR(T3=1,T3=2),CHOOSE(MIN(5,BBlues!T3+BReds!T3),0,0,T3,T3,0),IF(BBlues!T3+BReds!T3=3,IF(BBlues!T3>BReds!T3,1,2),0)))","v":0},{"$f":"IF(Edit!$A$42=TRUE,Edit!U3,IF(OR(U3=1,U3=2),CHOOSE(MIN(5,BBlues!U3+BReds!U3),0,0,U3,U3,0),IF(BBlues!U3+BReds!U3=3,IF(BBlues!U3>BReds!U3,1,2),0)))","v":0},{"$f":"IF(Edit!$A$42=TRUE,Edit!V3,IF(OR(V3=1,V3=2),CHOOSE(MIN(5,BBlues!V3+BReds!V3),0,0,V3,V3,0),IF(BBlues!V3+BReds!V3=3,IF(BBlues!V3>BReds!V3,1,2),0)))","v":0},{"$f":"IF(Edit!$A$42=TRUE,Edit!W3,IF(OR(W3=1,W3=2),CHOOSE(MIN(5,BBlues!W3+BReds!W3),0,0,W3,W3,0),IF(BBlues!W3+BReds!W3=3,IF(BBlues!W3>BReds!W3,1,2),0)))","v":0},{"$f":"IF(Edit!$A$42=TRUE,Edit!X3,IF(OR(X3=1,X3=2),CHOOSE(MIN(5,BBlues!X3+BReds!X3),0,0,X3,X3,0),IF(BBlues!X3+BReds!X3=3,IF(BBlues!X3>BReds!X3,1,2),0)))","v":0},{"$f":"IF(Edit!$A$42=TRUE,Edit!Y3,IF(OR(Y3=1,Y3=2),CHOOSE(MIN(5,BBlues!Y3+BReds!Y3),0,0,Y3,Y3,0),IF(BBlues!Y3+BReds!Y3=3,IF(BBlues!Y3>BReds!Y3,1,2),0)))","v":0},{"$f":"IF(Edit!$A$42=TRUE,Edit!Z3,IF(OR(Z3=1,Z3=2),CHOOSE(MIN(5,BBlues!Z3+BReds!Z3),0,0,Z3,Z3,0),IF(BBlues!Z3+BReds!Z3=3,IF(BBlues!Z3>BReds!Z3,1,2),0)))","v":0},{"$f":"IF(Edit!$A$42=TRUE,Edit!AA3,IF(OR(AA3=1,AA3=2),CHOOSE(MIN(5,BBlues!AA3+BReds!AA3),0,0,AA3,AA3,0),IF(BBlues!AA3+BReds!AA3=3,IF(BBlues!AA3>BReds!AA3,1,2),0)))","v":0},{"$f":"IF(Edit!$A$42=TRUE,Edit!AB3,IF(OR(AB3=1,AB3=2),CHOOSE(MIN(5,BBlues!AB3+BReds!AB3),0,0,AB3,AB3,0),IF(BBlues!AB3+BReds!AB3=3,IF(BBlues!AB3>BReds!AB3,1,2),0)))","v":0},{"$f":"IF(Edit!$A$42=TRUE,Edit!AC3,IF(OR(AC3=1,AC3=2),CHOOSE(MIN(5,BBlues!AC3+BReds!AC3),0,0,AC3,AC3,0),IF(BBlues!AC3+BReds!AC3=3,IF(BBlues!AC3>BReds!AC3,1,2),0)))","v":0},{"$f":"IF(Edit!$A$42=TRUE,Edit!AD3,IF(OR(AD3=1,AD3=2),CHOOSE(MIN(5,BBlues!AD3+BReds!AD3),0,0,AD3,AD3,0),IF(BBlues!AD3+BReds!AD3=3,IF(BBlues!AD3>BReds!AD3,1,2),0)))","v":0},{"$f":"IF(Edit!$A$42=TRUE,Edit!AE3,IF(OR(AE3=1,AE3=2),CHOOSE(MIN(5,BBlues!AE3+BReds!AE3),0,0,AE3,AE3,0),IF(BBlues!AE3+BReds!AE3=3,IF(BBlues!AE3>BReds!AE3,1,2),0)))","v":0},{"$f":"IF(Edit!$A$42=TRUE,Edit!AF3,IF(OR(AF3=1,AF3=2),CHOOSE(MIN(5,BBlues!AF3+BReds!AF3),0,0,AF3,AF3,0),IF(BBlues!AF3+BReds!AF3=3,IF(BBlues!AF3>BReds!AF3,1,2),0)))","v":0},{"$f":"IF(Edit!$A$42=TRUE,Edit!AG3,IF(OR(AG3=1,AG3=2),CHOOSE(MIN(5,BBlues!AG3+BReds!AG3),0,0,AG3,AG3,0),IF(BBlues!AG3+BReds!AG3=3,IF(BBlues!AG3>BReds!AG3,1,2),0)))","v":0},{"$f":"IF(Edit!$A$42=TRUE,Edit!AH3,IF(OR(AH3=1,AH3=2),CHOOSE(MIN(5,BBlues!AH3+BReds!AH3),0,0,AH3,AH3,0),IF(BBlues!AH3+BReds!AH3=3,IF(BBlues!AH3>BReds!AH3,1,2),0)))","v":0},{"$f":"IF(Edit!$A$42=TRUE,Edit!AI3,IF(OR(AI3=1,AI3=2),CHOOSE(MIN(5,BBlues!AI3+BReds!AI3),0,0,AI3,AI3,0),IF(BBlues!AI3+BReds!AI3=3,IF(BBlues!AI3>BReds!AI3,1,2),0)))","v":0},{"$f":"IF(Edit!$A$42=TRUE,Edit!AJ3,IF(OR(AJ3=1,AJ3=2),CHOOSE(MIN(5,BBlues!AJ3+BReds!AJ3),0,0,AJ3,AJ3,0),IF(BBlues!AJ3+BReds!AJ3=3,IF(BBlues!AJ3>BReds!AJ3,1,2),0)))","v":0},{"$f":"IF(Edit!$A$42=TRUE,Edit!AK3,IF(OR(AK3=1,AK3=2),CHOOSE(MIN(5,BBlues!AK3+BReds!AK3),0,0,AK3,AK3,0),IF(BBlues!AK3+BReds!AK3=3,IF(BBlues!AK3>BReds!AK3,1,2),0)))","v":0},{"$f":"IF(Edit!$A$42=TRUE,Edit!AL3,IF(OR(AL3=1,AL3=2),CHOOSE(MIN(5,BBlues!AL3+BReds!AL3),0,0,AL3,AL3,0),IF(BBlues!AL3+BReds!AL3=3,IF(BBlues!AL3>BReds!AL3,1,2),0)))","v":0}]
[null,{"$f":"IF(Edit!$A$42=TRUE,Edit!B4,IF(OR(B4=1,B4=2),CHOOSE(MIN(5,BBlues!B4+BReds!B4),0,0,B4,B4,0),IF(BBlues!B4+BReds!B4=3,IF(BBlues!B4>BReds!B4,1,2),0)))","v":0},{"$f":"IF(Edit!$A$42=TRUE,Edit!C4,IF(OR(C4=1,C4=2),CHOOSE(MIN(5,BBlues!C4+BReds!C4),0,0,C4,C4,0),IF(BBlues!C4+BReds!C4=3,IF(BBlues!C4>BReds!C4,1,2),0)))","v":0},{"$f":"IF(Edit!$A$42=TRUE,Edit!D4,IF(OR(D4=1,D4=2),CHOOSE(MIN(5,BBlues!D4+BReds!D4),0,0,D4,D4,0),IF(BBlues!D4+BReds!D4=3,IF(BBlues!D4>BReds!D4,1,2),0)))","v":0},{"$f":"IF(Edit!$A$42=TRUE,Edit!E4,IF(OR(E4=1,E4=2),CHOOSE(MIN(5,BBlues!E4+BReds!E4),0,0,E4,E4,0),IF(BBlues!E4+BReds!E4=3,IF(BBlues!E4>BReds!E4,1,2),0)))","v":0},{"$f":"IF(Edit!$A$42=TRUE,Edit!F4,IF(OR(F4=1,F4=2),CHOOSE(MIN(5,BBlues!F4+BReds!F4),0,0,F4,F4,0),IF(BBlues!F4+BReds!F4=3,IF(BBlues!F4>BReds!F4,1,2),0)))","v":0},{"$f":"IF(Edit!$A$42=TRUE,Edit!G4,IF(OR(G4=1,G4=2),CHOOSE(MIN(5,BBlues!G4+BReds!G4),0,0,G4,G4,0),IF(BBlues!G4+BReds!G4=3,IF(BBlues!G4>BReds!G4,1,2),0)))","v":0},{"$f":"IF(Edit!$A$42=TRUE,Edit!H4,IF(OR(H4=1,H4=2),CHOOSE(MIN(5,BBlues!H4+BReds!H4),0,0,H4,H4,0),IF(BBlues!H4+BReds!H4=3,IF(BBlues!H4>BReds!H4,1,2),0)))","v":0},{"$f":"IF(Edit!$A$42=TRUE,Edit!I4,IF(OR(I4=1,I4=2),CHOOSE(MIN(5,BBlues!I4+BReds!I4),0,0,I4,I4,0),IF(BBlues!I4+BReds!I4=3,IF(BBlues!I4>BReds!I4,1,2),0)))","v":0},{"$f":"IF(Edit!$A$42=TRUE,Edit!J4,IF(OR(J4=1,J4=2),CHOOSE(MIN(5,BBlues!J4+BReds!J4),0,0,J4,J4,0),IF(BBlues!J4+BReds!J4=3,IF(BBlues!J4>BReds!J4,1,2),0)))","v":0},{"$f":"IF(Edit!$A$42=TRUE,Edit!K4,IF(OR(K4=1,K4=2),CHOOSE(MIN(5,BBlues!K4+BReds!K4),0,0,K4,K4,0),IF(BBlues!K4+BReds!K4=3,IF(BBlues!K4>BReds!K4,1,2),0)))","v":0},{"$f":"IF(Edit!$A$42=TRUE,Edit!L4,IF(OR(L4=1,L4=2),CHOOSE(MIN(5,BBlues!L4+BReds!L4),0,0,L4,L4,0),IF(BBlues!L4+BReds!L4=3,IF(BBlues!L4>BReds!L4,1,2),0)))","v":0},{"$f":"IF(Edit!$A$42=TRUE,Edit!M4,IF(OR(M4=1,M4=2),CHOOSE(MIN(5,BBlues!M4+BReds!M4),0,0,M4,M4,0),IF(BBlues!M4+BReds!M4=3,IF(BBlues!M4>BReds!M4,1,2),0)))","v":0},{"$f":"IF(Edit!$A$42=TRUE,Edit!N4,IF(OR(N4=1,N4=2),CHOOSE(MIN(5,BBlues!N4+BReds!N4),0,0,N4,N4,0),IF(BBlues!N4+BReds!N4=3,IF(BBlues!N4>BReds!N4,1,2),0)))","v":0},{"$f":"IF(Edit!$A$42=TRUE,Edit!O4,IF(OR(O4=1,O4=2),CHOOSE(MIN(5,BBlues!O4+BReds!O4),0,0,O4,O4,0),IF(BBlues!O4+BReds!O4=3,IF(BBlues!O4>BReds!O4,1,2),0)))","v":0},{"$f":"IF(Edit!$A$42=TRUE,Edit!P4,IF(OR(P4=1,P4=2),CHOOSE(MIN(5,BBlues!P4+BReds!P4),0,0,P4,P4,0),IF(BBlues!P4+BReds!P4=3,IF(BBlues!P4>BReds!P4,1,2),0)))","v":0},{"$f":"IF(Edit!$A$42=TRUE,Edit!Q4,IF(OR(Q4=1,Q4=2),CHOOSE(MIN(5,BBlues!Q4+BReds!Q4),0,0,Q4,Q4,0),IF(BBlues!Q4+BReds!Q4=3,IF(BBlues!Q4>BReds!Q4,1,2),0)))","v":0},{"$f":"IF(Edit!$A$42=TRUE,Edit!R4,IF(OR(R4=1,R4=2),CHOOSE(MIN(5,BBlues!R4+BReds!R4),0,0,R4,R4,0),IF(BBlues!R4+BReds!R4=3,IF(BBlues!R4>BReds!R4,1,2),0)))","v":0},{"$f":"IF(Edit!$A$42=TRUE,Edit!S4,IF(OR(S4=1,S4=2),CHOOSE(MIN(5,BBlues!S4+BReds!S4),0,0,S4,S4,0),IF(BBlues!S4+BReds!S4=3,IF(BBlues!S4>BReds!S4,1,2),0)))","v":0},{"$f":"IF(Edit!$A$42=TRUE,Edit!T4,IF(OR(T4=1,T4=2),CHOOSE(MIN(5,BBlues!T4+BReds!T4),0,0,T4,T4,0),IF(BBlues!T4+BReds!T4=3,IF(BBlues!T4>BReds!T4,1,2),0)))","v":0},{"$f":"IF(Edit!$A$42=TRUE,Edit!U4,IF(OR(U4=1,U4=2),CHOOSE(MIN(5,BBlues!U4+BReds!U4),0,0,U4,U4,0),IF(BBlues!U4+BReds!U4=3,IF(BBlues!U4>BReds!U4,1,2),0)))","v":0},{"$f":"IF(Edit!$A$42=TRUE,Edit!V4,IF(OR(V4=1,V4=2),CHOOSE(MIN(5,BBlues!V4+BReds!V4),0,0,V4,V4,0),IF(BBlues!V4+BReds!V4=3,IF(BBlues!V4>BReds!V4,1,2),0)))","v":0},{"$f":"IF(Edit!$A$42=TRUE,Edit!W4,IF(OR(W4=1,W4=2),CHOOSE(MIN(5,BBlues!W4+BReds!W4),0,0,W4,W4,0),IF(BBlues!W4+BReds!W4=3,IF(BBlues!W4>BReds!W4,1,2),0)))","v":0},{"$f":"IF(Edit!$A$42=TRUE,Edit!X4,IF(OR(X4=1,X4=2),CHOOSE(MIN(5,BBlues!X4+BReds!X4),0,0,X4,X4,0),IF(BBlues!X4+BReds!X4=3,IF(BBlues!X4>BReds!X4,1,2),0)))","v":0},{"$f":"IF(Edit!$A$42=TRUE,Edit!Y4,IF(OR(Y4=1,Y4=2),CHOOSE(MIN(5,BBlues!Y4+BReds!Y4),0,0,Y4,Y4,0),IF(BBlues!Y4+BReds!Y4=3,IF(BBlues!Y4>BReds!Y4,1,2),0)))","v":0},{"$f":"IF(Edit!$A$42=TRUE,Edit!Z4,IF(OR(Z4=1,Z4=2),CHOOSE(MIN(5,BBlues!Z4+BReds!Z4),0,0,Z4,Z4,0),IF(BBlues!Z4+BReds!Z4=3,IF(BBlues!Z4>BReds!Z4,1,2),0)))","v":0},{"$f":"IF(Edit!$A$42=TRUE,Edit!AA4,IF(OR(AA4=1,AA4=2),CHOOSE(MIN(5,BBlues!AA4+BReds!AA4),0,0,AA4,AA4,0),IF(BBlues!AA4+BReds!AA4=3,IF(BBlues!AA4>BReds!AA4,1,2),0)))","v":0},{"$f":"IF(Edit!$A$42=TRUE,Edit!AB4,IF(OR(AB4=1,AB4=2),CHOOSE(MIN(5,BBlues!AB4+BReds!AB4),0,0,AB4,AB4,0),IF(BBlues!AB4+BReds!AB4=3,IF(BBlues!AB4>BReds!AB4,1,2),0)))","v":0},{"$f":"IF(Edit!$A$42=TRUE,Edit!AC4,IF(OR(AC4=1,AC4=2),CHOOSE(MIN(5,BBlues!AC4+BReds!AC4),0,0,AC4,AC4,0),IF(BBlues!AC4+BReds!AC4=3,IF(BBlues!AC4>BReds!AC4,1,2),0)))","v":0},{"$f":"IF(Edit!$A$42=TRUE,Edit!AD4,IF(OR(AD4=1,AD4=2),CHOOSE(MIN(5,BBlues!AD4+BReds!AD4),0,0,AD4,AD4,0),IF(BBlues!AD4+BReds!AD4=3,IF(BBlues!AD4>BReds!AD4,1,2),0)))","v":0},{"$f":"IF(Edit!$A$42=TRUE,Edit!AE4,IF(OR(AE4=1,AE4=2),CHOOSE(MIN(5,BBlues!AE4+BReds!AE4),0,0,AE4,AE4,0),IF(BBlues!AE4+BReds!AE4=3,IF(BBlues!AE4>BReds!AE4,1,2),0)))","v":0},{"$f":"IF(Edit!$A$42=TRUE,Edit!AF4,IF(OR(AF4=1,AF4=2),CHOOSE(MIN(5,BBlues!AF4+BReds!AF4),0,0,AF4,AF4,0),IF(BBlues!AF4+BReds!AF4=3,IF(BBlues!AF4>BReds!AF4,1,2),0)))","v":0},{"$f":"IF(Edit!$A$42=TRUE,Edit!AG4,IF(OR(AG4=1,AG4=2),CHOOSE(MIN(5,BBlues!AG4+BReds!AG4),0,0,AG4,AG4,0),IF(BBlues!AG4+BReds!AG4=3,IF(BBlues!AG4>BReds!AG4,1,2),0)))","v":0},{"$f":"IF(Edit!$A$42=TRUE,Edit!AH4,IF(OR(AH4=1,AH4=2),CHOOSE(MIN(5,BBlues!AH4+BReds!AH4),0,0,AH4,AH4,0),IF(BBlues!AH4+BReds!AH4=3,IF(BBlues!AH4>BReds!AH4,1,2),0)))","v":0},{"$f":"IF(Edit!$A$42=TRUE,Edit!AI4,IF(OR(AI4=1,AI4=2),CHOOSE(MIN(5,BBlues!AI4+BReds!AI4),0,0,AI4,AI4,0),IF(BBlues!AI4+BReds!AI4=3,IF(BBlues!AI4>BReds!AI4,1,2),0)))","v":0},{"$f":"IF(Edit!$A$42=TRUE,Edit!AJ4,IF(OR(AJ4=1,AJ4=2),CHOOSE(MIN(5,BBlues!AJ4+BReds!AJ4),0,0,AJ4,AJ4,0),IF(BBlues!AJ4+BReds!AJ4=3,IF(BBlues!AJ4>BReds!AJ4,1,2),0)))","v":0},{"$f":"IF(Edit!$A$42=TRUE,Edit!AK4,IF(OR(AK4=1,AK4=2),CHOOSE(MIN(5,BBlues!AK4+BReds!AK4),0,0,AK4,AK4,0),IF(BBlues!AK4+BReds!AK4=3,IF(BBlues!AK4>BReds!AK4,1,2),0)))","v":0},{"$f":"IF(Edit!$A$42=TRUE,Edit!AL4,IF(OR(AL4=1,AL4=2),CHOOSE(MIN(5,BBlues!AL4+BReds!AL4),0,0,AL4,AL4,0),IF(BBlues!AL4+BReds!AL4=3,IF(BBlues!AL4>BReds!AL4,1,2),0)))","v":0}]
[null,{"$f":"IF(Edit!$A$42=TRUE,Edit!B5,IF(OR(B5=1,B5=2),CHOOSE(MIN(5,BBlues!B5+BReds!B5),0,0,B5,B5,0),IF(BBlues!B5+BReds!B5=3,IF(BBlues!B5>BReds!B5,1,2),0)))","v":0},{"$f":"IF(Edit!$A$42=TRUE,Edit!C5,IF(OR(C5=1,C5=2),CHOOSE(MIN(5,BBlues!C5+BReds!C5),0,0,C5,C5,0),IF(BBlues!C5+BReds!C5=3,IF(BBlues!C5>BReds!C5,1,2),0)))","v":0},{"$f":"IF(Edit!$A$42=TRUE,Edit!D5,IF(OR(D5=1,D5=2),CHOOSE(MIN(5,BBlues!D5+BReds!D5),0,0,D5,D5,0),IF(BBlues!D5+BReds!D5=3,IF(BBlues!D5>BReds!D5,1,2),0)))","v":0},{"$f":"IF(Edit!$A$42=TRUE,Edit!E5,IF(OR(E5=1,E5=2),CHOOSE(MIN(5,BBlues!E5+BReds!E5),0,0,E5,E5,0),IF(BBlues!E5+BReds!E5=3,IF(BBlues!E5>BReds!E5,1,2),0)))","v":0},{"$f":"IF(Edit!$A$42=TRUE,Edit!F5,IF(OR(F5=1,F5=2),CHOOSE(MIN(5,BBlues!F5+BReds!F5),0,0,F5,F5,0),IF(BBlues!F5+BReds!F5=3,IF(BBlues!F5>BReds!F5,1,2),0)))","v":0},{"$f":"IF(Edit!$A$42=TRUE,Edit!G5,IF(OR(G5=1,G5=2),CHOOSE(MIN(5,BBlues!G5+BReds!G5),0,0,G5,G5,0),IF(BBlues!G5+BReds!G5=3,IF(BBlues!G5>BReds!G5,1,2),0)))","v":0},{"$f":"IF(Edit!$A$42=TRUE,Edit!H5,IF(OR(H5=1,H5=2),CHOOSE(MIN(5,BBlues!H5+BReds!H5),0,0,H5,H5,0),IF(BBlues!H5+BReds!H5=3,IF(BBlues!H5>BReds!H5,1,2),0)))","v":0},{"$f":"IF(Edit!$A$42=TRUE,Edit!I5,IF(OR(I5=1,I5=2),CHOOSE(MIN(5,BBlues!I5+BReds!I5),0,0,I5,I5,0),IF(BBlues!I5+BReds!I5=3,IF(BBlues!I5>BReds!I5,1,2),0)))","v":0},{"$f":"IF(Edit!$A$42=TRUE,Edit!J5,IF(OR(J5=1,J5=2),CHOOSE(MIN(5,BBlues!J5+BReds!J5),0,0,J5,J5,0),IF(BBlues!J5+BReds!J5=3,IF(BBlues!J5>BReds!J5,1,2),0)))","v":0},{"$f":"IF(Edit!$A$42=TRUE,Edit!K5,IF(OR(K5=1,K5=2),CHOOSE(MIN(5,BBlues!K5+BReds!K5),0,0,K5,K5,0),IF(BBlues!K5+BReds!K5=3,IF(BBlues!K5>BReds!K5,1,2),0)))","v":0},{"$f":"IF(Edit!$A$42=TRUE,Edit!L5,IF(OR(L5=1,L5=2),CHOOSE(MIN(5,BBlues!L5+BReds!L5),0,0,L5,L5,0),IF(BBlues!L5+BReds!L5=3,IF(BBlues!L5>BReds!L5,1,2),0)))","v":0},{"$f":"IF(Edit!$A$42=TRUE,Edit!M5,IF(OR(M5=1,M5=2),CHOOSE(MIN(5,BBlues!M5+BReds!M5),0,0,M5,M5,0),IF(BBlues!M5+BReds!M5=3,IF(BBlues!M5>BReds!M5,1,2),0)))","v":0},{"$f":"IF(Edit!$A$42=TRUE,Edit!N5,IF(OR(N5=1,N5=2),CHOOSE(MIN(5,BBlues!N5+BReds!N5),0,0,N5,N5,0),IF(BBlues!N5+BReds!N5=3,IF(BBlues!N5>BReds!N5,1,2),0)))","v":0},{"$f":"IF(Edit!$A$42=TRUE,Edit!O5,IF(OR(O5=1,O5=2),CHOOSE(MIN(5,BBlues!O5+BReds!O5),0,0,O5,O5,0),IF(BBlues!O5+BReds!O5=3,IF(BBlues!O5>BReds!O5,1,2),0)))","v":0},{"$f":"IF(Edit!$A$42=TRUE,Edit!P5,IF(OR(P5=1,P5=2),CHOOSE(MIN(5,BBlues!P5+BReds!P5),0,0,P5,P5,0),IF(BBlues!P5+BReds!P5=3,IF(BBlues!P5>BReds!P5,1,2),0)))","v":0},{"$f":"IF(Edit!$A$42=TRUE,Edit!Q5,IF(OR(Q5=1,Q5=2),CHOOSE(MIN(5,BBlues!Q5+BReds!Q5),0,0,Q5,Q5,0),IF(BBlues!Q5+BReds!Q5=3,IF(BBlues!Q5>BReds!Q5,1,2),0)))","v":0},{"$f":"IF(Edit!$A$42=TRUE,Edit!R5,IF(OR(R5=1,R5=2),CHOOSE(MIN(5,BBlues!R5+BReds!R5),0,0,R5,R5,0),IF(BBlues!R5+BReds!R5=3,IF(BBlues!R5>BReds!R5,1,2),0)))","v":0},{"$f":"IF(Edit!$A$42=TRUE,Edit!S5,IF(OR(S5=1,S5=2),CHOOSE(MIN(5,BBlues!S5+BReds!S5),0,0,S5,S5,0),IF(BBlues!S5+BReds!S5=3,IF(BBlues!S5>BReds!S5,1,2),0)))","v":0},{"$f":"IF(Edit!$A$42=TRUE,Edit!T5,IF(OR(T5=1,T5=2),CHOOSE(MIN(5,BBlues!T5+BReds!T5),0,0,T5,T5,0),IF(BBlues!T5+BReds!T5=3,IF(BBlues!T5>BReds!T5,1,2),0)))","v":0},{"$f":"IF(Edit!$A$42=TRUE,Edit!U5,IF(OR(U5=1,U5=2),CHOOSE(MIN(5,BBlues!U5+BReds!U5),0,0,U5,U5,0),IF(BBlues!U5+BReds!U5=3,IF(BBlues!U5>BReds!U5,1,2),0)))","v":0},{"$f":"IF(Edit!$A$42=TRUE,Edit!V5,IF(OR(V5=1,V5=2),CHOOSE(MIN(5,BBlues!V5+BReds!V5),0,0,V5,V5,0),IF(BBlues!V5+BReds!V5=3,IF(BBlues!V5>BReds!V5,1,2),0)))","v":0},{"$f":"IF(Edit!$A$42=TRUE,Edit!W5,IF(OR(W5=1,W5=2),CHOOSE(MIN(5,BBlues!W5+BReds!W5),0,0,W5,W5,0),IF(BBlues!W5+BReds!W5=3,IF(BBlues!W5>BReds!W5,1,2),0)))","v":0},{"$f":"IF(Edit!$A$42=TRUE,Edit!X5,IF(OR(X5=1,X5=2),CHOOSE(MIN(5,BBlues!X5+BReds!X5),0,0,X5,X5,0),IF(BBlues!X5+BReds!X5=3,IF(BBlues!X5>BReds!X5,1,2),0)))","v":0},{"$f":"IF(Edit!$A$42=TRUE,Edit!Y5,IF(OR(Y5=1,Y5=2),CHOOSE(MIN(5,BBlues!Y5+BReds!Y5),0,0,Y5,Y5,0),IF(BBlues!Y5+BReds!Y5=3,IF(BBlues!Y5>BReds!Y5,1,2),0)))","v":1},{"$f":"IF(Edit!$A$42=TRUE,Edit!Z5,IF(OR(Z5=1,Z5=2),CHOOSE(MIN(5,BBlues!Z5+BReds!Z5),0,0,Z5,Z5,0),IF(BBlues!Z5+BReds!Z5=3,IF(BBlues!Z5>BReds!Z5,1,2),0)))","v":1},{"$f":"IF(Edit!$A$42=TRUE,Edit!AA5,IF(OR(AA5=1,AA5=2),CHOOSE(MIN(5,BBlues!AA5+BReds!AA5),0,0,AA5,AA5,0),IF(BBlues!AA5+BReds!AA5=3,IF(BBlues!AA5>BReds!AA5,1,2),0)))","v":0},{"$f":"IF(Edit!$A$42=TRUE,Edit!AB5,IF(OR(AB5=1,AB5=2),CHOOSE(MIN(5,BBlues!AB5+BReds!AB5),0,0,AB5,AB5,0),IF(BBlues!AB5+BReds!AB5=3,IF(BBlues!AB5>BReds!AB5,1,2),0)))","v":0},{"$f":"IF(Edit!$A$42=TRUE,Edit!AC5,IF(OR(AC5=1,AC5=2),CHOOSE(MIN(5,BBlues!AC5+BReds!AC5),0,0,AC5,AC5,0),IF(BBlues!AC5+BReds!AC5=3,IF(BBlues!AC5>BReds!AC5,1,2),0)))","v":0},{"$f":"IF(Edit!$A$42=TRUE,Edit!AD5,IF(OR(AD5=1,AD5=2),CHOOSE(MIN(5,BBlues!AD5+BReds!AD5),0,0,AD5,AD5,0),IF(BBlues!AD5+BReds!AD5=3,IF(BBlues!AD5>BReds!AD5,1,2),0)))","v":0},{"$f":"IF(Edit!$A$42=TRUE,Edit!AE5,IF(OR(AE5=1,AE5=2),CHOOSE(MIN(5,BBlues!AE5+BReds!AE5),0,0,AE5,AE5,0),IF(BBlues!AE5+BReds!AE5=3,IF(BBlues!AE5>BReds!AE5,1,2),0)))","v":0},{"$f":"IF(Edit!$A$42=TRUE,Edit!AF5,IF(OR(AF5=1,AF5=2),CHOOSE(MIN(5,BBlues!AF5+BReds!AF5),0,0,AF5,AF5,0),IF(BBlues!AF5+BReds!AF5=3,IF(BBlues!AF5>BReds!AF5,1,2),0)))","v":0},{"$f":"IF(Edit!$A$42=TRUE,Edit!AG5,IF(OR(AG5=1,AG5=2),CHOOSE(MIN(5,BBlues!AG5+BReds!AG5),0,0,AG5,AG5,0),IF(BBlues!AG5+BReds!AG5=3,IF(BBlues!AG5>BReds!AG5,1,2),0)))","v":0},{"$f":"IF(Edit!$A$42=TRUE,Edit!AH5,IF(OR(AH5=1,AH5=2),CHOOSE(MIN(5,BBlues!AH5+BReds!AH5),0,0,AH5,AH5,0),IF(BBlues!AH5+BReds!AH5=3,IF(BBlues!AH5>BReds!AH5,1,2),0)))","v":0},{"$f":"IF(Edit!$A$42=TRUE,Edit!AI5,IF(OR(AI5=1,AI5=2),CHOOSE(MIN(5,BBlues!AI5+BReds!AI5),0,0,AI5,AI5,0),IF(BBlues!AI5+BReds!AI5=3,IF(BBlues!AI5>BReds!AI5,1,2),0)))","v":0},{"$f":"IF(Edit!$A$42=TRUE,Edit!AJ5,IF(OR(AJ5=1,AJ5=2),CHOOSE(MIN(5,BBlues!AJ5+BReds!AJ5),0,0,AJ5,AJ5,0),IF(BBlues!AJ5+BReds!AJ5=3,IF(BBlues!AJ5>BReds!AJ5,1,2),0)))","v":0},{"$f":"IF(Edit!$A$42=TRUE,Edit!AK5,IF(OR(AK5=1,AK5=2),CHOOSE(MIN(5,BBlues!AK5+BReds!AK5),0,0,AK5,AK5,0),IF(BBlues!AK5+BReds!AK5=3,IF(BBlues!AK5>BReds!AK5,1,2),0)))","v":0},{"$f":"IF(Edit!$A$42=TRUE,Edit!AL5,IF(OR(AL5=1,AL5=2),CHOOSE(MIN(5,BBlues!AL5+BReds!AL5),0,0,AL5,AL5,0),IF(BBlues!AL5+BReds!AL5=3,IF(BBlues!AL5>BReds!AL5,1,2),0)))","v":0}]
[null,{"$f":"IF(Edit!$A$42=TRUE,Edit!B6,IF(OR(B6=1,B6=2),CHOOSE(MIN(5,BBlues!B6+BReds!B6),0,0,B6,B6,0),IF(BBlues!B6+BReds!B6=3,IF(BBlues!B6>BReds!B6,1,2),0)))","v":0},{"$f":"IF(Edit!$A$42=TRUE,Edit!C6,IF(OR(C6=1,C6=2),CHOOSE(MIN(5,BBlues!C6+BReds!C6),0,0,C6,C6,0),IF(BBlues!C6+BReds!C6=3,IF(BBlues!C6>BReds!C6,1,2),0)))","v":0},{"$f":"IF(Edit!$A$42=TRUE,Edit!D6,IF(OR(D6=1,D6=2),CHOOSE(MIN(5,BBlues!D6+BReds!D6),0,0,D6,D6,0),IF(BBlues!D6+BReds!D6=3,IF(BBlues!D6>BReds!D6,1,2),0)))","v":0},{"$f":"IF(Edit!$A$42=TRUE,Edit!E6,IF(OR(E6=1,E6=2),CHOOSE(MIN(5,BBlues!E6+BReds!E6),0,0,E6,E6,0),IF(BBlues!E6+BReds!E6=3,IF(BBlues!E6>BReds!E6,1,2),0)))","v":1},{"$f":"IF(Edit!$A$42=TRUE,Edit!F6,IF(OR(F6=1,F6=2),CHOOSE(MIN(5,BBlues!F6+BReds!F6),0,0,F6,F6,0),IF(BBlues!F6+BReds!F6=3,IF(BBlues!F6>BReds!F6,1,2),0)))","v":0},{"$f":"IF(Edit!$A$42=TRUE,Edit!G6,IF(OR(G6=1,G6=2),CHOOSE(MIN(5,BBlues!G6+BReds!G6),0,0,G6,G6,0),IF(BBlues!G6+BReds!G6=3,IF(BBlues!G6>BReds!G6,1,2),0)))","v":0},{"$f":"IF(Edit!$A$42=TRUE,Edit!H6,IF(OR(H6=1,H6=2),CHOOSE(MIN(5,BBlues!H6+BReds!H6),0,0,H6,H6,0),IF(BBlues!H6+BReds!H6=3,IF(BBlues!H6>BReds!H6,1,2),0)))","v":0},{"$f":"IF(Edit!$A$42=TRUE,Edit!I6,IF(OR(I6=1,I6=2),CHOOSE(MIN(5,BBlues!I6+BReds!I6),0,0,I6,I6,0),IF(BBlues!I6+BReds!I6=3,IF(BBlues!I6>BReds!I6,1,2),0)))","v":0},{"$f":"IF(Edit!$A$42=TRUE,Edit!J6,IF(OR(J6=1,J6=2),CHOOSE(MIN(5,BBlues!J6+BReds!J6),0,0,J6,J6,0),IF(BBlues!J6+BReds!J6=3,IF(BBlues!J6>BReds!J6,1,2),0)))","v":0},{"$f":"IF(Edit!$A$42=TRUE,Edit!K6,IF(OR(K6=1,K6=2),CHOOSE(MIN(5,BBlues!K6+BReds!K6),0,0,K6,K6,0),IF(BBlues!K6+BReds!K6=3,IF(BBlues!K6>BReds!K6,1,2),0)))","v":0},{"$f":"IF(Edit!$A$42=TRUE,Edit!L6,IF(OR(L6=1,L6=2),CHOOSE(MIN(5,BBlues!L6+BReds!L6),0,0,L6,L6,0),IF(BBlues!L6+BReds!L6=3,IF(BBlues!L6>BReds!L6,1,2),0)))","v":0},{"$f":"IF(Edit!$A$42=TRUE,Edit!M6,IF(OR(M6=1,M6=2),CHOOSE(MIN(5,BBlues!M6+BReds!M6),0,0,M6,M6,0),IF(BBlues!M6+BReds!M6=3,IF(BBlues!M6>BReds!M6,1,2),0)))","v":0},{"$f":"IF(Edit!$A$42=TRUE,Edit!N6,IF(OR(N6=1,N6=2),CHOOSE(MIN(5,BBlues!N6+BReds!N6),0,0,N6,N6,0),IF(BBlues!N6+BReds!N6=3,IF(BBlues!N6>BReds!N6,1,2),0)))","v":0},{"$f":"IF(Edit!$A$42=TRUE,Edit!O6,IF(OR(O6=1,O6=2),CHOOSE(MIN(5,BBlues!O6+BReds!O6),0,0,O6,O6,0),IF(BBlues!O6+BReds!O6=3,IF(BBlues!O6>BReds!O6,1,2),0)))","v":0},{"$f":"IF(Edit!$A$42=TRUE,Edit!P6,IF(OR(P6=1,P6=2),CHOOSE(MIN(5,BBlues!P6+BReds!P6),0,0,P6,P6,0),IF(BBlues!P6+BReds!P6=3,IF(BBlues!P6>BReds!P6,1,2),0)))","v":0},{"$f":"IF(Edit!$A$42=TRUE,Edit!Q6,IF(OR(Q6=1,Q6=2),CHOOSE(MIN(5,BBlues!Q6+BReds!Q6),0,0,Q6,Q6,0),IF(BBlues!Q6+BReds!Q6=3,IF(BBlues!Q6>BReds!Q6,1,2),0)))","v":0},{"$f":"IF(Edit!$A$42=TRUE,Edit!R6,IF(OR(R6=1,R6=2),CHOOSE(MIN(5,BBlues!R6+BReds!R6),0,0,R6,R6,0),IF(BBlues!R6+BReds!R6=3,IF(BBlues!R6>BReds!R6,1,2),0)))","v":0},{"$f":"IF(Edit!$A$42=TRUE,Edit!S6,IF(OR(S6=1,S6=2),CHOOSE(MIN(5,BBlues!S6+BReds!S6),0,0,S6,S6,0),IF(BBlues!S6+BReds!S6=3,IF(BBlues!S6>BReds!S6,1,2),0)))","v":0},{"$f":"IF(Edit!$A$42=TRUE,Edit!T6,IF(OR(T6=1,T6=2),CHOOSE(MIN(5,BBlues!T6+BReds!T6),0,0,T6,T6,0),IF(BBlues!T6+BReds!T6=3,IF(BBlues!T6>BReds!T6,1,2),0)))","v":0},{"$f":"IF(Edit!$A$42=TRUE,Edit!U6,IF(OR(U6=1,U6=2),CHOOSE(MIN(5,BBlues!U6+BReds!U6),0,0,U6,U6,0),IF(BBlues!U6+BReds!U6=3,IF(BBlues!U6>BReds!U6,1,2),0)))","v":0},{"$f":"IF(Edit!$A$42=TRUE,Edit!V6,IF(OR(V6=1,V6=2),CHOOSE(MIN(5,BBlues!V6+BReds!V6),0,0,V6,V6,0),IF(BBlues!V6+BReds!V6=3,IF(BBlues!V6>BReds!V6,1,2),0)))","v":0},{"$f":"IF(Edit!$A$42=TRUE,Edit!W6,IF(OR(W6=1,W6=2),CHOOSE(MIN(5,BBlues!W6+BReds!W6),0,0,W6,W6,0),IF(BBlues!W6+BReds!W6=3,IF(BBlues!W6>BReds!W6,1,2),0)))","v":0},{"$f":"IF(Edit!$A$42=TRUE,Edit!X6,IF(OR(X6=1,X6=2),CHOOSE(MIN(5,BBlues!X6+BReds!X6),0,0,X6,X6,0),IF(BBlues!X6+BReds!X6=3,IF(BBlues!X6>BReds!X6,1,2),0)))","v":1},{"$f":"IF(Edit!$A$42=TRUE,Edit!Y6,IF(OR(Y6=1,Y6=2),CHOOSE(MIN(5,BBlues!Y6+BReds!Y6),0,0,Y6,Y6,0),IF(BBlues!Y6+BReds!Y6=3,IF(BBlues!Y6>BReds!Y6,1,2),0)))","v":0},{"$f":"IF(Edit!$A$42=TRUE,Edit!Z6,IF(OR(Z6=1,Z6=2),CHOOSE(MIN(5,BBlues!Z6+BReds!Z6),0,0,Z6,Z6,0),IF(BBlues!Z6+BReds!Z6=3,IF(BBlues!Z6>BReds!Z6,1,2),0)))","v":0},{"$f":"IF(Edit!$A$42=TRUE,Edit!AA6,IF(OR(AA6=1,AA6=2),CHOOSE(MIN(5,BBlues!AA6+BReds!AA6),0,0,AA6,AA6,0),IF(BBlues!AA6+BReds!AA6=3,IF(BBlues!AA6>BReds!AA6,1,2),0)))","v":1},{"$f":"IF(Edit!$A$42=TRUE,Edit!AB6,IF(OR(AB6=1,AB6=2),CHOOSE(MIN(5,BBlues!AB6+BReds!AB6),0,0,AB6,AB6,0),IF(BBlues!AB6+BReds!AB6=3,IF(BBlues!AB6>BReds!AB6,1,2),0)))","v":0},{"$f":"IF(Edit!$A$42=TRUE,Edit!AC6,IF(OR(AC6=1,AC6=2),CHOOSE(MIN(5,BBlues!AC6+BReds!AC6),0,0,AC6,AC6,0),IF(BBlues!AC6+BReds!AC6=3,IF(BBlues!AC6>BReds!AC6,1,2),0)))","v":0},{"$f":"IF(Edit!$A$42=TRUE,Edit!AD6,IF(OR(AD6=1,AD6=2),CHOOSE(MIN(5,BBlues!AD6+BReds!AD6),0,0,AD6,AD6,0),IF(BBlues!AD6+BReds!AD6=3,IF(BBlues!AD6>BReds!AD6,1,2),0)))","v":0},{"$f":"IF(Edit!$A$42=TRUE,Edit!AE6,IF(OR(AE6=1,AE6=2),CHOOSE(MIN(5,BBlues!AE6+BReds!AE6),0,0,AE6,AE6,0),IF(BBlues!AE6+BReds!AE6=3,IF(BBlues!AE6>BReds!AE6,1,2),0)))","v":0},{"$f":"IF(Edit!$A$42=TRUE,Edit!AF6,IF(OR(AF6=1,AF6=2),CHOOSE(MIN(5,BBlues!AF6+BReds!AF6),0,0,AF6,AF6,0),IF(BBlues!AF6+BReds!AF6=3,IF(BBlues!AF6>BReds!AF6,1,2),0)))","v":0},{"$f":"IF(Edit!$A$42=TRUE,Edit!AG6,IF(OR(AG6=1,AG6=2),CHOOSE(MIN(5,BBlues!AG6+BReds!AG6),0,0,AG6,AG6,0),IF(BBlues!AG6+BReds!AG6=3,IF(BBlues!AG6>BReds!AG6,1,2),0)))","v":0},{"$f":"IF(Edit!$A$42=TRUE,Edit!AH6,IF(OR(AH6=1,AH6=2),CHOOSE(MIN(5,BBlues!AH6+BReds!AH6),0,0,AH6,AH6,0),IF(BBlues!AH6+BReds!AH6=3,IF(BBlues!AH6>BReds!AH6,1,2),0)))","v":0},{"$f":"IF(Edit!$A$42=TRUE,Edit!AI6,IF(OR(AI6=1,AI6=2),CHOOSE(MIN(5,BBlues!AI6+BReds!AI6),0,0,AI6,AI6,0),IF(BBlues!AI6+BReds!AI6=3,IF(BBlues!AI6>BReds!AI6,1,2),0)))","v":0},{"$f":"IF(Edit!$A$42=TRUE,Edit!AJ6,IF(OR(AJ6=1,AJ6=2),CHOOSE(MIN(5,BBlues!AJ6+BReds!AJ6),0,0,AJ6,AJ6,0),IF(BBlues!AJ6+BReds!AJ6=3,IF(BBlues!AJ6>BReds!AJ6,1,2),0)))","v":1},{"$f":"IF(Edit!$A$42=TRUE,Edit!AK6,IF(OR(AK6=1,AK6=2),CHOOSE(MIN(5,BBlues!AK6+BReds!AK6),0,0,AK6,AK6,0),IF(BBlues!AK6+BReds!AK6=3,IF(BBlues!AK6>BReds!AK6,1,2),0)))","v":1},{"$f":"IF(Edit!$A$42=TRUE,Edit!AL6,IF(OR(AL6=1,AL6=2),CHOOSE(MIN(5,BBlues!AL6+BReds!AL6),0,0,AL6,AL6,0),IF(BBlues!AL6+BReds!AL6=3,IF(BBlues!AL6>BReds!AL6,1,2),0)))","v":0}]
[null,{"$f":"IF(Edit!$A$42=TRUE,Edit!B7,IF(OR(B7=1,B7=2),CHOOSE(MIN(5,BBlues!B7+BReds!B7),0,0,B7,B7,0),IF(BBlues!B7+BReds!B7=3,IF(BBlues!B7>BReds!B7,1,2),0)))","v":0},{"$f":"IF(Edit!$A$42=TRUE,Edit!C7,IF(OR(C7=1,C7=2),CHOOSE(MIN(5,BBlues!C7+BReds!C7),0,0,C7,C7,0),IF(BBlues!C7+BReds!C7=3,IF(BBlues!C7>BReds!C7,1,2),0)))","v":0},{"$f":"IF(Edit!$A$42=TRUE,Edit!D7,IF(OR(D7=1,D7=2),CHOOSE(MIN(5,BBlues!D7+BReds!D7),0,0,D7,D7,0),IF(BBlues!D7+BReds!D7=3,IF(BBlues!D7>BReds!D7,1,2),0)))","v":1},{"$f":"IF(Edit!$A$42=TRUE,Edit!E7,IF(OR(E7=1,E7=2),CHOOSE(MIN(5,BBlues!E7+BReds!E7),0,0,E7,E7,0),IF(BBlues!E7+BReds!E7=3,IF(BBlues!E7>BReds!E7,1,2),0)))","v":0},{"$f":"IF(Edit!$A$42=TRUE,Edit!F7,IF(OR(F7=1,F7=2),CHOOSE(MIN(5,BBlues!F7+BReds!F7),0,0,F7,F7,0),IF(BBlues!F7+BReds!F7=3,IF(BBlues!F7>BReds!F7,1,2),0)))","v":1},{"$f":"IF(Edit!$A$42=TRUE,Edit!G7,IF(OR(G7=1,G7=2),CHOOSE(MIN(5,BBlues!G7+BReds!G7),0,0,G7,G7,0),IF(BBlues!G7+BReds!G7=3,IF(BBlues!G7>BReds!G7,1,2),0)))","v":0},{"$f":"IF(Edit!$A$42=TRUE,Edit!H7,IF(OR(H7=1,H7=2),CHOOSE(MIN(5,BBlues!H7+BReds!H7),0,0,H7,H7,0),IF(BBlues!H7+BReds!H7=3,IF(BBlues!H7>BReds!H7,1,2),0)))","v":0},{"$f":"IF(Edit!$A$42=TRUE,Edit!I7,IF(OR(I7=1,I7=2),CHOOSE(MIN(5,BBlues!I7+BReds!I7),0,0,I7,I7,0),IF(BBlues!I7+BReds!I7=3,IF(BBlues!I7>BReds!I7,1,2),0)))","v":0},{"$f":"IF(Edit!$A$42=TRUE,Edit!J7,IF(OR(J7=1,J7=2),CHOOSE(MIN(5,BBlues!J7+BReds!J7),0,0,J7,J7,0),IF(BBlues!J7+BReds!J7=3,IF(BBlues!J7>BReds!J7,1,2),0)))","v":0},{"$f":"IF(Edit!$A$42=TRUE,Edit!K7,IF(OR(K7=1,K7=2),CHOOSE(MIN(5,BBlues!K7+BReds!K7),0,0,K7,K7,0),IF(BBlues!K7+BReds!K7=3,IF(BBlues!K7>BReds!K7,1,2),0)))","v":0},{"$f":"IF(Edit!$A$42=TRUE,Edit!L7,IF(OR(L7=1,L7=2),CHOOSE(MIN(5,BBlues!L7+BReds!L7),0,0,L7,L7,0),IF(BBlues!L7+BReds!L7=3,IF(BBlues!L7>BReds!L7,1,2),0)))","v":0},{"$f":"IF(Edit!$A$42=TRUE,Edit!M7,IF(OR(M7=1,M7=2),CHOOSE(MIN(5,BBlues!M7+BReds!M7),0,0,M7,M7,0),IF(BBlues!M7+BReds!M7=3,IF(BBlues!M7>BReds!M7,1,2),0)))","v":0},{"$f":"IF(Edit!$A$42=TRUE,Edit!N7,IF(OR(N7=1,N7=2),CHOOSE(MIN(5,BBlues!N7+BReds!N7),0,0,N7,N7,0),IF(BBlues!N7+BReds!N7=3,IF(BBlues!N7>BReds!N7,1,2),0)))","v":0},{"$f":"IF(Edit!$A$42=TRUE,Edit!O7,IF(OR(O7=1,O7=2),CHOOSE(MIN(5,BBlues!O7+BReds!O7),0,0,O7,O7,0),IF(BBlues!O7+BReds!O7=3,IF(BBlues!O7>BReds!O7,1,2),0)))","v":0},{"$f":"IF(Edit!$A$42=TRUE,Edit!P7,IF(OR(P7=1,P7=2),CHOOSE(MIN(5,BBlues!P7+BReds!P7),0,0,P7,P7,0),IF(BBlues!P7+BReds!P7=3,IF(BBlues!P7>BReds!P7,1,2),0)))","v":0},{"$f":"IF(Edit!$A$42=TRUE,Edit!Q7,IF(OR(Q7=1,Q7=2),CHOOSE(MIN(5,BBlues!Q7+BReds!Q7),0,0,Q7,Q7,0),IF(BBlues!Q7+BReds!Q7=3,IF(BBlues!Q7>BReds!Q7,1,2),0)))","v":0},{"$f":"IF(Edit!$A$42=TRUE,Edit!R7,IF(OR(R7=1,R7=2),CHOOSE(MIN(5,BBlues!R7+BReds!R7),0,0,R7,R7,0),IF(BBlues!R7+BReds!R7=3,IF(BBlues!R7>BReds!R7,1,2),0)))","v":0},{"$f":"IF(Edit!$A$42=TRUE,Edit!S7,IF(OR(S7=1,S7=2),CHOOSE(MIN(5,BBlues!S7+BReds!S7),0,0,S7,S7,0),IF(BBlues!S7+BReds!S7=3,IF(BBlues!S7>BReds!S7,1,2),0)))","v":0},{"$f":"IF(Edit!$A$42=TRUE,Edit!T7,IF(OR(T7=1,T7=2),CHOOSE(MIN(5,BBlues!T7+BReds!T7),0,0,T7,T7,0),IF(BBlues!T7+BReds!T7=3,IF(BBlues!T7>BReds!T7,1,2),0)))","v":0},{"$f":"IF(Edit!$A$42=TRUE,Edit!U7,IF(OR(U7=1,U7=2),CHOOSE(MIN(5,BBlues!U7+BReds!U7),0,0,U7,U7,0),IF(BBlues!U7+BReds!U7=3,IF(BBlues!U7>BReds!U7,1,2),0)))","v":0},{"$f":"IF(Edit!$A$42=TRUE,Edit!V7,IF(OR(V7=1,V7=2),CHOOSE(MIN(5,BBlues!V7+BReds!V7),0,0,V7,V7,0),IF(BBlues!V7+BReds!V7=3,IF(BBlues!V7>BReds!V7,1,2),0)))","v":0},{"$f":"IF(Edit!$A$42=TRUE,Edit!W7,IF(OR(W7=1,W7=2),CHOOSE(MIN(5,BBlues!W7+BReds!W7),0,0,W7,W7,0),IF(BBlues!W7+BReds!W7=3,IF(BBlues!W7>BReds!W7,1,2),0)))","v":0},{"$f":"IF(Edit!$A$42=TRUE,Edit!X7,IF(OR(X7=1,X7=2),CHOOSE(MIN(5,BBlues!X7+BReds!X7),0,0,X7,X7,0),IF(BBlues!X7+BReds!X7=3,IF(BBlues!X7>BReds!X7,1,2),0)))","v":0},{"$f":"IF(Edit!$A$42=TRUE,Edit!Y7,IF(OR(Y7=1,Y7=2),CHOOSE(MIN(5,BBlues!Y7+BReds!Y7),0,0,Y7,Y7,0),IF(BBlues!Y7+BReds!Y7=3,IF(BBlues!Y7>BReds!Y7,1,2),0)))","v":1},{"$f":"IF(Edit!$A$42=TRUE,Edit!Z7,IF(OR(Z7=1,Z7=2),CHOOSE(MIN(5,BBlues!Z7+BReds!Z7),0,0,Z7,Z7,0),IF(BBlues!Z7+BReds!Z7=3,IF(BBlues!Z7>BReds!Z7,1,2),0)))","v":1},{"$f":"IF(Edit!$A$42=TRUE,Edit!AA7,IF(OR(AA7=1,AA7=2),CHOOSE(MIN(5,BBlues!AA7+BReds!AA7),0,0,AA7,AA7,0),IF(BBlues!AA7+BReds!AA7=3,IF(BBlues!AA7>BReds!AA7,1,2),0)))","v":0},{"$f":"IF(Edit!$A$42=TRUE,Edit!AB7,IF(OR(AB7=1,AB7=2),CHOOSE(MIN(5,BBlues!AB7+BReds!AB7),0,0,AB7,AB7,0),IF(BBlues!AB7+BReds!AB7=3,IF(BBlues!AB7>BReds!AB7,1,2),0)))","v":0},{"$f":"IF(Edit!$A$42=TRUE,Edit!AC7,IF(OR(AC7=1,AC7=2),CHOOSE(MIN(5,BBlues!AC7+BReds!AC7),0,0,AC7,AC7,0),IF(BBlues!AC7+BReds!AC7=3,IF(BBlues!AC7>BReds!AC7,1,2),0)))","v":0},{"$f":"IF(Edit!$A$42=TRUE,Edit!AD7,IF(OR(AD7=1,AD7=2),CHOOSE(MIN(5,BBlues!AD7+BReds!AD7),0,0,AD7,AD7,0),IF(BBlues!AD7+BReds!AD7=3,IF(BBlues!AD7>BReds!AD7,1,2),0)))","v":0},{"$f":"IF(Edit!$A$42=TRUE,Edit!AE7,IF(OR(AE7=1,AE7=2),CHOOSE(MIN(5,BBlues!AE7+BReds!AE7),0,0,AE7,AE7,0),IF(BBlues!AE7+BReds!AE7=3,IF(BBlues!AE7>BReds!AE7,1,2),0)))","v":1},{"$f":"IF(Edit!$A$42=TRUE,Edit!AF7,IF(OR(AF7=1,AF7=2),CHOOSE(MIN(5,BBlues!AF7+BReds!AF7),0,0,AF7,AF7,0),IF(BBlues!AF7+BReds!AF7=3,IF(BBlues!AF7>BReds!AF7,1,2),0)))","v":1},{"$f":"IF(Edit!$A$42=TRUE,Edit!AG7,IF(OR(AG7=1,AG7=2),CHOOSE(MIN(5,BBlues!AG7+BReds!AG7),0,0,AG7,AG7,0),IF(BBlues!AG7+BReds!AG7=3,IF(BBlues!AG7>BReds!AG7,1,2),0)))","v":0},{"$f":"IF(Edit!$A$42=TRUE,Edit!AH7,IF(OR(AH7=1,AH7=2),CHOOSE(MIN(5,BBlues!AH7+BReds!AH7),0,0,AH7,AH7,0),IF(BBlues!AH7+BReds!AH7=3,IF(BBlues!AH7>BReds!AH7,1,2),0)))","v":0},{"$f":"IF(Edit!$A$42=TRUE,Edit!AI7,IF(OR(AI7=1,AI7=2),CHOOSE(MIN(5,BBlues!AI7+BReds!AI7),0,0,AI7,AI7,0),IF(BBlues!AI7+BReds!AI7=3,IF(BBlues!AI7>BReds!AI7,1,2),0)))","v":0},{"$f":"IF(Edit!$A$42=TRUE,Edit!AJ7,IF(OR(AJ7=1,AJ7=2),CHOOSE(MIN(5,BBlues!AJ7+BReds!AJ7),0,0,AJ7,AJ7,0),IF(BBlues!AJ7+BReds!AJ7=3,IF(BBlues!AJ7>BReds!AJ7,1,2),0)))","v":1},{"$f":"IF(Edit!$A$42=TRUE,Edit!AK7,IF(OR(AK7=1,AK7=2),CHOOSE(MIN(5,BBlues!AK7+BReds!AK7),0,0,AK7,AK7,0),IF(BBlues!AK7+BReds!AK7=3,IF(BBlues!AK7>BReds!AK7,1,2),0)))","v":1},{"$f":"IF(Edit!$A$42=TRUE,Edit!AL7,IF(OR(AL7=1,AL7=2),CHOOSE(MIN(5,BBlues!AL7+BReds!AL7),0,0,AL7,AL7,0),IF(BBlues!AL7+BReds!AL7=3,IF(BBlues!AL7>BReds!AL7,1,2),0)))","v":0}]
[null,{"$f":"IF(Edit!$A$42=TRUE,Edit!B8,IF(OR(B8=1,B8=2),CHOOSE(MIN(5,BBlues!B8+BReds!B8),0,0,B8,B8,0),IF(BBlues!B8+BReds!B8=3,IF(BBlues!B8>BReds!B8,1,2),0)))","v":0},{"$f":"IF(Edit!$A$42=TRUE,Edit!C8,IF(OR(C8=1,C8=2),CHOOSE(MIN(5,BBlues!C8+BReds!C8),0,0,C8,C8,0),IF(BBlues!C8+BReds!C8=3,IF(BBlues!C8>BReds!C8,1,2),0)))","v":0},{"$f":"IF(Edit!$A$42=TRUE,Edit!D8,IF(OR(D8=1,D8=2),CHOOSE(MIN(5,BBlues!D8+BReds!D8),0,0,D8,D8,0),IF(BBlues!D8+BReds!D8=3,IF(BBlues!D8>BReds!D8,1,2),0)))","v":0},{"$f":"IF(Edit!$A$42=TRUE,Edit!E8,IF(OR(E8=1,E8=2),CHOOSE(MIN(5,BBlues!E8+BReds!E8),0,0,E8,E8,0),IF(BBlues!E8+BReds!E8=3,IF(BBlues!E8>BReds!E8,1,2),0)))","v":1},{"$f":"IF(Edit!$A$42=TRUE,Edit!F8,IF(OR(F8=1,F8=2),CHOOSE(MIN(5,BBlues!F8+BReds!F8),0,0,F8,F8,0),IF(BBlues!F8+BReds!F8=3,IF(BBlues!F8>BReds!F8,1,2),0)))","v":1},{"$f":"IF(Edit!$A$42=TRUE,Edit!G8,IF(OR(G8=1,G8=2),CHOOSE(MIN(5,BBlues!G8+BReds!G8),0,0,G8,G8,0),IF(BBlues!G8+BReds!G8=3,IF(BBlues!G8>BReds!G8,1,2),0)))","v":0},{"$f":"IF(Edit!$A$42=TRUE,Edit!H8,IF(OR(H8=1,H8=2),CHOOSE(MIN(5,BBlues!H8+BReds!H8),0,0,H8,H8,0),IF(BBlues!H8+BReds!H8=3,IF(BBlues!H8>BReds!H8,1,2),0)))","v":0},{"$f":"IF(Edit!$A$42=TRUE,Edit!I8,IF(OR(I8=1,I8=2),CHOOSE(MIN(5,BBlues!I8+BReds!I8),0,0,I8,I8,0),IF(BBlues!I8+BReds!I8=3,IF(BBlues!I8>BReds!I8,1,2),0)))","v":0},{"$f":"IF(Edit!$A$42=TRUE,Edit!J8,IF(OR(J8=1,J8=2),CHOOSE(MIN(5,BBlues!J8+BReds!J8),0,0,J8,J8,0),IF(BBlues!J8+BReds!J8=3,IF(BBlues!J8>BReds!J8,1,2),0)))","v":0},{"$f":"IF(Edit!$A$42=TRUE,Edit!K8,IF(OR(K8=1,K8=2),CHOOSE(MIN(5,BBlues!K8+BReds!K8),0,0,K8,K8,0),IF(BBlues!K8+BReds!K8=3,IF(BBlues!K8>BReds!K8,1,2),0)))","v":0},{"$f":"IF(Edit!$A$42=TRUE,Edit!L8,IF(OR(L8=1,L8=2),CHOOSE(MIN(5,BBlues!L8+BReds!L8),0,0,L8,L8,0),IF(BBlues!L8+BReds!L8=3,IF(BBlues!L8>BReds!L8,1,2),0)))","v":0},{"$f":"IF(Edit!$A$42=TRUE,Edit!M8,IF(OR(M8=1,M8=2),CHOOSE(MIN(5,BBlues!M8+BReds!M8),0,0,M8,M8,0),IF(BBlues!M8+BReds!M8=3,IF(BBlues!M8>BReds!M8,1,2),0)))","v":0},{"$f":"IF(Edit!$A$42=TRUE,Edit!N8,IF(OR(N8=1,N8=2),CHOOSE(MIN(5,BBlues!N8+BReds!N8),0,0,N8,N8,0),IF(BBlues!N8+BReds!N8=3,IF(BBlues!N8>BReds!N8,1,2),0)))","v":0},{"$f":"IF(Edit!$A$42=TRUE,Edit!O8,IF(OR(O8=1,O8=2),CHOOSE(MIN(5,BBlues!O8+BReds!O8),0,0,O8,O8,0),IF(BBlues!O8+BReds!O8=3,IF(BBlues!O8>BReds!O8,1,2),0)))","v":0},{"$f":"IF(Edit!$A$42=TRUE,Edit!P8,IF(OR(P8=1,P8=2),CHOOSE(MIN(5,BBlues!P8+BReds!P8),0,0,P8,P8,0),IF(BBlues!P8+BReds!P8=3,IF(BBlues!P8>BReds!P8,1,2),0)))","v":0},{"$f":"IF(Edit!$A$42=TRUE,Edit!Q8,IF(OR(Q8=1,Q8=2),CHOOSE(MIN(5,BBlues!Q8+BReds!Q8),0,0,Q8,Q8,0),IF(BBlues!Q8+BReds!Q8=3,IF(BBlues!Q8>BReds!Q8,1,2),0)))","v":0},{"$f":"IF(Edit!$A$42=TRUE,Edit!R8,IF(OR(R8=1,R8=2),CHOOSE(MIN(5,BBlues!R8+BReds!R8),0,0,R8,R8,0),IF(BBlues!R8+BReds!R8=3,IF(BBlues!R8>BReds!R8,1,2),0)))","v":0},{"$f":"IF(Edit!$A$42=TRUE,Edit!S8,IF(OR(S8=1,S8=2),CHOOSE(MIN(5,BBlues!S8+BReds!S8),0,0,S8,S8,0),IF(BBlues!S8+BReds!S8=3,IF(BBlues!S8>BReds!S8,1,2),0)))","v":0},{"$f":"IF(Edit!$A$42=TRUE,Edit!T8,IF(OR(T8=1,T8=2),CHOOSE(MIN(5,BBlues!T8+BReds!T8),0,0,T8,T8,0),IF(BBlues!T8+BReds!T8=3,IF(BBlues!T8>BReds!T8,1,2),0)))","v":0},{"$f":"IF(Edit!$A$42=TRUE,Edit!U8,IF(OR(U8=1,U8=2),CHOOSE(MIN(5,BBlues!U8+BReds!U8),0,0,U8,U8,0),IF(BBlues!U8+BReds!U8=3,IF(BBlues!U8>BReds!U8,1,2),0)))","v":0},{"$f":"IF(Edit!$A$42=TRUE,Edit!V8,IF(OR(V8=1,V8=2),CHOOSE(MIN(5,BBlues!V8+BReds!V8),0,0,V8,V8,0),IF(BBlues!V8+BReds!V8=3,IF(BBlues!V8>BReds!V8,1,2),0)))","v":0},{"$f":"IF(Edit!$A$42=TRUE,Edit!W8,IF(OR(W8=1,W8=2),CHOOSE(MIN(5,BBlues!W8+BReds!W8),0,0,W8,W8,0),IF(BBlues!W8+BReds!W8=3,IF(BBlues!W8>BReds!W8,1,2),0)))","v":0},{"$f":"IF(Edit!$A$42=TRUE,Edit!X8,IF(OR(X8=1,X8=2),CHOOSE(MIN(5,BBlues!X8+BReds!X8),0,0,X8,X8,0),IF(BBlues!X8+BReds!X8=3,IF(BBlues!X8>BReds!X8,1,2),0)))","v":0},{"$f":"IF(Edit!$A$42=TRUE,Edit!Y8,IF(OR(Y8=1,Y8=2),CHOOSE(MIN(5,BBlues!Y8+BReds!Y8),0,0,Y8,Y8,0),IF(BBlues!Y8+BReds!Y8=3,IF(BBlues!Y8>BReds!Y8,1,2),0)))","v":0},{"$f":"IF(Edit!$A$42=TRUE,Edit!Z8,IF(OR(Z8=1,Z8=2),CHOOSE(MIN(5,BBlues!Z8+BReds!Z8),0,0,Z8,Z8,0),IF(BBlues!Z8+BReds!Z8=3,IF(BBlues!Z8>BReds!Z8,1,2),0)))","v":0},{"$f":"IF(Edit!$A$42=TRUE,Edit!AA8,IF(OR(AA8=1,AA8=2),CHOOSE(MIN(5,BBlues!AA8+BReds!AA8),0,0,AA8,AA8,0),IF(BBlues!AA8+BReds!AA8=3,IF(BBlues!AA8>BReds!AA8,1,2),0)))","v":0},{"$f":"IF(Edit!$A$42=TRUE,Edit!AB8,IF(OR(AB8=1,AB8=2),CHOOSE(MIN(5,BBlues!AB8+BReds!AB8),0,0,AB8,AB8,0),IF(BBlues!AB8+BReds!AB8=3,IF(BBlues!AB8>BReds!AB8,1,2),0)))","v":0},{"$f":"IF(Edit!$A$42=TRUE,Edit!AC8,IF(OR(AC8=1,AC8=2),CHOOSE(MIN(5,BBlues!AC8+BReds!AC8),0,0,AC8,AC8,0),IF(BBlues!AC8+BReds!AC8=3,IF(BBlues!AC8>BReds!AC8,1,2),0)))","v":0},{"$f":"IF(Edit!$A$42=TRUE,Edit!AD8,IF(OR(AD8=1,AD8=2),CHOOSE(MIN(5,BBlues!AD8+BReds!AD8),0,0,AD8,AD8,0),IF(BBlues!AD8+BReds!AD8=3,IF(BBlues!AD8>BReds!AD8,1,2),0)))","v":0},{"$f":"IF(Edit!$A$42=TRUE,Edit!AE8,IF(OR(AE8=1,AE8=2),CHOOSE(MIN(5,BBlues!AE8+BReds!AE8),0,0,AE8,AE8,0),IF(BBlues!AE8+BReds!AE8=3,IF(BBlues!AE8>BReds!AE8,1,2),0)))","v":1},{"$f":"IF(Edit!$A$42=TRUE,Edit!AF8,IF(OR(AF8=1,AF8=2),CHOOSE(MIN(5,BBlues!AF8+BReds!AF8),0,0,AF8,AF8,0),IF(BBlues!AF8+BReds!AF8=3,IF(BBlues!AF8>BReds!AF8,1,2),0)))","v":1},{"$f":"IF(Edit!$A$42=TRUE,Edit!AG8,IF(OR(AG8=1,AG8=2),CHOOSE(MIN(5,BBlues!AG8+BReds!AG8),0,0,AG8,AG8,0),IF(BBlues!AG8+BReds!AG8=3,IF(BBlues!AG8>BReds!AG8,1,2),0)))","v":0},{"$f":"IF(Edit!$A$42=TRUE,Edit!AH8,IF(OR(AH8=1,AH8=2),CHOOSE(MIN(5,BBlues!AH8+BReds!AH8),0,0,AH8,AH8,0),IF(BBlues!AH8+BReds!AH8=3,IF(BBlues!AH8>BReds!AH8,1,2),0)))","v":0},{"$f":"IF(Edit!$A$42=TRUE,Edit!AI8,IF(OR(AI8=1,AI8=2),CHOOSE(MIN(5,BBlues!AI8+BReds!AI8),0,0,AI8,AI8,0),IF(BBlues!AI8+BReds!AI8=3,IF(BBlues!AI8>BReds!AI8,1,2),0)))","v":0},{"$f":"IF(Edit!$A$42=TRUE,Edit!AJ8,IF(OR(AJ8=1,AJ8=2),CHOOSE(MIN(5,BBlues!AJ8+BReds!AJ8),0,0,AJ8,AJ8,0),IF(BBlues!AJ8+BReds!AJ8=3,IF(BBlues!AJ8>BReds!AJ8,1,2),0)))","v":0},{"$f":"IF(Edit!$A$42=TRUE,Edit!AK8,IF(OR(AK8=1,AK8=2),CHOOSE(MIN(5,BBlues!AK8+BReds!AK8),0,0,AK8,AK8,0),IF(BBlues!AK8+BReds!AK8=3,IF(BBlues!AK8>BReds!AK8,1,2),0)))","v":0},{"$f":"IF(Edit!$A$42=TRUE,Edit!AL8,IF(OR(AL8=1,AL8=2),CHOOSE(MIN(5,BBlues!AL8+BReds!AL8),0,0,AL8,AL8,0),IF(BBlues!AL8+BReds!AL8=3,IF(BBlues!AL8>BReds!AL8,1,2),0)))","v":0}]
[null,{"$f":"IF(Edit!$A$42=TRUE,Edit!B9,IF(OR(B9=1,B9=2),CHOOSE(MIN(5,BBlues!B9+BReds!B9),0,0,B9,B9,0),IF(BBlues!B9+BReds!B9=3,IF(BBlues!B9>BReds!B9,1,2),0)))","v":0},{"$f":"IF(Edit!$A$42=TRUE,Edit!C9,IF(OR(C9=1,C9=2),CHOOSE(MIN(5,BBlues!C9+BReds!C9),0,0,C9,C9,0),IF(BBlues!C9+BReds!C9=3,IF(BBlues!C9>BReds!C9,1,2),0)))","v":0},{"$f":"IF(Edit!$A$42=TRUE,Edit!D9,IF(OR(D9=1,D9=2),CHOOSE(MIN(5,BBlues!D9+BReds!D9),0,0,D9,D9,0),IF(BBlues!D9+BReds!D9=3,IF(BBlues!D9>BReds!D9,1,2),0)))","v":0},{"$f":"IF(Edit!$A$42=TRUE,Edit!E9,IF(OR(E9=1,E9=2),CHOOSE(MIN(5,BBlues!E9+BReds!E9),0,0,E9,E9,0),IF(BBlues!E9+BReds!E9=3,IF(BBlues!E9>BReds!E9,1,2),0)))","v":0},{"$f":"IF(Edit!$A$42=TRUE,Edit!F9,IF(OR(F9=1,F9=2),CHOOSE(MIN(5,BBlues!F9+BReds!F9),0,0,F9,F9,0),IF(BBlues!F9+BReds!F9=3,IF(BBlues!F9>BReds!F9,1,2),0)))","v":0},{"$f":"IF(Edit!$A$42=TRUE,Edit!G9,IF(OR(G9=1,G9=2),CHOOSE(MIN(5,BBlues!G9+BReds!G9),0,0,G9,G9,0),IF(BBlues!G9+BReds!G9=3,IF(BBlues!G9>BReds!G9,1,2),0)))","v":0},{"$f":"IF(Edit!$A$42=TRUE,Edit!H9,IF(OR(H9=1,H9=2),CHOOSE(MIN(5,BBlues!H9+BReds!H9),0,0,H9,H9,0),IF(BBlues!H9+BReds!H9=3,IF(BBlues!H9>BReds!H9,1,2),0)))","v":0},{"$f":"IF(Edit!$A$42=TRUE,Edit!I9,IF(OR(I9=1,I9=2),CHOOSE(MIN(5,BBlues!I9+BReds!I9),0,0,I9,I9,0),IF(BBlues!I9+BReds!I9=3,IF(BBlues!I9>BReds!I9,1,2),0)))","v":0},{"$f":"IF(Edit!$A$42=TRUE,Edit!J9,IF(OR(J9=1,J9=2),CHOOSE(MIN(5,BBlues!J9+BReds!J9),0,0,J9,J9,0),IF(BBlues!J9+BReds!J9=3,IF(BBlues!J9>BReds!J9,1,2),0)))","v":0},{"$f":"IF(Edit!$A$42=TRUE,Edit!K9,IF(OR(K9=1,K9=2),CHOOSE(MIN(5,BBlues!K9+BReds!K9),0,0,K9,K9,0),IF(BBlues!K9+BReds!K9=3,IF(BBlues!K9>BReds!K9,1,2),0)))","v":0},{"$f":"IF(Edit!$A$42=TRUE,Edit!L9,IF(OR(L9=1,L9=2),CHOOSE(MIN(5,BBlues!L9+BReds!L9),0,0,L9,L9,0),IF(BBlues!L9+BReds!L9=3,IF(BBlues!L9>BReds!L9,1,2),0)))","v":0},{"$f":"IF(Edit!$A$42=TRUE,Edit!M9,IF(OR(M9=1,M9=2),CHOOSE(MIN(5,BBlues!M9+BReds!M9),0,0,M9,M9,0),IF(BBlues!M9+BReds!M9=3,IF(BBlues!M9>BReds!M9,1,2),0)))","v":0},{"$f":"IF(Edit!$A$42=TRUE,Edit!N9,IF(OR(N9=1,N9=2),CHOOSE(MIN(5,BBlues!N9+BReds!N9),0,0,N9,N9,0),IF(BBlues!N9+BReds!N9=3,IF(BBlues!N9>BReds!N9,1,2),0)))","v":0},{"$f":"IF(Edit!$A$42=TRUE,Edit!O9,IF(OR(O9=1,O9=2),CHOOSE(MIN(5,BBlues!O9+BReds!O9),0,0,O9,O9,0),IF(BBlues!O9+BReds!O9=3,IF(BBlues!O9>BReds!O9,1,2),0)))","v":0},{"$f":"IF(Edit!$A$42=TRUE,Edit!P9,IF(OR(P9=1,P9=2),CHOOSE(MIN(5,BBlues!P9+BReds!P9),0,0,P9,P9,0),IF(BBlues!P9+BReds!P9=3,IF(BBlues!P9>BReds!P9,1,2),0)))","v":0},{"$f":"IF(Edit!$A$42=TRUE,Edit!Q9,IF(OR(Q9=1,Q9=2),CHOOSE(MIN(5,BBlues!Q9+BReds!Q9),0,0,Q9,Q9,0),IF(BBlues!Q9+BReds!Q9=3,IF(BBlues!Q9>BReds!Q9,1,2),0)))","v":0},{"$f":"IF(Edit!$A$42=TRUE,Edit!R9,IF(OR(R9=1,R9=2),CHOOSE(MIN(5,BBlues!R9+BReds!R9),0,0,R9,R9,0),IF(BBlues!R9+BReds!R9=3,IF(BBlues!R9>BReds!R9,1,2),0)))","v":0},{"$f":"IF(Edit!$A$42=TRUE,Edit!S9,IF(OR(S9=1,S9=2),CHOOSE(MIN(5,BBlues!S9+BReds!S9),0,0,S9,S9,0),IF(BBlues!S9+BReds!S9=3,IF(BBlues!S9>BReds!S9,1,2),0)))","v":0},{"$f":"IF(Edit!$A$42=TRUE,Edit!T9,IF(OR(T9=1,T9=2),CHOOSE(MIN(5,BBlues!T9+BReds!T9),0,0,T9,T9,0),IF(BBlues!T9+BReds!T9=3,IF(BBlues!T9>BReds!T9,1,2),0)))","v":1},{"$f":"IF(Edit!$A$42=TRUE,Edit!U9,IF(OR(U9=1,U9=2),CHOOSE(MIN(5,BBlues!U9+BReds!U9),0,0,U9,U9,0),IF(BBlues!U9+BReds!U9=3,IF(BBlues!U9>BReds!U9,1,2),0)))","v":1},{"$f":"IF(Edit!$A$42=TRUE,Edit!V9,IF(OR(V9=1,V9=2),CHOOSE(MIN(5,BBlues!V9+BReds!V9),0,0,V9,V9,0),IF(BBlues!V9+BReds!V9=3,IF(BBlues!V9>BReds!V9,1,2),0)))","v":0},{"$f":"IF(Edit!$A$42=TRUE,Edit!W9,IF(OR(W9=1,W9=2),CHOOSE(MIN(5,BBlues!W9+BReds!W9),0,0,W9,W9,0),IF(BBlues!W9+BReds!W9=3,IF(BBlues!W9>BReds!W9,1,2),0)))","v":0},{"$f":"IF(Edit!$A$42=TRUE,Edit!X9,IF(OR(X9=1,X9=2),CHOOSE(MIN(5,BBlues!X9+BReds!X9),0,0,X9,X9,0),IF(BBlues!X9+BReds!X9=3,IF(BBlues!X9>BReds!X9,1,2),0)))","v":0},{"$f":"IF(Edit!$A$42=TRUE,Edit!Y9,IF(OR(Y9=1,Y9=2),CHOOSE(MIN(5,BBlues!Y9+BReds!Y9),0,0,Y9,Y9,0),IF(BBlues!Y9+BReds!Y9=3,IF(BBlues!Y9>BReds!Y9,1,2),0)))","v":0},{"$f":"IF(Edit!$A$42=TRUE,Edit!Z9,IF(OR(Z9=1,Z9=2),CHOOSE(MIN(5,BBlues!Z9+BReds!Z9),0,0,Z9,Z9,0),IF(BBlues!Z9+BReds!Z9=3,IF(BBlues!Z9>BReds!Z9,1,2),0)))","v":0},{"$f":"IF(Edit!$A$42=TRUE,Edit!AA9,IF(OR(AA9=1,AA9=2),CHOOSE(MIN(5,BBlues!AA9+BReds!AA9),0,0,AA9,AA9,0),IF(BBlues!AA9+BReds!AA9=3,IF(BBlues!AA9>BReds!AA9,1,2),0)))","v":0},{"$f":"IF(Edit!$A$42=TRUE,Edit!AB9,IF(OR(AB9=1,AB9=2),CHOOSE(MIN(5,BBlues!AB9+BReds!AB9),0,0,AB9,AB9,0),IF(BBlues!AB9+BReds!AB9=3,IF(BBlues!AB9>BReds!AB9,1,2),0)))","v":0},{"$f":"IF(Edit!$A$42=TRUE,Edit!AC9,IF(OR(AC9=1,AC9=2),CHOOSE(MIN(5,BBlues!AC9+BReds!AC9),0,0,AC9,AC9,0),IF(BBlues!AC9+BReds!AC9=3,IF(BBlues!AC9>BReds!AC9,1,2),0)))","v":0},{"$f":"IF(Edit!$A$42=TRUE,Edit!AD9,IF(OR(AD9=1,AD9=2),CHOOSE(MIN(5,BBlues!AD9+BReds!AD9),0,0,AD9,AD9,0),IF(BBlues!AD9+BReds!AD9=3,IF(BBlues!AD9>BReds!AD9,1,2),0)))","v":0},{"$f":"IF(Edit!$A$42=TRUE,Edit!AE9,IF(OR(AE9=1,AE9=2),CHOOSE(MIN(5,BBlues!AE9+BReds!AE9),0,0,AE9,AE9,0),IF(BBlues!AE9+BReds!AE9=3,IF(BBlues!AE9>BReds!AE9,1,2),0)))","v":0},{"$f":"IF(Edit!$A$42=TRUE,Edit!AF9,IF(OR(AF9=1,AF9=2),CHOOSE(MIN(5,BBlues!AF9+BReds!AF9),0,0,AF9,AF9,0),IF(BBlues!AF9+BReds!AF9=3,IF(BBlues!AF9>BReds!AF9,1,2),0)))","v":0},{"$f":"IF(Edit!$A$42=TRUE,Edit!AG9,IF(OR(AG9=1,AG9=2),CHOOSE(MIN(5,BBlues!AG9+BReds!AG9),0,0,AG9,AG9,0),IF(BBlues!AG9+BReds!AG9=3,IF(BBlues!AG9>BReds!AG9,1,2),0)))","v":0},{"$f":"IF(Edit!$A$42=TRUE,Edit!AH9,IF(OR(AH9=1,AH9=2),CHOOSE(MIN(5,BBlues!AH9+BReds!AH9),0,0,AH9,AH9,0),IF(BBlues!AH9+BReds!AH9=3,IF(BBlues!AH9>BReds!AH9,1,2),0)))","v":0},{"$f":"IF(Edit!$A$42=TRUE,Edit!AI9,IF(OR(AI9=1,AI9=2),CHOOSE(MIN(5,BBlues!AI9+BReds!AI9),0,0,AI9,AI9,0),IF(BBlues!AI9+BReds!AI9=3,IF(BBlues!AI9>BReds!AI9,1,2),0)))","v":0},{"$f":"IF(Edit!$A$42=TRUE,Edit!AJ9,IF(OR(AJ9=1,AJ9=2),CHOOSE(MIN(5,BBlues!AJ9+BReds!AJ9),0,0,AJ9,AJ9,0),IF(BBlues!AJ9+BReds!AJ9=3,IF(BBlues!AJ9>BReds!AJ9,1,2),0)))","v":0},{"$f":"IF(Edit!$A$42=TRUE,Edit!AK9,IF(OR(AK9=1,AK9=2),CHOOSE(MIN(5,BBlues!AK9+BReds!AK9),0,0,AK9,AK9,0),IF(BBlues!AK9+BReds!AK9=3,IF(BBlues!AK9>BReds!AK9,1,2),0)))","v":0},{"$f":"IF(Edit!$A$42=TRUE,Edit!AL9,IF(OR(AL9=1,AL9=2),CHOOSE(MIN(5,BBlues!AL9+BReds!AL9),0,0,AL9,AL9,0),IF(BBlues!AL9+BReds!AL9=3,IF(BBlues!AL9>BReds!AL9,1,2),0)))","v":0}]
[null,{"$f":"IF(Edit!$A$42=TRUE,Edit!B10,IF(OR(B10=1,B10=2),CHOOSE(MIN(5,BBlues!B10+BReds!B10),0,0,B10,B10,0),IF(BBlues!B10+BReds!B10=3,IF(BBlues!B10>BReds!B10,1,2),0)))","v":0},{"$f":"IF(Edit!$A$42=TRUE,Edit!C10,IF(OR(C10=1,C10=2),CHOOSE(MIN(5,BBlues!C10+BReds!C10),0,0,C10,C10,0),IF(BBlues!C10+BReds!C10=3,IF(BBlues!C10>BReds!C10,1,2),0)))","v":0},{"$f":"IF(Edit!$A$42=TRUE,Edit!D10,IF(OR(D10=1,D10=2),CHOOSE(MIN(5,BBlues!D10+BReds!D10),0,0,D10,D10,0),IF(BBlues!D10+BReds!D10=3,IF(BBlues!D10>BReds!D10,1,2),0)))","v":0},{"$f":"IF(Edit!$A$42=TRUE,Edit!E10,IF(OR(E10=1,E10=2),CHOOSE(MIN(5,BBlues!E10+BReds!E10),0,0,E10,E10,0),IF(BBlues!E10+BReds!E10=3,IF(BBlues!E10>BReds!E10,1,2),0)))","v":0},{"$f":"IF(Edit!$A$42=TRUE,Edit!F10,IF(OR(F10=1,F10=2),CHOOSE(MIN(5,BBlues!F10+BReds!F10),0,0,F10,F10,0),IF(BBlues!F10+BReds!F10=3,IF(BBlues!F10>BReds!F10,1,2),0)))","v":0},{"$f":"IF(Edit!$A$42=TRUE,Edit!G10,IF(OR(G10=1,G10=2),CHOOSE(MIN(5,BBlues!G10+BReds!G10),0,0,G10,G10,0),IF(BBlues!G10+BReds!G10=3,IF(BBlues!G10>BReds!G10,1,2),0)))","v":0},{"$f":"IF(Edit!$A$42=TRUE,Edit!H10,IF(OR(H10=1,H10=2),CHOOSE(MIN(5,BBlues!H10+BReds!H10),0,0,H10,H10,0),IF(BBlues!H10+BReds!H10=3,IF(BBlues!H10>BReds!H10,1,2),0)))","v":0},{"$f":"IF(Edit!$A$42=TRUE,Edit!I10,IF(OR(I10=1,I10=2),CHOOSE(MIN(5,BBlues!I10+BReds!I10),0,0,I10,I10,0),IF(BBlues!I10+BReds!I10=3,IF(BBlues!I10>BReds!I10,1,2),0)))","v":0},{"$f":"IF(Edit!$A$42=TRUE,Edit!J10,IF(OR(J10=1,J10=2),CHOOSE(MIN(5,BBlues!J10+BReds!J10),0,0,J10,J10,0),IF(BBlues!J10+BReds!J10=3,IF(BBlues!J10>BReds!J10,1,2),0)))","v":0},{"$f":"IF(Edit!$A$42=TRUE,Edit!K10,IF(OR(K10=1,K10=2),CHOOSE(MIN(5,BBlues!K10+BReds!K10),0,0,K10,K10,0),IF(BBlues!K10+BReds!K10=3,IF(BBlues!K10>BReds!K10,1,2),0)))","v":0},{"$f":"IF(Edit!$A$42=TRUE,Edit!L10,IF(OR(L10=1,L10=2),CHOOSE(MIN(5,BBlues!L10+BReds!L10),0,0,L10,L10,0),IF(BBlues!L10+BReds!L10=3,IF(BBlues!L10>BReds!L10,1,2),0)))","v":0},{"$f":"IF(Edit!$A$42=TRUE,Edit!M10,IF(OR(M10=1,M10=2),CHOOSE(MIN(5,BBlues!M10+BReds!M10),0,0,M10,M10,0),IF(BBlues!M10+BReds!M10=3,IF(BBlues!M10>BReds!M10,1,2),0)))","v":0},{"$f":"IF(Edit!$A$42=TRUE,Edit!N10,IF(OR(N10=1,N10=2),CHOOSE(MIN(5,BBlues!N10+BReds!N10),0,0,N10,N10,0),IF(BBlues!N10+BReds!N10=3,IF(BBlues!N10>BReds!N10,1,2),0)))","v":0},{"$f":"IF(Edit!$A$42=TRUE,Edit!O10,IF(OR(O10=1,O10=2),CHOOSE(MIN(5,BBlues!O10+BReds!O10),0,0,O10,O10,0),IF(BBlues!O10+BReds!O10=3,IF(BBlues!O10>BReds!O10,1,2),0)))","v":0},{"$f":"IF(Edit!$A$42=TRUE,Edit!P10,IF(OR(P10=1,P10=2),CHOOSE(MIN(5,BBlues!P10+BReds!P10),0,0,P10,P10,0),IF(BBlues!P10+BReds!P10=3,IF(BBlues!P10>BReds!P10,1,2),0)))","v":0},{"$f":"IF(Edit!$A$42=TRUE,Edit!Q10,IF(OR(Q10=1,Q10=2),CHOOSE(MIN(5,BBlues!Q10+BReds!Q10),0,0,Q10,Q10,0),IF(BBlues!Q10+BReds!Q10=3,IF(BBlues!Q10>BReds!Q10,1,2),0)))","v":0},{"$f":"IF(Edit!$A$42=TRUE,Edit!R10,IF(OR(R10=1,R10=2),CHOOSE(MIN(5,BBlues!R10+BReds!R10),0,0,R10,R10,0),IF(BBlues!R10+BReds!R10=3,IF(BBlues!R10>BReds!R10,1,2),0)))","v":0},{"$f":"IF(Edit!$A$42=TRUE,Edit!S10,IF(OR(S10=1,S10=2),CHOOSE(MIN(5,BBlues!S10+BReds!S10),0,0,S10,S10,0),IF(BBlues!S10+BReds!S10=3,IF(BBlues!S10>BReds!S10,1,2),0)))","v":0},{"$f":"IF(Edit!$A$42=TRUE,Edit!T10,IF(OR(T10=1,T10=2),CHOOSE(MIN(5,BBlues!T10+BReds!T10),0,0,T10,T10,0),IF(BBlues!T10+BReds!T10=3,IF(BBlues!T10>BReds!T10,1,2),0)))","v":1},{"$f":"IF(Edit!$A$42=TRUE,Edit!U10,IF(OR(U10=1,U10=2),CHOOSE(MIN(5,BBlues!U10+BReds!U10),0,0,U10,U10,0),IF(BBlues!U10+BReds!U10=3,IF(BBlues!U10>BReds!U10,1,2),0)))","v":1},{"$f":"IF(Edit!$A$42=TRUE,Edit!V10,IF(OR(V10=1,V10=2),CHOOSE(MIN(5,BBlues!V10+BReds!V10),0,0,V10,V10,0),IF(BBlues!V10+BReds!V10=3,IF(BBlues!V10>BReds!V10,1,2),0)))","v":0},{"$f":"IF(Edit!$A$42=TRUE,Edit!W10,IF(OR(W10=1,W10=2),CHOOSE(MIN(5,BBlues!W10+BReds!W10),0,0,W10,W10,0),IF(BBlues!W10+BReds!W10=3,IF(BBlues!W10>BReds!W10,1,2),0)))","v":0},{"$f":"IF(Edit!$A$42=TRUE,Edit!X10,IF(OR(X10=1,X10=2),CHOOSE(MIN(5,BBlues!X10+BReds!X10),0,0,X10,X10,0),IF(BBlues!X10+BReds!X10=3,IF(BBlues!X10>BReds!X10,1,2),0)))","v":0},{"$f":"IF(Edit!$A$42=TRUE,Edit!Y10,IF(OR(Y10=1,Y10=2),CHOOSE(MIN(5,BBlues!Y10+BReds!Y10),0,0,Y10,Y10,0),IF(BBlues!Y10+BReds!Y10=3,IF(BBlues!Y10>BReds!Y10,1,2),0)))","v":0},{"$f":"IF(Edit!$A$42=TRUE,Edit!Z10,IF(OR(Z10=1,Z10=2),CHOOSE(MIN(5,BBlues!Z10+BReds!Z10),0,0,Z10,Z10,0),IF(BBlues!Z10+BReds!Z10=3,IF(BBlues!Z10>BReds!Z10,1,2),0)))","v":0},{"$f":"IF(Edit!$A$42=TRUE,Edit!AA10,IF(OR(AA10=1,AA10=2),CHOOSE(MIN(5,BBlues!AA10+BReds!AA10),0,0,AA10,AA10,0),IF(BBlues!AA10+BReds!AA10=3,IF(BBlues!AA10>BReds!AA10,1,2),0)))","v":0},{"$f":"IF(Edit!$A$42=TRUE,Edit!AB10,IF(OR(AB10=1,AB10=2),CHOOSE(MIN(5,BBlues!AB10+BReds!AB10),0,0,AB10,AB10,0),IF(BBlues!AB10+BReds!AB10=3,IF(BBlues!AB10>BReds!AB10,1,2),0)))","v":0},{"$f":"IF(Edit!$A$42=TRUE,Edit!AC10,IF(OR(AC10=1,AC10=2),CHOOSE(MIN(5,BBlues!AC10+BReds!AC10),0,0,AC10,AC10,0),IF(BBlues!AC10+BReds!AC10=3,IF(BBlues!AC10>BReds!AC10,1,2),0)))","v":0},{"$f":"IF(Edit!$A$42=TRUE,Edit!AD10,IF(OR(AD10=1,AD10=2),CHOOSE(MIN(5,BBlues!AD10+BReds!AD10),0,0,AD10,AD10,0),IF(BBlues!AD10+BReds!AD10=3,IF(BBlues!AD10>BReds!AD10,1,2),0)))","v":0},{"$f":"IF(Edit!$A$42=TRUE,Edit!AE10,IF(OR(AE10=1,AE10=2),CHOOSE(MIN(5,BBlues!AE10+BReds!AE10),0,0,AE10,AE10,0),IF(BBlues!AE10+BReds!AE10=3,IF(BBlues!AE10>BReds!AE10,1,2),0)))","v":0},{"$f":"IF(Edit!$A$42=TRUE,Edit!AF10,IF(OR(AF10=1,AF10=2),CHOOSE(MIN(5,BBlues!AF10+BReds!AF10),0,0,AF10,AF10,0),IF(BBlues!AF10+BReds!AF10=3,IF(BBlues!AF10>BReds!AF10,1,2),0)))","v":0},{"$f":"IF(Edit!$A$42=TRUE,Edit!AG10,IF(OR(AG10=1,AG10=2),CHOOSE(MIN(5,BBlues!AG10+BReds!AG10),0,0,AG10,AG10,0),IF(BBlues!AG10+BReds!AG10=3,IF(BBlues!AG10>BReds!AG10,1,2),0)))","v":0},{"$f":"IF(Edit!$A$42=TRUE,Edit!AH10,IF(OR(AH10=1,AH10=2),CHOOSE(MIN(5,BBlues!AH10+BReds!AH10),0,0,AH10,AH10,0),IF(BBlues!AH10+BReds!AH10=3,IF(BBlues!AH10>BReds!AH10,1,2),0)))","v":0},{"$f":"IF(Edit!$A$42=TRUE,Edit!AI10,IF(OR(AI10=1,AI10=2),CHOOSE(MIN(5,BBlues!AI10+BReds!AI10),0,0,AI10,AI10,0),IF(BBlues!AI10+BReds!AI10=3,IF(BBlues!AI10>BReds!AI10,1,2),0)))","v":0},{"$f":"IF(Edit!$A$42=TRUE,Edit!AJ10,IF(OR(AJ10=1,AJ10=2),CHOOSE(MIN(5,BBlues!AJ10+BReds!AJ10),0,0,AJ10,AJ10,0),IF(BBlues!AJ10+BReds!AJ10=3,IF(BBlues!AJ10>BReds!AJ10,1,2),0)))","v":0},{"$f":"IF(Edit!$A$42=TRUE,Edit!AK10,IF(OR(AK10=1,AK10=2),CHOOSE(MIN(5,BBlues!AK10+BReds!AK10),0,0,AK10,AK10,0),IF(BBlues!AK10+BReds!AK10=3,IF(BBlues!AK10>BReds!AK10,1,2),0)))","v":0},{"$f":"IF(Edit!$A$42=TRUE,Edit!AL10,IF(OR(AL10=1,AL10=2),CHOOSE(MIN(5,BBlues!AL10+BReds!AL10),0,0,AL10,AL10,0),IF(BBlues!AL10+BReds!AL10=3,IF(BBlues!AL10>BReds!AL10,1,2),0)))","v":0}]
[null,{"$f":"IF(Edit!$A$42=TRUE,Edit!B11,IF(OR(B11=1,B11=2),CHOOSE(MIN(5,BBlues!B11+BReds!B11),0,0,B11,B11,0),IF(BBlues!B11+BReds!B11=3,IF(BBlues!B11>BReds!B11,1,2),0)))","v":0},{"$f":"IF(Edit!$A$42=TRUE,Edit!C11,IF(OR(C11=1,C11=2),CHOOSE(MIN(5,BBlues!C11+BReds!C11),0,0,C11,C11,0),IF(BBlues!C11+BReds!C11=3,IF(BBlues!C11>BReds!C11,1,2),0)))","v":0},{"$f":"IF(Edit!$A$42=TRUE,Edit!D11,IF(OR(D11=1,D11=2),CHOOSE(MIN(5,BBlues!D11+BReds!D11),0,0,D11,D11,0),IF(BBlues!D11+BReds!D11=3,IF(BBlues!D11>BReds!D11,1,2),0)))","v":0},{"$f":"IF(Edit!$A$42=TRUE,Edit!E11,IF(OR(E11=1,E11=2),CHOOSE(MIN(5,BBlues!E11+BReds!E11),0,0,E11,E11,0),IF(BBlues!E11+BReds!E11=3,IF(BBlues!E11>BReds!E11,1,2),0)))","v":0},{"$f":"IF(Edit!$A$42=TRUE,Edit!F11,IF(OR(F11=1,F11=2),CHOOSE(MIN(5,BBlues!F11+BReds!F11),0,0,F11,F11,0),IF(BBlues!F11+BReds!F11=3,IF(BBlues!F11>BReds!F11,1,2),0)))","v":0},{"$f":"IF(Edit!$A$42=TRUE,Edit!G11,IF(OR(G11=1,G11=2),CHOOSE(MIN(5,BBlues!G11+BReds!G11),0,0,G11,G11,0),IF(BBlues!G11+BReds!G11=3,IF(BBlues!G11>BReds!G11,1,2),0)))","v":0},{"$f":"IF(Edit!$A$42=TRUE,Edit!H11,IF(OR(H11=1,H11=2),CHOOSE(MIN(5,BBlues!H11+BReds!H11),0,0,H11,H11,0),IF(BBlues!H11+BReds!H11=3,IF(BBlues!H11>BReds!H11,1,2),0)))","v":0},{"$f":"IF(Edit!$A$42=TRUE,Edit!I11,IF(OR(I11=1,I11=2),CHOOSE(MIN(5,BBlues!I11+BReds!I11),0,0,I11,I11,0),IF(BBlues!I11+BReds!I11=3,IF(BBlues!I11>BReds!I11,1,2),0)))","v":0},{"$f":"IF(Edit!$A$42=TRUE,Edit!J11,IF(OR(J11=1,J11=2),CHOOSE(MIN(5,BBlues!J11+BReds!J11),0,0,J11,J11,0),IF(BBlues!J11+BReds!J11=3,IF(BBlues!J11>BReds!J11,1,2),0)))","v":0},{"$f":"IF(Edit!$A$42=TRUE,Edit!K11,IF(OR(K11=1,K11=2),CHOOSE(MIN(5,BBlues!K11+BReds!K11),0,0,K11,K11,0),IF(BBlues!K11+BReds!K11=3,IF(BBlues!K11>BReds!K11,1,2),0)))","v":0},{"$f":"IF(Edit!$A$42=TRUE,Edit!L11,IF(OR(L11=1,L11=2),CHOOSE(MIN(5,BBlues!L11+BReds!L11),0,0,L11,L11,0),IF(BBlues!L11+BReds!L11=3,IF(BBlues!L11>BReds!L11,1,2),0)))","v":0},{"$f":"IF(Edit!$A$42=TRUE,Edit!M11,IF(OR(M11=1,M11=2),CHOOSE(MIN(5,BBlues!M11+BReds!M11),0,0,M11,M11,0),IF(BBlues!M11+BReds!M11=3,IF(BBlues!M11>BReds!M11,1,2),0)))","v":0},{"$f":"IF(Edit!$A$42=TRUE,Edit!N11,IF(OR(N11=1,N11=2),CHOOSE(MIN(5,BBlues!N11+BReds!N11),0,0,N11,N11,0),IF(BBlues!N11+BReds!N11=3,IF(BBlues!N11>BReds!N11,1,2),0)))","v":0},{"$f":"IF(Edit!$A$42=TRUE,Edit!O11,IF(OR(O11=1,O11=2),CHOOSE(MIN(5,BBlues!O11+BReds!O11),0,0,O11,O11,0),IF(BBlues!O11+BReds!O11=3,IF(BBlues!O11>BReds!O11,1,2),0)))","v":0},{"$f":"IF(Edit!$A$42=TRUE,Edit!P11,IF(OR(P11=1,P11=2),CHOOSE(MIN(5,BBlues!P11+BReds!P11),0,0,P11,P11,0),IF(BBlues!P11+BReds!P11=3,IF(BBlues!P11>BReds!P11,1,2),0)))","v":0},{"$f":"IF(Edit!$A$42=TRUE,Edit!Q11,IF(OR(Q11=1,Q11=2),CHOOSE(MIN(5,BBlues!Q11+BReds!Q11),0,0,Q11,Q11,0),IF(BBlues!Q11+BReds!Q11=3,IF(BBlues!Q11>BReds!Q11,1,2),0)))","v":0},{"$f":"IF(Edit!$A$42=TRUE,Edit!R11,IF(OR(R11=1,R11=2),CHOOSE(MIN(5,BBlues!R11+BReds!R11),0,0,R11,R11,0),IF(BBlues!R11+BReds!R11=3,IF(BBlues!R11>BReds!R11,1,2),0)))","v":0},{"$f":"IF(Edit!$A$42=TRUE,Edit!S11,IF(OR(S11=1,S11=2),CHOOSE(MIN(5,BBlues!S11+BReds!S11),0,0,S11,S11,0),IF(BBlues!S11+BReds!S11=3,IF(BBlues!S11>BReds!S11,1,2),0)))","v":0},{"$f":"IF(Edit!$A$42=TRUE,Edit!T11,IF(OR(T11=1,T11=2),CHOOSE(MIN(5,BBlues!T11+BReds!T11),0,0,T11,T11,0),IF(BBlues!T11+BReds!T11=3,IF(BBlues!T11>BReds!T11,1,2),0)))","v":0},{"$f":"IF(Edit!$A$42=TRUE,Edit!U11,IF(OR(U11=1,U11=2),CHOOSE(MIN(5,BBlues!U11+BReds!U11),0,0,U11,U11,0),IF(BBlues!U11+BReds!U11=3,IF(BBlues!U11>BReds!U11,1,2),0)))","v":0},{"$f":"IF(Edit!$A$42=TRUE,Edit!V11,IF(OR(V11=1,V11=2),CHOOSE(MIN(5,BBlues!V11+BReds!V11),0,0,V11,V11,0),IF(BBlues!V11+BReds!V11=3,IF(BBlues!V11>BReds!V11,1,2),0)))","v":0},{"$f":"IF(Edit!$A$42=TRUE,Edit!W11,IF(OR(W11=1,W11=2),CHOOSE(MIN(5,BBlues!W11+BReds!W11),0,0,W11,W11,0),IF(BBlues!W11+BReds!W11=3,IF(BBlues!W11>BReds!W11,1,2),0)))","v":0},{"$f":"IF(Edit!$A$42=TRUE,Edit!X11,IF(OR(X11=1,X11=2),CHOOSE(MIN(5,BBlues!X11+BReds!X11),0,0,X11,X11,0),IF(BBlues!X11+BReds!X11=3,IF(BBlues!X11>BReds!X11,1,2),0)))","v":0},{"$f":"IF(Edit!$A$42=TRUE,Edit!Y11,IF(OR(Y11=1,Y11=2),CHOOSE(MIN(5,BBlues!Y11+BReds!Y11),0,0,Y11,Y11,0),IF(BBlues!Y11+BReds!Y11=3,IF(BBlues!Y11>BReds!Y11,1,2),0)))","v":0},{"$f":"IF(Edit!$A$42=TRUE,Edit!Z11,IF(OR(Z11=1,Z11=2),CHOOSE(MIN(5,BBlues!Z11+BReds!Z11),0,0,Z11,Z11,0),IF(BBlues!Z11+BReds!Z11=3,IF(BBlues!Z11>BReds!Z11,1,2),0)))","v":0},{"$f":"IF(Edit!$A$42=TRUE,Edit!AA11,IF(OR(AA11=1,AA11=2),CHOOSE(MIN(5,BBlues!AA11+BReds!AA11),0,0,AA11,AA11,0),IF(BBlues!AA11+BReds!AA11=3,IF(BBlues!AA11>BReds!AA11,1,2),0)))","v":0},{"$f":"IF(Edit!$A$42=TRUE,Edit!AB11,IF(OR(AB11=1,AB11=2),CHOOSE(MIN(5,BBlues!AB11+BReds!AB11),0,0,AB11,AB11,0),IF(BBlues!AB11+BReds!AB11=3,IF(BBlues!AB11>BReds!AB11,1,2),0)))","v":0},{"$f":"IF(Edit!$A$42=TRUE,Edit!AC11,IF(OR(AC11=1,AC11=2),CHOOSE(MIN(5,BBlues!AC11+BReds!AC11),0,0,AC11,AC11,0),IF(BBlues!AC11+BReds!AC11=3,IF(BBlues!AC11>BReds!AC11,1,2),0)))","v":0},{"$f":"IF(Edit!$A$42=TRUE,Edit!AD11,IF(OR(AD11=1,AD11=2),CHOOSE(MIN(5,BBlues!AD11+BReds!AD11),0,0,AD11,AD11,0),IF(BBlues!AD11+BReds!AD11=3,IF(BBlues!AD11>BReds!AD11,1,2),0)))","v":0},{"$f":"IF(Edit!$A$42=TRUE,Edit!AE11,IF(OR(AE11=1,AE11=2),CHOOSE(MIN(5,BBlues!AE11+BReds!AE11),0,0,AE11,AE11,0),IF(BBlues!AE11+BReds!AE11=3,IF(BBlues!AE11>BReds!AE11,1,2),0)))","v":0},{"$f":"IF(Edit!$A$42=TRUE,Edit!AF11,IF(OR(AF11=1,AF11=2),CHOOSE(MIN(5,BBlues!AF11+BReds!AF11),0,0,AF11,AF11,0),IF(BBlues!AF11+BReds!AF11=3,IF(BBlues!AF11>BReds!AF11,1,2),0)))","v":0},{"$f":"IF(Edit!$A$42=TRUE,Edit!AG11,IF(OR(AG11=1,AG11=2),CHOOSE(MIN(5,BBlues!AG11+BReds!AG11),0,0,AG11,AG11,0),IF(BBlues!AG11+BReds!AG11=3,IF(BBlues!AG11>BReds!AG11,1,2),0)))","v":0},{"$f":"IF(Edit!$A$42=TRUE,Edit!AH11,IF(OR(AH11=1,AH11=2),CHOOSE(MIN(5,BBlues!AH11+BReds!AH11),0,0,AH11,AH11,0),IF(BBlues!AH11+BReds!AH11=3,IF(BBlues!AH11>BReds!AH11,1,2),0)))","v":0},{"$f":"IF(Edit!$A$42=TRUE,Edit!AI11,IF(OR(AI11=1,AI11=2),CHOOSE(MIN(5,BBlues!AI11+BReds!AI11),0,0,AI11,AI11,0),IF(BBlues!AI11+BReds!AI11=3,IF(BBlues!AI11>BReds!AI11,1,2),0)))","v":0},{"$f":"IF(Edit!$A$42=TRUE,Edit!AJ11,IF(OR(AJ11=1,AJ11=2),CHOOSE(MIN(5,BBlues!AJ11+BReds!AJ11),0,0,AJ11,AJ11,0),IF(BBlues!AJ11+BReds!AJ11=3,IF(BBlues!AJ11>BReds!AJ11,1,2),0)))","v":0},{"$f":"IF(Edit!$A$42=TRUE,Edit!AK11,IF(OR(AK11=1,AK11=2),CHOOSE(MIN(5,BBlues!AK11+BReds!AK11),0,0,AK11,AK11,0),IF(BBlues!AK11+BReds!AK11=3,IF(BBlues!AK11>BReds!AK11,1,2),0)))","v":0},{"$f":"IF(Edit!$A$42=TRUE,Edit!AL11,IF(OR(AL11=1,AL11=2),CHOOSE(MIN(5,BBlues!AL11+BReds!AL11),0,0,AL11,AL11,0),IF(BBlues!AL11+BReds!AL11=3,IF(BBlues!AL11>BReds!AL11,1,2),0)))","v":0}]
[null,{"$f":"IF(Edit!$A$42=TRUE,Edit!B12,IF(OR(B12=1,B12=2),CHOOSE(MIN(5,BBlues!B12+BReds!B12),0,0,B12,B12,0),IF(BBlues!B12+BReds!B12=3,IF(BBlues!B12>BReds!B12,1,2),0)))","v":0},{"$f":"IF(Edit!$A$42=TRUE,Edit!C12,IF(OR(C12=1,C12=2),CHOOSE(MIN(5,BBlues!C12+BReds!C12),0,0,C12,C12,0),IF(BBlues!C12+BReds!C12=3,IF(BBlues!C12>BReds!C12,1,2),0)))","v":0},{"$f":"IF(Edit!$A$42=TRUE,Edit!D12,IF(OR(D12=1,D12=2),CHOOSE(MIN(5,BBlues!D12+BReds!D12),0,0,D12,D12,0),IF(BBlues!D12+BReds!D12=3,IF(BBlues!D12>BReds!D12,1,2),0)))","v":0},{"$f":"IF(Edit!$A$42=TRUE,Edit!E12,IF(OR(E12=1,E12=2),CHOOSE(MIN(5,BBlues!E12+BReds!E12),0,0,E12,E12,0),IF(BBlues!E12+BReds!E12=3,IF(BBlues!E12>BReds!E12,1,2),0)))","v":0},{"$f":"IF(Edit!$A$42=TRUE,Edit!F12,IF(OR(F12=1,F12=2),CHOOSE(MIN(5,BBlues!F12+BReds!F12),0,0,F12,F12,0),IF(BBlues!F12+BReds!F12=3,IF(BBlues!F12>BReds!F12,1,2),0)))","v":0},{"$f":"IF(Edit!$A$42=TRUE,Edit!G12,IF(OR(G12=1,G12=2),CHOOSE(MIN(5,BBlues!G12+BReds!G12),0,0,G12,G12,0),IF(BBlues!G12+BReds!G12=3,IF(BBlues!G12>BReds!G12,1,2),0)))","v":0},{"$f":"IF(Edit!$A$42=TRUE,Edit!H12,IF(OR(H12=1,H12=2),CHOOSE(MIN(5,BBlues!H12+BReds!H12),0,0,H12,H12,0),IF(BBlues!H12+BReds!H12=3,IF(BBlues!H12>BReds!H12,1,2),0)))","v":0},{"$f":"IF(Edit!$A$42=TRUE,Edit!I12,IF(OR(I12=1,I12=2),CHOOSE(MIN(5,BBlues!I12+BReds!I12),0,0,I12,I12,0),IF(BBlues!I12+BReds!I12=3,IF(BBlues!I12>BReds!I12,1,2),0)))","v":0},{"$f":"IF(Edit!$A$42=TRUE,Edit!J12,IF(OR(J12=1,J12=2),CHOOSE(MIN(5,BBlues!J12+BReds!J12),0,0,J12,J12,0),IF(BBlues!J12+BReds!J12=3,IF(BBlues!J12>BReds!J12,1,2),0)))","v":0},{"$f":"IF(Edit!$A$42=TRUE,Edit!K12,IF(OR(K12=1,K12=2),CHOOSE(MIN(5,BBlues!K12+BReds!K12),0,0,K12,K12,0),IF(BBlues!K12+BReds!K12=3,IF(BBlues!K12>BReds!K12,1,2),0)))","v":0},{"$f":"IF(Edit!$A$42=TRUE,Edit!L12,IF(OR(L12=1,L12=2),CHOOSE(MIN(5,BBlues!L12+BReds!L12),0,0,L12,L12,0),IF(BBlues!L12+BReds!L12=3,IF(BBlues!L12>BReds!L12,1,2),0)))","v":0},{"$f":"IF(Edit!$A$42=TRUE,Edit!M12,IF(OR(M12=1,M12=2),CHOOSE(MIN(5,BBlues!M12+BReds!M12),0,0,M12,M12,0),IF(BBlues!M12+BReds!M12=3,IF(BBlues!M12>BReds!M12,1,2),0)))","v":0},{"$f":"IF(Edit!$A$42=TRUE,Edit!N12,IF(OR(N12=1,N12=2),CHOOSE(MIN(5,BBlues!N12+BReds!N12),0,0,N12,N12,0),IF(BBlues!N12+BReds!N12=3,IF(BBlues!N12>BReds!N12,1,2),0)))","v":0},{"$f":"IF(Edit!$A$42=TRUE,Edit!O12,IF(OR(O12=1,O12=2),CHOOSE(MIN(5,BBlues!O12+BReds!O12),0,0,O12,O12,0),IF(BBlues!O12+BReds!O12=3,IF(BBlues!O12>BReds!O12,1,2),0)))","v":0},{"$f":"IF(Edit!$A$42=TRUE,Edit!P12,IF(OR(P12=1,P12=2),CHOOSE(MIN(5,BBlues!P12+BReds!P12),0,0,P12,P12,0),IF(BBlues!P12+BReds!P12=3,IF(BBlues!P12>BReds!P12,1,2),0)))","v":0},{"$f":"IF(Edit!$A$42=TRUE,Edit!Q12,IF(OR(Q12=1,Q12=2),CHOOSE(MIN(5,BBlues!Q12+BReds!Q12),0,0,Q12,Q12,0),IF(BBlues!Q12+BReds!Q12=3,IF(BBlues!Q12>BReds!Q12,1,2),0)))","v":0},{"$f":"IF(Edit!$A$42=TRUE,Edit!R12,IF(OR(R12=1,R12=2),CHOOSE(MIN(5,BBlues!R12+BReds!R12),0,0,R12,R12,0),IF(BBlues!R12+BReds!R12=3,IF(BBlues!R12>BReds!R12,1,2),0)))","v":0},{"$f":"IF(Edit!$A$42=TRUE,Edit!S12,IF(OR(S12=1,S12=2),CHOOSE(MIN(5,BBlues!S12+BReds!S12),0,0,S12,S12,0),IF(BBlues!S12+BReds!S12=3,IF(BBlues!S12>BReds!S12,1,2),0)))","v":0},{"$f":"IF(Edit!$A$42=TRUE,Edit!T12,IF(OR(T12=1,T12=2),CHOOSE(MIN(5,BBlues!T12+BReds!T12),0,0,T12,T12,0),IF(BBlues!T12+BReds!T12=3,IF(BBlues!T12>BReds!T12,1,2),0)))","v":0},{"$f":"IF(Edit!$A$42=TRUE,Edit!U12,IF(OR(U12=1,U12=2),CHOOSE(MIN(5,BBlues!U12+BReds!U12),0,0,U12,U12,0),IF(BBlues!U12+BReds!U12=3,IF(BBlues!U12>BReds!U12,1,2),0)))","v":0},{"$f":"IF(Edit!$A$42=TRUE,Edit!V12,IF(OR(V12=1,V12=2),CHOOSE(MIN(5,BBlues!V12+BReds!V12),0,0,V12,V12,0),IF(BBlues!V12+BReds!V12=3,IF(BBlues!V12>BReds!V12,1,2),0)))","v":0},{"$f":"IF(Edit!$A$42=TRUE,Edit!W12,IF(OR(W12=1,W12=2),CHOOSE(MIN(5,BBlues!W12+BReds!W12),0,0,W12,W12,0),IF(BBlues!W12+BReds!W12=3,IF(BBlues!W12>BReds!W12,1,2),0)))","v":0},{"$f":"IF(Edit!$A$42=TRUE,Edit!X12,IF(OR(X12=1,X12=2),CHOOSE(MIN(5,BBlues!X12+BReds!X12),0,0,X12,X12,0),IF(BBlues!X12+BReds!X12=3,IF(BBlues!X12>BReds!X12,1,2),0)))","v":0},{"$f":"IF(Edit!$A$42=TRUE,Edit!Y12,IF(OR(Y12=1,Y12=2),CHOOSE(MIN(5,BBlues!Y12+BReds!Y12),0,0,Y12,Y12,0),IF(BBlues!Y12+BReds!Y12=3,IF(BBlues!Y12>BReds!Y12,1,2),0)))","v":0},{"$f":"IF(Edit!$A$42=TRUE,Edit!Z12,IF(OR(Z12=1,Z12=2),CHOOSE(MIN(5,BBlues!Z12+BReds!Z12),0,0,Z12,Z12,0),IF(BBlues!Z12+BReds!Z12=3,IF(BBlues!Z12>BReds!Z12,1,2),0)))","v":0},{"$f":"IF(Edit!$A$42=TRUE,Edit!AA12,IF(OR(AA12=1,AA12=2),CHOOSE(MIN(5,BBlues!AA12+BReds!AA12),0,0,AA12,AA12,0),IF(BBlues!AA12+BReds!AA12=3,IF(BBlues!AA12>BReds!AA12,1,2),0)))","v":0},{"$f":"IF(Edit!$A$42=TRUE,Edit!AB12,IF(OR(AB12=1,AB12=2),CHOOSE(MIN(5,BBlues!AB12+BReds!AB12),0,0,AB12,AB12,0),IF(BBlues!AB12+BReds!AB12=3,IF(BBlues!AB12>BReds!AB12,1,2),0)))","v":0},{"$f":"IF(Edit!$A$42=TRUE,Edit!AC12,IF(OR(AC12=1,AC12=2),CHOOSE(MIN(5,BBlues!AC12+BReds!AC12),0,0,AC12,AC12,0),IF(BBlues!AC12+BReds!AC12=3,IF(BBlues!AC12>BReds!AC12,1,2),0)))","v":0},{"$f":"IF(Edit!$A$42=TRUE,Edit!AD12,IF(OR(AD12=1,AD12=2),CHOOSE(MIN(5,BBlues!AD12+BReds!AD12),0,0,AD12,AD12,0),IF(BBlues!AD12+BReds!AD12=3,IF(BBlues!AD12>BReds!AD12,1,2),0)))","v":0},{"$f":"IF(Edit!$A$42=TRUE,Edit!AE12,IF(OR(AE12=1,AE12=2),CHOOSE(MIN(5,BBlues!AE12+BReds!AE12),0,0,AE12,AE12,0),IF(BBlues!AE12+BReds!AE12=3,IF(BBlues!AE12>BReds!AE12,1,2),0)))","v":0},{"$f":"IF(Edit!$A$42=TRUE,Edit!AF12,IF(OR(AF12=1,AF12=2),CHOOSE(MIN(5,BBlues!AF12+BReds!AF12),0,0,AF12,AF12,0),IF(BBlues!AF12+BReds!AF12=3,IF(BBlues!AF12>BReds!AF12,1,2),0)))","v":0},{"$f":"IF(Edit!$A$42=TRUE,Edit!AG12,IF(OR(AG12=1,AG12=2),CHOOSE(MIN(5,BBlues!AG12+BReds!AG12),0,0,AG12,AG12,0),IF(BBlues!AG12+BReds!AG12=3,IF(BBlues!AG12>BReds!AG12,1,2),0)))","v":0},{"$f":"IF(Edit!$A$42=TRUE,Edit!AH12,IF(OR(AH12=1,AH12=2),CHOOSE(MIN(5,BBlues!AH12+BReds!AH12),0,0,AH12,AH12,0),IF(BBlues!AH12+BReds!AH12=3,IF(BBlues!AH12>BReds!AH12,1,2),0)))","v":0},{"$f":"IF(Edit!$A$42=TRUE,Edit!AI12,IF(OR(AI12=1,AI12=2),CHOOSE(MIN(5,BBlues!AI12+BReds!AI12),0,0,AI12,AI12,0),IF(BBlues!AI12+BReds!AI12=3,IF(BBlues!AI12>BReds!AI12,1,2),0)))","v":0},{"$f":"IF(Edit!$A$42=TRUE,Edit!AJ12,IF(OR(AJ12=1,AJ12=2),CHOOSE(MIN(5,BBlues!AJ12+BReds!AJ12),0,0,AJ12,AJ12,0),IF(BBlues!AJ12+BReds!AJ12=3,IF(BBlues!AJ12>BReds!AJ12,1,2),0)))","v":0},{"$f":"IF(Edit!$A$42=TRUE,Edit!AK12,IF(OR(AK12=1,AK12=2),CHOOSE(MIN(5,BBlues!AK12+BReds!AK12),0,0,AK12,AK12,0),IF(BBlues!AK12+BReds!AK12=3,IF(BBlues!AK12>BReds!AK12,1,2),0)))","v":0},{"$f":"IF(Edit!$A$42=TRUE,Edit!AL12,IF(OR(AL12=1,AL12=2),CHOOSE(MIN(5,BBlues!AL12+BReds!AL12),0,0,AL12,AL12,0),IF(BBlues!AL12+BReds!AL12=3,IF(BBlues!AL12>BReds!AL12,1,2),0)))","v":0}]
[null,{"$f":"IF(Edit!$A$42=TRUE,Edit!B13,IF(OR(B13=1,B13=2),CHOOSE(MIN(5,BBlues!B13+BReds!B13),0,0,B13,B13,0),IF(BBlues!B13+BReds!B13=3,IF(BBlues!B13>BReds!B13,1,2),0)))","v":0},{"$f":"IF(Edit!$A$42=TRUE,Edit!C13,IF(OR(C13=1,C13=2),CHOOSE(MIN(5,BBlues!C13+BReds!C13),0,0,C13,C13,0),IF(BBlues!C13+BReds!C13=3,IF(BBlues!C13>BReds!C13,1,2),0)))","v":0},{"$f":"IF(Edit!$A$42=TRUE,Edit!D13,IF(OR(D13=1,D13=2),CHOOSE(MIN(5,BBlues!D13+BReds!D13),0,0,D13,D13,0),IF(BBlues!D13+BReds!D13=3,IF(BBlues!D13>BReds!D13,1,2),0)))","v":0},{"$f":"IF(Edit!$A$42=TRUE,Edit!E13,IF(OR(E13=1,E13=2),CHOOSE(MIN(5,BBlues!E13+BReds!E13),0,0,E13,E13,0),IF(BBlues!E13+BReds!E13=3,IF(BBlues!E13>BReds!E13,1,2),0)))","v":0},{"$f":"IF(Edit!$A$42=TRUE,Edit!F13,IF(OR(F13=1,F13=2),CHOOSE(MIN(5,BBlues!F13+BReds!F13),0,0,F13,F13,0),IF(BBlues!F13+BReds!F13=3,IF(BBlues!F13>BReds!F13,1,2),0)))","v":0},{"$f":"IF(Edit!$A$42=TRUE,Edit!G13,IF(OR(G13=1,G13=2),CHOOSE(MIN(5,BBlues!G13+BReds!G13),0,0,G13,G13,0),IF(BBlues!G13+BReds!G13=3,IF(BBlues!G13>BReds!G13,1,2),0)))","v":0},{"$f":"IF(Edit!$A$42=TRUE,Edit!H13,IF(OR(H13=1,H13=2),CHOOSE(MIN(5,BBlues!H13+BReds!H13),0,0,H13,H13,0),IF(BBlues!H13+BReds!H13=3,IF(BBlues!H13>BReds!H13,1,2),0)))","v":0},{"$f":"IF(Edit!$A$42=TRUE,Edit!I13,IF(OR(I13=1,I13=2),CHOOSE(MIN(5,BBlues!I13+BReds!I13),0,0,I13,I13,0),IF(BBlues!I13+BReds!I13=3,IF(BBlues!I13>BReds!I13,1,2),0)))","v":0},{"$f":"IF(Edit!$A$42=TRUE,Edit!J13,IF(OR(J13=1,J13=2),CHOOSE(MIN(5,BBlues!J13+BReds!J13),0,0,J13,J13,0),IF(BBlues!J13+BReds!J13=3,IF(BBlues!J13>BReds!J13,1,2),0)))","v":0},{"$f":"IF(Edit!$A$42=TRUE,Edit!K13,IF(OR(K13=1,K13=2),CHOOSE(MIN(5,BBlues!K13+BReds!K13),0,0,K13,K13,0),IF(BBlues!K13+BReds!K13=3,IF(BBlues!K13>BReds!K13,1,2),0)))","v":0},{"$f":"IF(Edit!$A$42=TRUE,Edit!L13,IF(OR(L13=1,L13=2),CHOOSE(MIN(5,BBlues!L13+BReds!L13),0,0,L13,L13,0),IF(BBlues!L13+BReds!L13=3,IF(BBlues!L13>BReds!L13,1,2),0)))","v":0},{"$f":"IF(Edit!$A$42=TRUE,Edit!M13,IF(OR(M13=1,M13=2),CHOOSE(MIN(5,BBlues!M13+BReds!M13),0,0,M13,M13,0),IF(BBlues!M13+BReds!M13=3,IF(BBlues!M13>BReds!M13,1,2),0)))","v":0},{"$f":"IF(Edit!$A$42=TRUE,Edit!N13,IF(OR(N13=1,N13=2),CHOOSE(MIN(5,BBlues!N13+BReds!N13),0,0,N13,N13,0),IF(BBlues!N13+BReds!N13=3,IF(BBlues!N13>BReds!N13,1,2),0)))","v":0},{"$f":"IF(Edit!$A$42=TRUE,Edit!O13,IF(OR(O13=1,O13=2),CHOOSE(MIN(5,BBlues!O13+BReds!O13),0,0,O13,O13,0),IF(BBlues!O13+BReds!O13=3,IF(BBlues!O13>BReds!O13,1,2),0)))","v":0},{"$f":"IF(Edit!$A$42=TRUE,Edit!P13,IF(OR(P13=1,P13=2),CHOOSE(MIN(5,BBlues!P13+BReds!P13),0,0,P13,P13,0),IF(BBlues!P13+BReds!P13=3,IF(BBlues!P13>BReds!P13,1,2),0)))","v":0},{"$f":"IF(Edit!$A$42=TRUE,Edit!Q13,IF(OR(Q13=1,Q13=2),CHOOSE(MIN(5,BBlues!Q13+BReds!Q13),0,0,Q13,Q13,0),IF(BBlues!Q13+BReds!Q13=3,IF(BBlues!Q13>BReds!Q13,1,2),0)))","v":0},{"$f":"IF(Edit!$A$42=TRUE,Edit!R13,IF(OR(R13=1,R13=2),CHOOSE(MIN(5,BBlues!R13+BReds!R13),0,0,R13,R13,0),IF(BBlues!R13+BReds!R13=3,IF(BBlues!R13>BReds!R13,1,2),0)))","v":0},{"$f":"IF(Edit!$A$42=TRUE,Edit!S13,IF(OR(S13=1,S13=2),CHOOSE(MIN(5,BBlues!S13+BReds!S13),0,0,S13,S13,0),IF(BBlues!S13+BReds!S13=3,IF(BBlues!S13>BReds!S13,1,2),0)))","v":0},{"$f":"IF(Edit!$A$42=TRUE,Edit!T13,IF(OR(T13=1,T13=2),CHOOSE(MIN(5,BBlues!T13+BReds!T13),0,0,T13,T13,0),IF(BBlues!T13+BReds!T13=3,IF(BBlues!T13>BReds!T13,1,2),0)))","v":0},{"$f":"IF(Edit!$A$42=TRUE,Edit!U13,IF(OR(U13=1,U13=2),CHOOSE(MIN(5,BBlues!U13+BReds!U13),0,0,U13,U13,0),IF(BBlues!U13+BReds!U13=3,IF(BBlues!U13>BReds!U13,1,2),0)))","v":0},{"$f":"IF(Edit!$A$42=TRUE,Edit!V13,IF(OR(V13=1,V13=2),CHOOSE(MIN(5,BBlues!V13+BReds!V13),0,0,V13,V13,0),IF(BBlues!V13+BReds!V13=3,IF(BBlues!V13>BReds!V13,1,2),0)))","v":0},{"$f":"IF(Edit!$A$42=TRUE,Edit!W13,IF(OR(W13=1,W13=2),CHOOSE(MIN(5,BBlues!W13+BReds!W13),0,0,W13,W13,0),IF(BBlues!W13+BReds!W13=3,IF(BBlues!W13>BReds!W13,1,2),0)))","v":0},{"$f":"IF(Edit!$A$42=TRUE,Edit!X13,IF(OR(X13=1,X13=2),CHOOSE(MIN(5,BBlues!X13+BReds!X13),0,0,X13,X13,0),IF(BBlues!X13+BReds!X13=3,IF(BBlues!X13>BReds!X13,1,2),0)))","v":0},{"$f":"IF(Edit!$A$42=TRUE,Edit!Y13,IF(OR(Y13=1,Y13=2),CHOOSE(MIN(5,BBlues!Y13+BReds!Y13),0,0,Y13,Y13,0),IF(BBlues!Y13+BReds!Y13=3,IF(BBlues!Y13>BReds!Y13,1,2),0)))","v":0},{"$f":"IF(Edit!$A$42=TRUE,Edit!Z13,IF(OR(Z13=1,Z13=2),CHOOSE(MIN(5,BBlues!Z13+BReds!Z13),0,0,Z13,Z13,0),IF(BBlues!Z13+BReds!Z13=3,IF(BBlues!Z13>BReds!Z13,1,2),0)))","v":0},{"$f":"IF(Edit!$A$42=TRUE,Edit!AA13,IF(OR(AA13=1,AA13=2),CHOOSE(MIN(5,BBlues!AA13+BReds!AA13),0,0,AA13,AA13,0),IF(BBlues!AA13+BReds!AA13=3,IF(BBlues!AA13>BReds!AA13,1,2),0)))","v":0},{"$f":"IF(Edit!$A$42=TRUE,Edit!AB13,IF(OR(AB13=1,AB13=2),CHOOSE(MIN(5,BBlues!AB13+BReds!AB13),0,0,AB13,AB13,0),IF(BBlues!AB13+BReds!AB13=3,IF(BBlues!AB13>BReds!AB13,1,2),0)))","v":0},{"$f":"IF(Edit!$A$42=TRUE,Edit!AC13,IF(OR(AC13=1,AC13=2),CHOOSE(MIN(5,BBlues!AC13+BReds!AC13),0,0,AC13,AC13,0),IF(BBlues!AC13+BReds!AC13=3,IF(BBlues!AC13>BReds!AC13,1,2),0)))","v":0},{"$f":"IF(Edit!$A$42=TRUE,Edit!AD13,IF(OR(AD13=1,AD13=2),CHOOSE(MIN(5,BBlues!AD13+BReds!AD13),0,0,AD13,AD13,0),IF(BBlues!AD13+BReds!AD13=3,IF(BBlues!AD13>BReds!AD13,1,2),0)))","v":0},{"$f":"IF(Edit!$A$42=TRUE,Edit!AE13,IF(OR(AE13=1,AE13=2),CHOOSE(MIN(5,BBlues!AE13+BReds!AE13),0,0,AE13,AE13,0),IF(BBlues!AE13+BReds!AE13=3,IF(BBlues!AE13>BReds!AE13,1,2),0)))","v":0},{"$f":"IF(Edit!$A$42=TRUE,Edit!AF13,IF(OR(AF13=1,AF13=2),CHOOSE(MIN(5,BBlues!AF13+BReds!AF13),0,0,AF13,AF13,0),IF(BBlues!AF13+BReds!AF13=3,IF(BBlues!AF13>BReds!AF13,1,2),0)))","v":0},{"$f":"IF(Edit!$A$42=TRUE,Edit!AG13,IF(OR(AG13=1,AG13=2),CHOOSE(MIN(5,BBlues!AG13+BReds!AG13),0,0,AG13,AG13,0),IF(BBlues!AG13+BReds!AG13=3,IF(BBlues!AG13>BReds!AG13,1,2),0)))","v":0},{"$f":"IF(Edit!$A$42=TRUE,Edit!AH13,IF(OR(AH13=1,AH13=2),CHOOSE(MIN(5,BBlues!AH13+BReds!AH13),0,0,AH13,AH13,0),IF(BBlues!AH13+BReds!AH13=3,IF(BBlues!AH13>BReds!AH13,1,2),0)))","v":0},{"$f":"IF(Edit!$A$42=TRUE,Edit!AI13,IF(OR(AI13=1,AI13=2),CHOOSE(MIN(5,BBlues!AI13+BReds!AI13),0,0,AI13,AI13,0),IF(BBlues!AI13+BReds!AI13=3,IF(BBlues!AI13>BReds!AI13,1,2),0)))","v":0},{"$f":"IF(Edit!$A$42=TRUE,Edit!AJ13,IF(OR(AJ13=1,AJ13=2),CHOOSE(MIN(5,BBlues!AJ13+BReds!AJ13),0,0,AJ13,AJ13,0),IF(BBlues!AJ13+BReds!AJ13=3,IF(BBlues!AJ13>BReds!AJ13,1,2),0)))","v":0},{"$f":"IF(Edit!$A$42=TRUE,Edit!AK13,IF(OR(AK13=1,AK13=2),CHOOSE(MIN(5,BBlues!AK13+BReds!AK13),0,0,AK13,AK13,0),IF(BBlues!AK13+BReds!AK13=3,IF(BBlues!AK13>BReds!AK13,1,2),0)))","v":0},{"$f":"IF(Edit!$A$42=TRUE,Edit!AL13,IF(OR(AL13=1,AL13=2),CHOOSE(MIN(5,BBlues!AL13+BReds!AL13),0,0,AL13,AL13,0),IF(BBlues!AL13+BReds!AL13=3,IF(BBlues!AL13>BReds!AL13,1,2),0)))","v":0}]
[null,{"$f":"IF(Edit!$A$42=TRUE,Edit!B14,IF(OR(B14=1,B14=2),CHOOSE(MIN(5,BBlues!B14+BReds!B14),0,0,B14,B14,0),IF(BBlues!B14+BReds!B14=3,IF(BBlues!B14>BReds!B14,1,2),0)))","v":0},{"$f":"IF(Edit!$A$42=TRUE,Edit!C14,IF(OR(C14=1,C14=2),CHOOSE(MIN(5,BBlues!C14+BReds!C14),0,0,C14,C14,0),IF(BBlues!C14+BReds!C14=3,IF(BBlues!C14>BReds!C14,1,2),0)))","v":0},{"$f":"IF(Edit!$A$42=TRUE,Edit!D14,IF(OR(D14=1,D14=2),CHOOSE(MIN(5,BBlues!D14+BReds!D14),0,0,D14,D14,0),IF(BBlues!D14+BReds!D14=3,IF(BBlues!D14>BReds!D14,1,2),0)))","v":0},{"$f":"IF(Edit!$A$42=TRUE,Edit!E14,IF(OR(E14=1,E14=2),CHOOSE(MIN(5,BBlues!E14+BReds!E14),0,0,E14,E14,0),IF(BBlues!E14+BReds!E14=3,IF(BBlues!E14>BReds!E14,1,2),0)))","v":0},{"$f":"IF(Edit!$A$42=TRUE,Edit!F14,IF(OR(F14=1,F14=2),CHOOSE(MIN(5,BBlues!F14+BReds!F14),0,0,F14,F14,0),IF(BBlues!F14+BReds!F14=3,IF(BBlues!F14>BReds!F14,1,2),0)))","v":0},{"$f":"IF(Edit!$A$42=TRUE,Edit!G14,IF(OR(G14=1,G14=2),CHOOSE(MIN(5,BBlues!G14+BReds!G14),0,0,G14,G14,0),IF(BBlues!G14+BReds!G14=3,IF(BBlues!G14>BReds!G14,1,2),0)))","v":0},{"$f":"IF(Edit!$A$42=TRUE,Edit!H14,IF(OR(H14=1,H14=2),CHOOSE(MIN(5,BBlues!H14+BReds!H14),0,0,H14,H14,0),IF(BBlues!H14+BReds!H14=3,IF(BBlues!H14>BReds!H14,1,2),0)))","v":0},{"$f":"IF(Edit!$A$42=TRUE,Edit!I14,IF(OR(I14=1,I14=2),CHOOSE(MIN(5,BBlues!I14+BReds!I14),0,0,I14,I14,0),IF(BBlues!I14+BReds!I14=3,IF(BBlues!I14>BReds!I14,1,2),0)))","v":0},{"$f":"IF(Edit!$A$42=TRUE,Edit!J14,IF(OR(J14=1,J14=2),CHOOSE(MIN(5,BBlues!J14+BReds!J14),0,0,J14,J14,0),IF(BBlues!J14+BReds!J14=3,IF(BBlues!J14>BReds!J14,1,2),0)))","v":0},{"$f":"IF(Edit!$A$42=TRUE,Edit!K14,IF(OR(K14=1,K14=2),CHOOSE(MIN(5,BBlues!K14+BReds!K14),0,0,K14,K14,0),IF(BBlues!K14+BReds!K14=3,IF(BBlues!K14>BReds!K14,1,2),0)))","v":0},{"$f":"IF(Edit!$A$42=TRUE,Edit!L14,IF(OR(L14=1,L14=2),CHOOSE(MIN(5,BBlues!L14+BReds!L14),0,0,L14,L14,0),IF(BBlues!L14+BReds!L14=3,IF(BBlues!L14>BReds!L14,1,2),0)))","v":0},{"$f":"IF(Edit!$A$42=TRUE,Edit!M14,IF(OR(M14=1,M14=2),CHOOSE(MIN(5,BBlues!M14+BReds!M14),0,0,M14,M14,0),IF(BBlues!M14+BReds!M14=3,IF(BBlues!M14>BReds!M14,1,2),0)))","v":0},{"$f":"IF(Edit!$A$42=TRUE,Edit!N14,IF(OR(N14=1,N14=2),CHOOSE(MIN(5,BBlues!N14+BReds!N14),0,0,N14,N14,0),IF(BBlues!N14+BReds!N14=3,IF(BBlues!N14>BReds!N14,1,2),0)))","v":0},{"$f":"IF(Edit!$A$42=TRUE,Edit!O14,IF(OR(O14=1,O14=2),CHOOSE(MIN(5,BBlues!O14+BReds!O14),0,0,O14,O14,0),IF(BBlues!O14+BReds!O14=3,IF(BBlues!O14>BReds!O14,1,2),0)))","v":0},{"$f":"IF(Edit!$A$42=TRUE,Edit!P14,IF(OR(P14=1,P14=2),CHOOSE(MIN(5,BBlues!P14+BReds!P14),0,0,P14,P14,0),IF(BBlues!P14+BReds!P14=3,IF(BBlues!P14>BReds!P14,1,2),0)))","v":0},{"$f":"IF(Edit!$A$42=TRUE,Edit!Q14,IF(OR(Q14=1,Q14=2),CHOOSE(MIN(5,BBlues!Q14+BReds!Q14),0,0,Q14,Q14,0),IF(BBlues!Q14+BReds!Q14=3,IF(BBlues!Q14>BReds!Q14,1,2),0)))","v":0},{"$f":"IF(Edit!$A$42=TRUE,Edit!R14,IF(OR(R14=1,R14=2),CHOOSE(MIN(5,BBlues!R14+BReds!R14),0,0,R14,R14,0),IF(BBlues!R14+BReds!R14=3,IF(BBlues!R14>BReds!R14,1,2),0)))","v":0},{"$f":"IF(Edit!$A$42=TRUE,Edit!S14,IF(OR(S14=1,S14=2),CHOOSE(MIN(5,BBlues!S14+BReds!S14),0,0,S14,S14,0),IF(BBlues!S14+BReds!S14=3,IF(BBlues!S14>BReds!S14,1,2),0)))","v":0},{"$f":"IF(Edit!$A$42=TRUE,Edit!T14,IF(OR(T14=1,T14=2),CHOOSE(MIN(5,BBlues!T14+BReds!T14),0,0,T14,T14,0),IF(BBlues!T14+BReds!T14=3,IF(BBlues!T14>BReds!T14,1,2),0)))","v":0},{"$f":"IF(Edit!$A$42=TRUE,Edit!U14,IF(OR(U14=1,U14=2),CHOOSE(MIN(5,BBlues!U14+BReds!U14),0,0,U14,U14,0),IF(BBlues!U14+BReds!U14=3,IF(BBlues!U14>BReds!U14,1,2),0)))","v":0},{"$f":"IF(Edit!$A$42=TRUE,Edit!V14,IF(OR(V14=1,V14=2),CHOOSE(MIN(5,BBlues!V14+BReds!V14),0,0,V14,V14,0),IF(BBlues!V14+BReds!V14=3,IF(BBlues!V14>BReds!V14,1,2),0)))","v":0},{"$f":"IF(Edit!$A$42=TRUE,Edit!W14,IF(OR(W14=1,W14=2),CHOOSE(MIN(5,BBlues!W14+BReds!W14),0,0,W14,W14,0),IF(BBlues!W14+BReds!W14=3,IF(BBlues!W14>BReds!W14,1,2),0)))","v":0},{"$f":"IF(Edit!$A$42=TRUE,Edit!X14,IF(OR(X14=1,X14=2),CHOOSE(MIN(5,BBlues!X14+BReds!X14),0,0,X14,X14,0),IF(BBlues!X14+BReds!X14=3,IF(BBlues!X14>BReds!X14,1,2),0)))","v":0},{"$f":"IF(Edit!$A$42=TRUE,Edit!Y14,IF(OR(Y14=1,Y14=2),CHOOSE(MIN(5,BBlues!Y14+BReds!Y14),0,0,Y14,Y14,0),IF(BBlues!Y14+BReds!Y14=3,IF(BBlues!Y14>BReds!Y14,1,2),0)))","v":0},{"$f":"IF(Edit!$A$42=TRUE,Edit!Z14,IF(OR(Z14=1,Z14=2),CHOOSE(MIN(5,BBlues!Z14+BReds!Z14),0,0,Z14,Z14,0),IF(BBlues!Z14+BReds!Z14=3,IF(BBlues!Z14>BReds!Z14,1,2),0)))","v":0},{"$f":"IF(Edit!$A$42=TRUE,Edit!AA14,IF(OR(AA14=1,AA14=2),CHOOSE(MIN(5,BBlues!AA14+BReds!AA14),0,0,AA14,AA14,0),IF(BBlues!AA14+BReds!AA14=3,IF(BBlues!AA14>BReds!AA14,1,2),0)))","v":0},{"$f":"IF(Edit!$A$42=TRUE,Edit!AB14,IF(OR(AB14=1,AB14=2),CHOOSE(MIN(5,BBlues!AB14+BReds!AB14),0,0,AB14,AB14,0),IF(BBlues!AB14+BReds!AB14=3,IF(BBlues!AB14>BReds!AB14,1,2),0)))","v":0},{"$f":"IF(Edit!$A$42=TRUE,Edit!AC14,IF(OR(AC14=1,AC14=2),CHOOSE(MIN(5,BBlues!AC14+BReds!AC14),0,0,AC14,AC14,0),IF(BBlues!AC14+BReds!AC14=3,IF(BBlues!AC14>BReds!AC14,1,2),0)))","v":0},{"$f":"IF(Edit!$A$42=TRUE,Edit!AD14,IF(OR(AD14=1,AD14=2),CHOOSE(MIN(5,BBlues!AD14+BReds!AD14),0,0,AD14,AD14,0),IF(BBlues!AD14+BReds!AD14=3,IF(BBlues!AD14>BReds!AD14,1,2),0)))","v":0},{"$f":"IF(Edit!$A$42=TRUE,Edit!AE14,IF(OR(AE14=1,AE14=2),CHOOSE(MIN(5,BBlues!AE14+BReds!AE14),0,0,AE14,AE14,0),IF(BBlues!AE14+BReds!AE14=3,IF(BBlues!AE14>BReds!AE14,1,2),0)))","v":0},{"$f":"IF(Edit!$A$42=TRUE,Edit!AF14,IF(OR(AF14=1,AF14=2),CHOOSE(MIN(5,BBlues!AF14+BReds!AF14),0,0,AF14,AF14,0),IF(BBlues!AF14+BReds!AF14=3,IF(BBlues!AF14>BReds!AF14,1,2),0)))","v":0},{"$f":"IF(Edit!$A$42=TRUE,Edit!AG14,IF(OR(AG14=1,AG14=2),CHOOSE(MIN(5,BBlues!AG14+BReds!AG14),0,0,AG14,AG14,0),IF(BBlues!AG14+BReds!AG14=3,IF(BBlues!AG14>BReds!AG14,1,2),0)))","v":0},{"$f":"IF(Edit!$A$42=TRUE,Edit!AH14,IF(OR(AH14=1,AH14=2),CHOOSE(MIN(5,BBlues!AH14+BReds!AH14),0,0,AH14,AH14,0),IF(BBlues!AH14+BReds!AH14=3,IF(BBlues!AH14>BReds!AH14,1,2),0)))","v":0},{"$f":"IF(Edit!$A$42=TRUE,Edit!AI14,IF(OR(AI14=1,AI14=2),CHOOSE(MIN(5,BBlues!AI14+BReds!AI14),0,0,AI14,AI14,0),IF(BBlues!AI14+BReds!AI14=3,IF(BBlues!AI14>BReds!AI14,1,2),0)))","v":0},{"$f":"IF(Edit!$A$42=TRUE,Edit!AJ14,IF(OR(AJ14=1,AJ14=2),CHOOSE(MIN(5,BBlues!AJ14+BReds!AJ14),0,0,AJ14,AJ14,0),IF(BBlues!AJ14+BReds!AJ14=3,IF(BBlues!AJ14>BReds!AJ14,1,2),0)))","v":0},{"$f":"IF(Edit!$A$42=TRUE,Edit!AK14,IF(OR(AK14=1,AK14=2),CHOOSE(MIN(5,BBlues!AK14+BReds!AK14),0,0,AK14,AK14,0),IF(BBlues!AK14+BReds!AK14=3,IF(BBlues!AK14>BReds!AK14,1,2),0)))","v":0},{"$f":"IF(Edit!$A$42=TRUE,Edit!AL14,IF(OR(AL14=1,AL14=2),CHOOSE(MIN(5,BBlues!AL14+BReds!AL14),0,0,AL14,AL14,0),IF(BBlues!AL14+BReds!AL14=3,IF(BBlues!AL14>BReds!AL14,1,2),0)))","v":0}]
[null,{"$f":"IF(Edit!$A$42=TRUE,Edit!B15,IF(OR(B15=1,B15=2),CHOOSE(MIN(5,BBlues!B15+BReds!B15),0,0,B15,B15,0),IF(BBlues!B15+BReds!B15=3,IF(BBlues!B15>BReds!B15,1,2),0)))","v":0},{"$f":"IF(Edit!$A$42=TRUE,Edit!C15,IF(OR(C15=1,C15=2),CHOOSE(MIN(5,BBlues!C15+BReds!C15),0,0,C15,C15,0),IF(BBlues!C15+BReds!C15=3,IF(BBlues!C15>BReds!C15,1,2),0)))","v":0},{"$f":"IF(Edit!$A$42=TRUE,Edit!D15,IF(OR(D15=1,D15=2),CHOOSE(MIN(5,BBlues!D15+BReds!D15),0,0,D15,D15,0),IF(BBlues!D15+BReds!D15=3,IF(BBlues!D15>BReds!D15,1,2),0)))","v":0},{"$f":"IF(Edit!$A$42=TRUE,Edit!E15,IF(OR(E15=1,E15=2),CHOOSE(MIN(5,BBlues!E15+BReds!E15),0,0,E15,E15,0),IF(BBlues!E15+BReds!E15=3,IF(BBlues!E15>BReds!E15,1,2),0)))","v":0},{"$f":"IF(Edit!$A$42=TRUE,Edit!F15,IF(OR(F15=1,F15=2),CHOOSE(MIN(5,BBlues!F15+BReds!F15),0,0,F15,F15,0),IF(BBlues!F15+BReds!F15=3,IF(BBlues!F15>BReds!F15,1,2),0)))","v":0},{"$f":"IF(Edit!$A$42=TRUE,Edit!G15,IF(OR(G15=1,G15=2),CHOOSE(MIN(5,BBlues!G15+BReds!G15),0,0,G15,G15,0),IF(BBlues!G15+BReds!G15=3,IF(BBlues!G15>BReds!G15,1,2),0)))","v":0},{"$f":"IF(Edit!$A$42=TRUE,Edit!H15,IF(OR(H15=1,H15=2),CHOOSE(MIN(5,BBlues!H15+BReds!H15),0,0,H15,H15,0),IF(BBlues!H15+BReds!H15=3,IF(BBlues!H15>BReds!H15,1,2),0)))","v":0},{"$f":"IF(Edit!$A$42=TRUE,Edit!I15,IF(OR(I15=1,I15=2),CHOOSE(MIN(5,BBlues!I15+BReds!I15),0,0,I15,I15,0),IF(BBlues!I15+BReds!I15=3,IF(BBlues!I15>BReds!I15,1,2),0)))","v":0},{"$f":"IF(Edit!$A$42=TRUE,Edit!J15,IF(OR(J15=1,J15=2),CHOOSE(MIN(5,BBlues!J15+BReds!J15),0,0,J15,J15,0),IF(BBlues!J15+BReds!J15=3,IF(BBlues!J15>BReds!J15,1,2),0)))","v":0},{"$f":"IF(Edit!$A$42=TRUE,Edit!K15,IF(OR(K15=1,K15=2),CHOOSE(MIN(5,BBlues!K15+BReds!K15),0,0,K15,K15,0),IF(BBlues!K15+BReds!K15=3,IF(BBlues!K15>BReds!K15,1,2),0)))","v":0},{"$f":"IF(Edit!$A$42=TRUE,Edit!L15,IF(OR(L15=1,L15=2),CHOOSE(MIN(5,BBlues!L15+BReds!L15),0,0,L15,L15,0),IF(BBlues!L15+BReds!L15=3,IF(BBlues!L15>BReds!L15,1,2),0)))","v":0},{"$f":"IF(Edit!$A$42=TRUE,Edit!M15,IF(OR(M15=1,M15=2),CHOOSE(MIN(5,BBlues!M15+BReds!M15),0,0,M15,M15,0),IF(BBlues!M15+BReds!M15=3,IF(BBlues!M15>BReds!M15,1,2),0)))","v":0},{"$f":"IF(Edit!$A$42=TRUE,Edit!N15,IF(OR(N15=1,N15=2),CHOOSE(MIN(5,BBlues!N15+BReds!N15),0,0,N15,N15,0),IF(BBlues!N15+BReds!N15=3,IF(BBlues!N15>BReds!N15,1,2),0)))","v":0},{"$f":"IF(Edit!$A$42=TRUE,Edit!O15,IF(OR(O15=1,O15=2),CHOOSE(MIN(5,BBlues!O15+BReds!O15),0,0,O15,O15,0),IF(BBlues!O15+BReds!O15=3,IF(BBlues!O15>BReds!O15,1,2),0)))","v":0},{"$f":"IF(Edit!$A$42=TRUE,Edit!P15,IF(OR(P15=1,P15=2),CHOOSE(MIN(5,BBlues!P15+BReds!P15),0,0,P15,P15,0),IF(BBlues!P15+BReds!P15=3,IF(BBlues!P15>BReds!P15,1,2),0)))","v":0},{"$f":"IF(Edit!$A$42=TRUE,Edit!Q15,IF(OR(Q15=1,Q15=2),CHOOSE(MIN(5,BBlues!Q15+BReds!Q15),0,0,Q15,Q15,0),IF(BBlues!Q15+BReds!Q15=3,IF(BBlues!Q15>BReds!Q15,1,2),0)))","v":0},{"$f":"IF(Edit!$A$42=TRUE,Edit!R15,IF(OR(R15=1,R15=2),CHOOSE(MIN(5,BBlues!R15+BReds!R15),0,0,R15,R15,0),IF(BBlues!R15+BReds!R15=3,IF(BBlues!R15>BReds!R15,1,2),0)))","v":0},{"$f":"IF(Edit!$A$42=TRUE,Edit!S15,IF(OR(S15=1,S15=2),CHOOSE(MIN(5,BBlues!S15+BReds!S15),0,0,S15,S15,0),IF(BBlues!S15+BReds!S15=3,IF(BBlues!S15>BReds!S15,1,2),0)))","v":0},{"$f":"IF(Edit!$A$42=TRUE,Edit!T15,IF(OR(T15=1,T15=2),CHOOSE(MIN(5,BBlues!T15+BReds!T15),0,0,T15,T15,0),IF(BBlues!T15+BReds!T15=3,IF(BBlues!T15>BReds!T15,1,2),0)))","v":0},{"$f":"IF(Edit!$A$42=TRUE,Edit!U15,IF(OR(U15=1,U15=2),CHOOSE(MIN(5,BBlues!U15+BReds!U15),0,0,U15,U15,0),IF(BBlues!U15+BReds!U15=3,IF(BBlues!U15>BReds!U15,1,2),0)))","v":0},{"$f":"IF(Edit!$A$42=TRUE,Edit!V15,IF(OR(V15=1,V15=2),CHOOSE(MIN(5,BBlues!V15+BReds!V15),0,0,V15,V15,0),IF(BBlues!V15+BReds!V15=3,IF(BBlues!V15>BReds!V15,1,2),0)))","v":0},{"$f":"IF(Edit!$A$42=TRUE,Edit!W15,IF(OR(W15=1,W15=2),CHOOSE(MIN(5,BBlues!W15+BReds!W15),0,0,W15,W15,0),IF(BBlues!W15+BReds!W15=3,IF(BBlues!W15>BReds!W15,1,2),0)))","v":0},{"$f":"IF(Edit!$A$42=TRUE,Edit!X15,IF(OR(X15=1,X15=2),CHOOSE(MIN(5,BBlues!X15+BReds!X15),0,0,X15,X15,0),IF(BBlues!X15+BReds!X15=3,IF(BBlues!X15>BReds!X15,1,2),0)))","v":0},{"$f":"IF(Edit!$A$42=TRUE,Edit!Y15,IF(OR(Y15=1,Y15=2),CHOOSE(MIN(5,BBlues!Y15+BReds!Y15),0,0,Y15,Y15,0),IF(BBlues!Y15+BReds!Y15=3,IF(BBlues!Y15>BReds!Y15,1,2),0)))","v":0},{"$f":"IF(Edit!$A$42=TRUE,Edit!Z15,IF(OR(Z15=1,Z15=2),CHOOSE(MIN(5,BBlues!Z15+BReds!Z15),0,0,Z15,Z15,0),IF(BBlues!Z15+BReds!Z15=3,IF(BBlues!Z15>BReds!Z15,1,2),0)))","v":0},{"$f":"IF(Edit!$A$42=TRUE,Edit!AA15,IF(OR(AA15=1,AA15=2),CHOOSE(MIN(5,BBlues!AA15+BReds!AA15),0,0,AA15,AA15,0),IF(BBlues!AA15+BReds!AA15=3,IF(BBlues!AA15>BReds!AA15,1,2),0)))","v":0},{"$f":"IF(Edit!$A$42=TRUE,Edit!AB15,IF(OR(AB15=1,AB15=2),CHOOSE(MIN(5,BBlues!AB15+BReds!AB15),0,0,AB15,AB15,0),IF(BBlues!AB15+BReds!AB15=3,IF(BBlues!AB15>BReds!AB15,1,2),0)))","v":0},{"$f":"IF(Edit!$A$42=TRUE,Edit!AC15,IF(OR(AC15=1,AC15=2),CHOOSE(MIN(5,BBlues!AC15+BReds!AC15),0,0,AC15,AC15,0),IF(BBlues!AC15+BReds!AC15=3,IF(BBlues!AC15>BReds!AC15,1,2),0)))","v":0},{"$f":"IF(Edit!$A$42=TRUE,Edit!AD15,IF(OR(AD15=1,AD15=2),CHOOSE(MIN(5,BBlues!AD15+BReds!AD15),0,0,AD15,AD15,0),IF(BBlues!AD15+BReds!AD15=3,IF(BBlues!AD15>BReds!AD15,1,2),0)))","v":0},{"$f":"IF(Edit!$A$42=TRUE,Edit!AE15,IF(OR(AE15=1,AE15=2),CHOOSE(MIN(5,BBlues!AE15+BReds!AE15),0,0,AE15,AE15,0),IF(BBlues!AE15+BReds!AE15=3,IF(BBlues!AE15>BReds!AE15,1,2),0)))","v":0},{"$f":"IF(Edit!$A$42=TRUE,Edit!AF15,IF(OR(AF15=1,AF15=2),CHOOSE(MIN(5,BBlues!AF15+BReds!AF15),0,0,AF15,AF15,0),IF(BBlues!AF15+BReds!AF15=3,IF(BBlues!AF15>BReds!AF15,1,2),0)))","v":0},{"$f":"IF(Edit!$A$42=TRUE,Edit!AG15,IF(OR(AG15=1,AG15=2),CHOOSE(MIN(5,BBlues!AG15+BReds!AG15),0,0,AG15,AG15,0),IF(BBlues!AG15+BReds!AG15=3,IF(BBlues!AG15>BReds!AG15,1,2),0)))","v":0},{"$f":"IF(Edit!$A$42=TRUE,Edit!AH15,IF(OR(AH15=1,AH15=2),CHOOSE(MIN(5,BBlues!AH15+BReds!AH15),0,0,AH15,AH15,0),IF(BBlues!AH15+BReds!AH15=3,IF(BBlues!AH15>BReds!AH15,1,2),0)))","v":0},{"$f":"IF(Edit!$A$42=TRUE,Edit!AI15,IF(OR(AI15=1,AI15=2),CHOOSE(MIN(5,BBlues!AI15+BReds!AI15),0,0,AI15,AI15,0),IF(BBlues!AI15+BReds!AI15=3,IF(BBlues!AI15>BReds!AI15,1,2),0)))","v":0},{"$f":"IF(Edit!$A$42=TRUE,Edit!AJ15,IF(OR(AJ15=1,AJ15=2),CHOOSE(MIN(5,BBlues!AJ15+BReds!AJ15),0,0,AJ15,AJ15,0),IF(BBlues!AJ15+BReds!AJ15=3,IF(BBlues!AJ15>BReds!AJ15,1,2),0)))","v":0},{"$f":"IF(Edit!$A$42=TRUE,Edit!AK15,IF(OR(AK15=1,AK15=2),CHOOSE(MIN(5,BBlues!AK15+BReds!AK15),0,0,AK15,AK15,0),IF(BBlues!AK15+BReds!AK15=3,IF(BBlues!AK15>BReds!AK15,1,2),0)))","v":0},{"$f":"IF(Edit!$A$42=TRUE,Edit!AL15,IF(OR(AL15=1,AL15=2),CHOOSE(MIN(5,BBlues!AL15+BReds!AL15),0,0,AL15,AL15,0),IF(BBlues!AL15+BReds!AL15=3,IF(BBlues!AL15>BReds!AL15,1,2),0)))","v":0}]
[null,{"$f":"IF(Edit!$A$42=TRUE,Edit!B16,IF(OR(B16=1,B16=2),CHOOSE(MIN(5,BBlues!B16+BReds!B16),0,0,B16,B16,0),IF(BBlues!B16+BReds!B16=3,IF(BBlues!B16>BReds!B16,1,2),0)))","v":0},{"$f":"IF(Edit!$A$42=TRUE,Edit!C16,IF(OR(C16=1,C16=2),CHOOSE(MIN(5,BBlues!C16+BReds!C16),0,0,C16,C16,0),IF(BBlues!C16+BReds!C16=3,IF(BBlues!C16>BReds!C16,1,2),0)))","v":0},{"$f":"IF(Edit!$A$42=TRUE,Edit!D16,IF(OR(D16=1,D16=2),CHOOSE(MIN(5,BBlues!D16+BReds!D16),0,0,D16,D16,0),IF(BBlues!D16+BReds!D16=3,IF(BBlues!D16>BReds!D16,1,2),0)))","v":0},{"$f":"IF(Edit!$A$42=TRUE,Edit!E16,IF(OR(E16=1,E16=2),CHOOSE(MIN(5,BBlues!E16+BReds!E16),0,0,E16,E16,0),IF(BBlues!E16+BReds!E16=3,IF(BBlues!E16>BReds!E16,1,2),0)))","v":0},{"$f":"IF(Edit!$A$42=TRUE,Edit!F16,IF(OR(F16=1,F16=2),CHOOSE(MIN(5,BBlues!F16+BReds!F16),0,0,F16,F16,0),IF(BBlues!F16+BReds!F16=3,IF(BBlues!F16>BReds!F16,1,2),0)))","v":0},{"$f":"IF(Edit!$A$42=TRUE,Edit!G16,IF(OR(G16=1,G16=2),CHOOSE(MIN(5,BBlues!G16+BReds!G16),0,0,G16,G16,0),IF(BBlues!G16+BReds!G16=3,IF(BBlues!G16>BReds!G16,1,2),0)))","v":0},{"$f":"IF(Edit!$A$42=TRUE,Edit!H16,IF(OR(H16=1,H16=2),CHOOSE(MIN(5,BBlues!H16+BReds!H16),0,0,H16,H16,0),IF(BBlues!H16+BReds!H16=3,IF(BBlues!H16>BReds!H16,1,2),0)))","v":0},{"$f":"IF(Edit!$A$42=TRUE,Edit!I16,IF(OR(I16=1,I16=2),CHOOSE(MIN(5,BBlues!I16+BReds!I16),0,0,I16,I16,0),IF(BBlues!I16+BReds!I16=3,IF(BBlues!I16>BReds!I16,1,2),0)))","v":0},{"$f":"IF(Edit!$A$42=TRUE,Edit!J16,IF(OR(J16=1,J16=2),CHOOSE(MIN(5,BBlues!J16+BReds!J16),0,0,J16,J16,0),IF(BBlues!J16+BReds!J16=3,IF(BBlues!J16>BReds!J16,1,2),0)))","v":0},{"$f":"IF(Edit!$A$42=TRUE,Edit!K16,IF(OR(K16=1,K16=2),CHOOSE(MIN(5,BBlues!K16+BReds!K16),0,0,K16,K16,0),IF(BBlues!K16+BReds!K16=3,IF(BBlues!K16>BReds!K16,1,2),0)))","v":1},{"$f":"IF(Edit!$A$42=TRUE,Edit!L16,IF(OR(L16=1,L16=2),CHOOSE(MIN(5,BBlues!L16+BReds!L16),0,0,L16,L16,0),IF(BBlues!L16+BReds!L16=3,IF(BBlues!L16>BReds!L16,1,2),0)))","v":0},{"$f":"IF(Edit!$A$42=TRUE,Edit!M16,IF(OR(M16=1,M16=2),CHOOSE(MIN(5,BBlues!M16+BReds!M16),0,0,M16,M16,0),IF(BBlues!M16+BReds!M16=3,IF(BBlues!M16>BReds!M16,1,2),0)))","v":0},{"$f":"IF(Edit!$A$42=TRUE,Edit!N16,IF(OR(N16=1,N16=2),CHOOSE(MIN(5,BBlues!N16+BReds!N16),0,0,N16,N16,0),IF(BBlues!N16+BReds!N16=3,IF(BBlues!N16>BReds!N16,1,2),0)))","v":0},{"$f":"IF(Edit!$A$42=TRUE,Edit!O16,IF(OR(O16=1,O16=2),CHOOSE(MIN(5,BBlues!O16+BReds!O16),0,0,O16,O16,0),IF(BBlues!O16+BReds!O16=3,IF(BBlues!O16>BReds!O16,1,2),0)))","v":0},{"$f":"IF(Edit!$A$42=TRUE,Edit!P16,IF(OR(P16=1,P16=2),CHOOSE(MIN(5,BBlues!P16+BReds!P16),0,0,P16,P16,0),IF(BBlues!P16+BReds!P16=3,IF(BBlues!P16>BReds!P16,1,2),0)))","v":0},{"$f":"IF(Edit!$A$42=TRUE,Edit!Q16,IF(OR(Q16=1,Q16=2),CHOOSE(MIN(5,BBlues!Q16+BReds!Q16),0,0,Q16,Q16,0),IF(BBlues!Q16+BReds!Q16=3,IF(BBlues!Q16>BReds!Q16,1,2),0)))","v":0},{"$f":"IF(Edit!$A$42=TRUE,Edit!R16,IF(OR(R16=1,R16=2),CHOOSE(MIN(5,BBlues!R16+BReds!R16),0,0,R16,R16,0),IF(BBlues!R16+BReds!R16=3,IF(BBlues!R16>BReds!R16,1,2),0)))","v":0},{"$f":"IF(Edit!$A$42=TRUE,Edit!S16,IF(OR(S16=1,S16=2),CHOOSE(MIN(5,BBlues!S16+BReds!S16),0,0,S16,S16,0),IF(BBlues!S16+BReds!S16=3,IF(BBlues!S16>BReds!S16,1,2),0)))","v":0},{"$f":"IF(Edit!$A$42=TRUE,Edit!T16,IF(OR(T16=1,T16=2),CHOOSE(MIN(5,BBlues!T16+BReds!T16),0,0,T16,T16,0),IF(BBlues!T16+BReds!T16=3,IF(BBlues!T16>BReds!T16,1,2),0)))","v":0},{"$f":"IF(Edit!$A$42=TRUE,Edit!U16,IF(OR(U16=1,U16=2),CHOOSE(MIN(5,BBlues!U16+BReds!U16),0,0,U16,U16,0),IF(BBlues!U16+BReds!U16=3,IF(BBlues!U16>BReds!U16,1,2),0)))","v":0},{"$f":"IF(Edit!$A$42=TRUE,Edit!V16,IF(OR(V16=1,V16=2),CHOOSE(MIN(5,BBlues!V16+BReds!V16),0,0,V16,V16,0),IF(BBlues!V16+BReds!V16=3,IF(BBlues!V16>BReds!V16,1,2),0)))","v":0},{"$f":"IF(Edit!$A$42=TRUE,Edit!W16,IF(OR(W16=1,W16=2),CHOOSE(MIN(5,BBlues!W16+BReds!W16),0,0,W16,W16,0),IF(BBlues!W16+BReds!W16=3,IF(BBlues!W16>BReds!W16,1,2),0)))","v":0},{"$f":"IF(Edit!$A$42=TRUE,Edit!X16,IF(OR(X16=1,X16=2),CHOOSE(MIN(5,BBlues!X16+BReds!X16),0,0,X16,X16,0),IF(BBlues!X16+BReds!X16=3,IF(BBlues!X16>BReds!X16,1,2),0)))","v":0},{"$f":"IF(Edit!$A$42=TRUE,Edit!Y16,IF(OR(Y16=1,Y16=2),CHOOSE(MIN(5,BBlues!Y16+BReds!Y16),0,0,Y16,Y16,0),IF(BBlues!Y16+BReds!Y16=3,IF(BBlues!Y16>BReds!Y16,1,2),0)))","v":0},{"$f":"IF(Edit!$A$42=TRUE,Edit!Z16,IF(OR(Z16=1,Z16=2),CHOOSE(MIN(5,BBlues!Z16+BReds!Z16),0,0,Z16,Z16,0),IF(BBlues!Z16+BReds!Z16=3,IF(BBlues!Z16>BReds!Z16,1,2),0)))","v":0},{"$f":"IF(Edit!$A$42=TRUE,Edit!AA16,IF(OR(AA16=1,AA16=2),CHOOSE(MIN(5,BBlues!AA16+BReds!AA16),0,0,AA16,AA16,0),IF(BBlues!AA16+BReds!AA16=3,IF(BBlues!AA16>BReds!AA16,1,2),0)))","v":0},{"$f":"IF(Edit!$A$42=TRUE,Edit!AB16,IF(OR(AB16=1,AB16=2),CHOOSE(MIN(5,BBlues!AB16+BReds!AB16),0,0,AB16,AB16,0),IF(BBlues!AB16+BReds!AB16=3,IF(BBlues!AB16>BReds!AB16,1,2),0)))","v":0},{"$f":"IF(Edit!$A$42=TRUE,Edit!AC16,IF(OR(AC16=1,AC16=2),CHOOSE(MIN(5,BBlues!AC16+BReds!AC16),0,0,AC16,AC16,0),IF(BBlues!AC16+BReds!AC16=3,IF(BBlues!AC16>BReds!AC16,1,2),0)))","v":0},{"$f":"IF(Edit!$A$42=TRUE,Edit!AD16,IF(OR(AD16=1,AD16=2),CHOOSE(MIN(5,BBlues!AD16+BReds!AD16),0,0,AD16,AD16,0),IF(BBlues!AD16+BReds!AD16=3,IF(BBlues!AD16>BReds!AD16,1,2),0)))","v":0},{"$f":"IF(Edit!$A$42=TRUE,Edit!AE16,IF(OR(AE16=1,AE16=2),CHOOSE(MIN(5,BBlues!AE16+BReds!AE16),0,0,AE16,AE16,0),IF(BBlues!AE16+BReds!AE16=3,IF(BBlues!AE16>BReds!AE16,1,2),0)))","v":0},{"$f":"IF(Edit!$A$42=TRUE,Edit!AF16,IF(OR(AF16=1,AF16=2),CHOOSE(MIN(5,BBlues!AF16+BReds!AF16),0,0,AF16,AF16,0),IF(BBlues!AF16+BReds!AF16=3,IF(BBlues!AF16>BReds!AF16,1,2),0)))","v":0},{"$f":"IF(Edit!$A$42=TRUE,Edit!AG16,IF(OR(AG16=1,AG16=2),CHOOSE(MIN(5,BBlues!AG16+BReds!AG16),0,0,AG16,AG16,0),IF(BBlues!AG16+BReds!AG16=3,IF(BBlues!AG16>BReds!AG16,1,2),0)))","v":0},{"$f":"IF(Edit!$A$42=TRUE,Edit!AH16,IF(OR(AH16=1,AH16=2),CHOOSE(MIN(5,BBlues!AH16+BReds!AH16),0,0,AH16,AH16,0),IF(BBlues!AH16+BReds!AH16=3,IF(BBlues!AH16>BReds!AH16,1,2),0)))","v":0},{"$f":"IF(Edit!$A$42=TRUE,Edit!AI16,IF(OR(AI16=1,AI16=2),CHOOSE(MIN(5,BBlues!AI16+BReds!AI16),0,0,AI16,AI16,0),IF(BBlues!AI16+BReds!AI16=3,IF(BBlues!AI16>BReds!AI16,1,2),0)))","v":0},{"$f":"IF(Edit!$A$42=TRUE,Edit!AJ16,IF(OR(AJ16=1,AJ16=2),CHOOSE(MIN(5,BBlues!AJ16+BReds!AJ16),0,0,AJ16,AJ16,0),IF(BBlues!AJ16+BReds!AJ16=3,IF(BBlues!AJ16>BReds!AJ16,1,2),0)))","v":0},{"$f":"IF(Edit!$A$42=TRUE,Edit!AK16,IF(OR(AK16=1,AK16=2),CHOOSE(MIN(5,BBlues!AK16+BReds!AK16),0,0,AK16,AK16,0),IF(BBlues!AK16+BReds!AK16=3,IF(BBlues!AK16>BReds!AK16,1,2),0)))","v":0},{"$f":"IF(Edit!$A$42=TRUE,Edit!AL16,IF(OR(AL16=1,AL16=2),CHOOSE(MIN(5,BBlues!AL16+BReds!AL16),0,0,AL16,AL16,0),IF(BBlues!AL16+BReds!AL16=3,IF(BBlues!AL16>BReds!AL16,1,2),0)))","v":0}]
[null,{"$f":"IF(Edit!$A$42=TRUE,Edit!B17,IF(OR(B17=1,B17=2),CHOOSE(MIN(5,BBlues!B17+BReds!B17),0,0,B17,B17,0),IF(BBlues!B17+BReds!B17=3,IF(BBlues!B17>BReds!B17,1,2),0)))","v":0},{"$f":"IF(Edit!$A$42=TRUE,Edit!C17,IF(OR(C17=1,C17=2),CHOOSE(MIN(5,BBlues!C17+BReds!C17),0,0,C17,C17,0),IF(BBlues!C17+BReds!C17=3,IF(BBlues!C17>BReds!C17,1,2),0)))","v":0},{"$f":"IF(Edit!$A$42=TRUE,Edit!D17,IF(OR(D17=1,D17=2),CHOOSE(MIN(5,BBlues!D17+BReds!D17),0,0,D17,D17,0),IF(BBlues!D17+BReds!D17=3,IF(BBlues!D17>BReds!D17,1,2),0)))","v":0},{"$f":"IF(Edit!$A$42=TRUE,Edit!E17,IF(OR(E17=1,E17=2),CHOOSE(MIN(5,BBlues!E17+BReds!E17),0,0,E17,E17,0),IF(BBlues!E17+BReds!E17=3,IF(BBlues!E17>BReds!E17,1,2),0)))","v":0},{"$f":"IF(Edit!$A$42=TRUE,Edit!F17,IF(OR(F17=1,F17=2),CHOOSE(MIN(5,BBlues!F17+BReds!F17),0,0,F17,F17,0),IF(BBlues!F17+BReds!F17=3,IF(BBlues!F17>BReds!F17,1,2),0)))","v":0},{"$f":"IF(Edit!$A$42=TRUE,Edit!G17,IF(OR(G17=1,G17=2),CHOOSE(MIN(5,BBlues!G17+BReds!G17),0,0,G17,G17,0),IF(BBlues!G17+BReds!G17=3,IF(BBlues!G17>BReds!G17,1,2),0)))","v":0},{"$f":"IF(Edit!$A$42=TRUE,Edit!H17,IF(OR(H17=1,H17=2),CHOOSE(MIN(5,BBlues!H17+BReds!H17),0,0,H17,H17,0),IF(BBlues!H17+BReds!H17=3,IF(BBlues!H17>BReds!H17,1,2),0)))","v":0},{"$f":"IF(Edit!$A$42=TRUE,Edit!I17,IF(OR(I17=1,I17=2),CHOOSE(MIN(5,BBlues!I17+BReds!I17),0,0,I17,I17,0),IF(BBlues!I17+BReds!I17=3,IF(BBlues!I17>BReds!I17,1,2),0)))","v":2},{"$f":"IF(Edit!$A$42=TRUE,Edit!J17,IF(OR(J17=1,J17=2),CHOOSE(MIN(5,BBlues!J17+BReds!J17),0,0,J17,J17,0),IF(BBlues!J17+BReds!J17=3,IF(BBlues!J17>BReds!J17,1,2),0)))","v":1},{"$f":"IF(Edit!$A$42=TRUE,Edit!K17,IF(OR(K17=1,K17=2),CHOOSE(MIN(5,BBlues!K17+BReds!K17),0,0,K17,K17,0),IF(BBlues!K17+BReds!K17=3,IF(BBlues!K17>BReds!K17,1,2),0)))","v":1},{"$f":"IF(Edit!$A$42=TRUE,Edit!L17,IF(OR(L17=1,L17=2),CHOOSE(MIN(5,BBlues!L17+BReds!L17),0,0,L17,L17,0),IF(BBlues!L17+BReds!L17=3,IF(BBlues!L17>BReds!L17,1,2),0)))","v":0},{"$f":"IF(Edit!$A$42=TRUE,Edit!M17,IF(OR(M17=1,M17=2),CHOOSE(MIN(5,BBlues!M17+BReds!M17),0,0,M17,M17,0),IF(BBlues!M17+BReds!M17=3,IF(BBlues!M17>BReds!M17,1,2),0)))","v":0},{"$f":"IF(Edit!$A$42=TRUE,Edit!N17,IF(OR(N17=1,N17=2),CHOOSE(MIN(5,BBlues!N17+BReds!N17),0,0,N17,N17,0),IF(BBlues!N17+BReds!N17=3,IF(BBlues!N17>BReds!N17,1,2),0)))","v":0},{"$f":"IF(Edit!$A$42=TRUE,Edit!O17,IF(OR(O17=1,O17=2),CHOOSE(MIN(5,BBlues!O17+BReds!O17),0,0,O17,O17,0),IF(BBlues!O17+BReds!O17=3,IF(BBlues!O17>BReds!O17,1,2),0)))","v":0},{"$f":"IF(Edit!$A$42=TRUE,Edit!P17,IF(OR(P17=1,P17=2),CHOOSE(MIN(5,BBlues!P17+BReds!P17),0,0,P17,P17,0),IF(BBlues!P17+BReds!P17=3,IF(BBlues!P17>BReds!P17,1,2),0)))","v":0},{"$f":"IF(Edit!$A$42=TRUE,Edit!Q17,IF(OR(Q17=1,Q17=2),CHOOSE(MIN(5,BBlues!Q17+BReds!Q17),0,0,Q17,Q17,0),IF(BBlues!Q17+BReds!Q17=3,IF(BBlues!Q17>BReds!Q17,1,2),0)))","v":0},{"$f":"IF(Edit!$A$42=TRUE,Edit!R17,IF(OR(R17=1,R17=2),CHOOSE(MIN(5,BBlues!R17+BReds!R17),0,0,R17,R17,0),IF(BBlues!R17+BReds!R17=3,IF(BBlues!R17>BReds!R17,1,2),0)))","v":0},{"$f":"IF(Edit!$A$42=TRUE,Edit!S17,IF(OR(S17=1,S17=2),CHOOSE(MIN(5,BBlues!S17+BReds!S17),0,0,S17,S17,0),IF(BBlues!S17+BReds!S17=3,IF(BBlues!S17>BReds!S17,1,2),0)))","v":0},{"$f":"IF(Edit!$A$42=TRUE,Edit!T17,IF(OR(T17=1,T17=2),CHOOSE(MIN(5,BBlues!T17+BReds!T17),0,0,T17,T17,0),IF(BBlues!T17+BReds!T17=3,IF(BBlues!T17>BReds!T17,1,2),0)))","v":0},{"$f":"IF(Edit!$A$42=TRUE,Edit!U17,IF(OR(U17=1,U17=2),CHOOSE(MIN(5,BBlues!U17+BReds!U17),0,0,U17,U17,0),IF(BBlues!U17+BReds!U17=3,IF(BBlues!U17>BReds!U17,1,2),0)))","v":0},{"$f":"IF(Edit!$A$42=TRUE,Edit!V17,IF(OR(V17=1,V17=2),CHOOSE(MIN(5,BBlues!V17+BReds!V17),0,0,V17,V17,0),IF(BBlues!V17+BReds!V17=3,IF(BBlues!V17>BReds!V17,1,2),0)))","v":0},{"$f":"IF(Edit!$A$42=TRUE,Edit!W17,IF(OR(W17=1,W17=2),CHOOSE(MIN(5,BBlues!W17+BReds!W17),0,0,W17,W17,0),IF(BBlues!W17+BReds!W17=3,IF(BBlues!W17>BReds!W17,1,2),0)))","v":0},{"$f":"IF(Edit!$A$42=TRUE,Edit!X17,IF(OR(X17=1,X17=2),CHOOSE(MIN(5,BBlues!X17+BReds!X17),0,0,X17,X17,0),IF(BBlues!X17+BReds!X17=3,IF(BBlues!X17>BReds!X17,1,2),0)))","v":0},{"$f":"IF(Edit!$A$42=TRUE,Edit!Y17,IF(OR(Y17=1,Y17=2),CHOOSE(MIN(5,BBlues!Y17+BReds!Y17),0,0,Y17,Y17,0),IF(BBlues!Y17+BReds!Y17=3,IF(BBlues!Y17>BReds!Y17,1,2),0)))","v":0},{"$f":"IF(Edit!$A$42=TRUE,Edit!Z17,IF(OR(Z17=1,Z17=2),CHOOSE(MIN(5,BBlues!Z17+BReds!Z17),0,0,Z17,Z17,0),IF(BBlues!Z17+BReds!Z17=3,IF(BBlues!Z17>BReds!Z17,1,2),0)))","v":0},{"$f":"IF(Edit!$A$42=TRUE,Edit!AA17,IF(OR(AA17=1,AA17=2),CHOOSE(MIN(5,BBlues!AA17+BReds!AA17),0,0,AA17,AA17,0),IF(BBlues!AA17+BReds!AA17=3,IF(BBlues!AA17>BReds!AA17,1,2),0)))","v":0},{"$f":"IF(Edit!$A$42=TRUE,Edit!AB17,IF(OR(AB17=1,AB17=2),CHOOSE(MIN(5,BBlues!AB17+BReds!AB17),0,0,AB17,AB17,0),IF(BBlues!AB17+BReds!AB17=3,IF(BBlues!AB17>BReds!AB17,1,2),0)))","v":0},{"$f":"IF(Edit!$A$42=TRUE,Edit!AC17,IF(OR(AC17=1,AC17=2),CHOOSE(MIN(5,BBlues!AC17+BReds!AC17),0,0,AC17,AC17,0),IF(BBlues!AC17+BReds!AC17=3,IF(BBlues!AC17>BReds!AC17,1,2),0)))","v":0},{"$f":"IF(Edit!$A$42=TRUE,Edit!AD17,IF(OR(AD17=1,AD17=2),CHOOSE(MIN(5,BBlues!AD17+BReds!AD17),0,0,AD17,AD17,0),IF(BBlues!AD17+BReds!AD17=3,IF(BBlues!AD17>BReds!AD17,1,2),0)))","v":0},{"$f":"IF(Edit!$A$42=TRUE,Edit!AE17,IF(OR(AE17=1,AE17=2),CHOOSE(MIN(5,BBlues!AE17+BReds!AE17),0,0,AE17,AE17,0),IF(BBlues!AE17+BReds!AE17=3,IF(BBlues!AE17>BReds!AE17,1,2),0)))","v":0},{"$f":"IF(Edit!$A$42=TRUE,Edit!AF17,IF(OR(AF17=1,AF17=2),CHOOSE(MIN(5,BBlues!AF17+BReds!AF17),0,0,AF17,AF17,0),IF(BBlues!AF17+BReds!AF17=3,IF(BBlues!AF17>BReds!AF17,1,2),0)))","v":0},{"$f":"IF(Edit!$A$42=TRUE,Edit!AG17,IF(OR(AG17=1,AG17=2),CHOOSE(MIN(5,BBlues!AG17+BReds!AG17),0,0,AG17,AG17,0),IF(BBlues!AG17+BReds!AG17=3,IF(BBlues!AG17>BReds!AG17,1,2),0)))","v":0},{"$f":"IF(Edit!$A$42=TRUE,Edit!AH17,IF(OR(AH17=1,AH17=2),CHOOSE(MIN(5,BBlues!AH17+BReds!AH17),0,0,AH17,AH17,0),IF(BBlues!AH17+BReds!AH17=3,IF(BBlues!AH17>BReds!AH17,1,2),0)))","v":0},{"$f":"IF(Edit!$A$42=TRUE,Edit!AI17,IF(OR(AI17=1,AI17=2),CHOOSE(MIN(5,BBlues!AI17+BReds!AI17),0,0,AI17,AI17,0),IF(BBlues!AI17+BReds!AI17=3,IF(BBlues!AI17>BReds!AI17,1,2),0)))","v":0},{"$f":"IF(Edit!$A$42=TRUE,Edit!AJ17,IF(OR(AJ17=1,AJ17=2),CHOOSE(MIN(5,BBlues!AJ17+BReds!AJ17),0,0,AJ17,AJ17,0),IF(BBlues!AJ17+BReds!AJ17=3,IF(BBlues!AJ17>BReds!AJ17,1,2),0)))","v":0},{"$f":"IF(Edit!$A$42=TRUE,Edit!AK17,IF(OR(AK17=1,AK17=2),CHOOSE(MIN(5,BBlues!AK17+BReds!AK17),0,0,AK17,AK17,0),IF(BBlues!AK17+BReds!AK17=3,IF(BBlues!AK17>BReds!AK17,1,2),0)))","v":0},{"$f":"IF(Edit!$A$42=TRUE,Edit!AL17,IF(OR(AL17=1,AL17=2),CHOOSE(MIN(5,BBlues!AL17+BReds!AL17),0,0,AL17,AL17,0),IF(BBlues!AL17+BReds!AL17=3,IF(BBlues!AL17>BReds!AL17,1,2),0)))","v":0}]
[null,{"$f":"IF(Edit!$A$42=TRUE,Edit!B18,IF(OR(B18=1,B18=2),CHOOSE(MIN(5,BBlues!B18+BReds!B18),0,0,B18,B18,0),IF(BBlues!B18+BReds!B18=3,IF(BBlues!B18>BReds!B18,1,2),0)))","v":0},{"$f":"IF(Edit!$A$42=TRUE,Edit!C18,IF(OR(C18=1,C18=2),CHOOSE(MIN(5,BBlues!C18+BReds!C18),0,0,C18,C18,0),IF(BBlues!C18+BReds!C18=3,IF(BBlues!C18>BReds!C18,1,2),0)))","v":0},{"$f":"IF(Edit!$A$42=TRUE,Edit!D18,IF(OR(D18=1,D18=2),CHOOSE(MIN(5,BBlues!D18+BReds!D18),0,0,D18,D18,0),IF(BBlues!D18+BReds!D18=3,IF(BBlues!D18>BReds!D18,1,2),0)))","v":0},{"$f":"IF(Edit!$A$42=TRUE,Edit!E18,IF(OR(E18=1,E18=2),CHOOSE(MIN(5,BBlues!E18+BReds!E18),0,0,E18,E18,0),IF(BBlues!E18+BReds!E18=3,IF(BBlues!E18>BReds!E18,1,2),0)))","v":0},{"$f":"IF(Edit!$A$42=TRUE,Edit!F18,IF(OR(F18=1,F18=2),CHOOSE(MIN(5,BBlues!F18+BReds!F18),0,0,F18,F18,0),IF(BBlues!F18+BReds!F18=3,IF(BBlues!F18>BReds!F18,1,2),0)))","v":0},{"$f":"IF(Edit!$A$42=TRUE,Edit!G18,IF(OR(G18=1,G18=2),CHOOSE(MIN(5,BBlues!G18+BReds!G18),0,0,G18,G18,0),IF(BBlues!G18+BReds!G18=3,IF(BBlues!G18>BReds!G18,1,2),0)))","v":2},{"$f":"IF(Edit!$A$42=TRUE,Edit!H18,IF(OR(H18=1,H18=2),CHOOSE(MIN(5,BBlues!H18+BReds!H18),0,0,H18,H18,0),IF(BBlues!H18+BReds!H18=3,IF(BBlues!H18>BReds!H18,1,2),0)))","v":2},{"$f":"IF(Edit!$A$42=TRUE,Edit!I18,IF(OR(I18=1,I18=2),CHOOSE(MIN(5,BBlues!I18+BReds!I18),0,0,I18,I18,0),IF(BBlues!I18+BReds!I18=3,IF(BBlues!I18>BReds!I18,1,2),0)))","v":0},{"$f":"IF(Edit!$A$42=TRUE,Edit!J18,IF(OR(J18=1,J18=2),CHOOSE(MIN(5,BBlues!J18+BReds!J18),0,0,J18,J18,0),IF(BBlues!J18+BReds!J18=3,IF(BBlues!J18>BReds!J18,1,2),0)))","v":0},{"$f":"IF(Edit!$A$42=TRUE,Edit!K18,IF(OR(K18=1,K18=2),CHOOSE(MIN(5,BBlues!K18+BReds!K18),0,0,K18,K18,0),IF(BBlues!K18+BReds!K18=3,IF(BBlues!K18>BReds!K18,1,2),0)))","v":0},{"$f":"IF(Edit!$A$42=TRUE,Edit!L18,IF(OR(L18=1,L18=2),CHOOSE(MIN(5,BBlues!L18+BReds!L18),0,0,L18,L18,0),IF(BBlues!L18+BReds!L18=3,IF(BBlues!L18>BReds!L18,1,2),0)))","v":0},{"$f":"IF(Edit!$A$42=TRUE,Edit!M18,IF(OR(M18=1,M18=2),CHOOSE(MIN(5,BBlues!M18+BReds!M18),0,0,M18,M18,0),IF(BBlues!M18+BReds!M18=3,IF(BBlues!M18>BReds!M18,1,2),0)))","v":0},{"$f":"IF(Edit!$A$42=TRUE,Edit!N18,IF(OR(N18=1,N18=2),CHOOSE(MIN(5,BBlues!N18+BReds!N18),0,0,N18,N18,0),IF(BBlues!N18+BReds!N18=3,IF(BBlues!N18>BReds!N18,1,2),0)))","v":1},{"$f":"IF(Edit!$A$42=TRUE,Edit!O18,IF(OR(O18=1,O18=2),CHOOSE(MIN(5,BBlues!O18+BReds!O18),0,0,O18,O18,0),IF(BBlues!O18+BReds!O18=3,IF(BBlues!O18>BReds!O18,1,2),0)))","v":1},{"$f":"IF(Edit!$A$42=TRUE,Edit!P18,IF(OR(P18=1,P18=2),CHOOSE(MIN(5,BBlues!P18+BReds!P18),0,0,P18,P18,0),IF(BBlues!P18+BReds!P18=3,IF(BBlues!P18>BReds!P18,1,2),0)))","v":1},{"$f":"IF(Edit!$A$42=TRUE,Edit!Q18,IF(OR(Q18=1,Q18=2),CHOOSE(MIN(5,BBlues!Q18+BReds!Q18),0,0,Q18,Q18,0),IF(BBlues!Q18+BReds!Q18=3,IF(BBlues!Q18>BReds!Q18,1,2),0)))","v":0},{"$f":"IF(Edit!$A$42=TRUE,Edit!R18,IF(OR(R18=1,R18=2),CHOOSE(MIN(5,BBlues!R18+BReds!R18),0,0,R18,R18,0),IF(BBlues!R18+BReds!R18=3,IF(BBlues!R18>BReds!R18,1,2),0)))","v":0},{"$f":"IF(Edit!$A$42=TRUE,Edit!S18,IF(OR(S18=1,S18=2),CHOOSE(MIN(5,BBlues!S18+BReds!S18),0,0,S18,S18,0),IF(BBlues!S18+BReds!S18=3,IF(BBlues!S18>BReds!S18,1,2),0)))","v":0},{"$f":"IF(Edit!$A$42=TRUE,Edit!T18,IF(OR(T18=1,T18=2),CHOOSE(MIN(5,BBlues!T18+BReds!T18),0,0,T18,T18,0),IF(BBlues!T18+BReds!T18=3,IF(BBlues!T18>BReds!T18,1,2),0)))","v":0},{"$f":"IF(Edit!$A$42=TRUE,Edit!U18,IF(OR(U18=1,U18=2),CHOOSE(MIN(5,BBlues!U18+BReds!U18),0,0,U18,U18,0),IF(BBlues!U18+BReds!U18=3,IF(BBlues!U18>BReds!U18,1,2),0)))","v":0},{"$f":"IF(Edit!$A$42=TRUE,Edit!V18,IF(OR(V18=1,V18=2),CHOOSE(MIN(5,BBlues!V18+BReds!V18),0,0,V18,V18,0),IF(BBlues!V18+BReds!V18=3,IF(BBlues!V18>BReds!V18,1,2),0)))","v":0},{"$f":"IF(Edit!$A$42=TRUE,Edit!W18,IF(OR(W18=1,W18=2),CHOOSE(MIN(5,BBlues!W18+BReds!W18),0,0,W18,W18,0),IF(BBlues!W18+BReds!W18=3,IF(BBlues!W18>BReds!W18,1,2),0)))","v":0},{"$f":"IF(Edit!$A$42=TRUE,Edit!X18,IF(OR(X18=1,X18=2),CHOOSE(MIN(5,BBlues!X18+BReds!X18),0,0,X18,X18,0),IF(BBlues!X18+BReds!X18=3,IF(BBlues!X18>BReds!X18,1,2),0)))","v":0},{"$f":"IF(Edit!$A$42=TRUE,Edit!Y18,IF(OR(Y18=1,Y18=2),CHOOSE(MIN(5,BBlues!Y18+BReds!Y18),0,0,Y18,Y18,0),IF(BBlues!Y18+BReds!Y18=3,IF(BBlues!Y18>BReds!Y18,1,2),0)))","v":0},{"$f":"IF(Edit!$A$42=TRUE,Edit!Z18,IF(OR(Z18=1,Z18=2),CHOOSE(MIN(5,BBlues!Z18+BReds!Z18),0,0,Z18,Z18,0),IF(BBlues!Z18+BReds!Z18=3,IF(BBlues!Z18>BReds!Z18,1,2),0)))","v":0},{"$f":"IF(Edit!$A$42=TRUE,Edit!AA18,IF(OR(AA18=1,AA18=2),CHOOSE(MIN(5,BBlues!AA18+BReds!AA18),0,0,AA18,AA18,0),IF(BBlues!AA18+BReds!AA18=3,IF(BBlues!AA18>BReds!AA18,1,2),0)))","v":0},{"$f":"IF(Edit!$A$42=TRUE,Edit!AB18,IF(OR(AB18=1,AB18=2),CHOOSE(MIN(5,BBlues!AB18+BReds!AB18),0,0,AB18,AB18,0),IF(BBlues!AB18+BReds!AB18=3,IF(BBlues!AB18>BReds!AB18,1,2),0)))","v":0},{"$f":"IF(Edit!$A$42=TRUE,Edit!AC18,IF(OR(AC18=1,AC18=2),CHOOSE(MIN(5,BBlues!AC18+BReds!AC18),0,0,AC18,AC18,0),IF(BBlues!AC18+BReds!AC18=3,IF(BBlues!AC18>BReds!AC18,1,2),0)))","v":0},{"$f":"IF(Edit!$A$42=TRUE,Edit!AD18,IF(OR(AD18=1,AD18=2),CHOOSE(MIN(5,BBlues!AD18+BReds!AD18),0,0,AD18,AD18,0),IF(BBlues!AD18+BReds!AD18=3,IF(BBlues!AD18>BReds!AD18,1,2),0)))","v":0},{"$f":"IF(Edit!$A$42=TRUE,Edit!AE18,IF(OR(AE18=1,AE18=2),CHOOSE(MIN(5,BBlues!AE18+BReds!AE18),0,0,AE18,AE18,0),IF(BBlues!AE18+BReds!AE18=3,IF(BBlues!AE18>BReds!AE18,1,2),0)))","v":0},{"$f":"IF(Edit!$A$42=TRUE,Edit!AF18,IF(OR(AF18=1,AF18=2),CHOOSE(MIN(5,BBlues!AF18+BReds!AF18),0,0,AF18,AF18,0),IF(BBlues!AF18+BReds!AF18=3,IF(BBlues!AF18>BReds!AF18,1,2),0)))","v":0},{"$f":"IF(Edit!$A$42=TRUE,Edit!AG18,IF(OR(AG18=1,AG18=2),CHOOSE(MIN(5,BBlues!AG18+BReds!AG18),0,0,AG18,AG18,0),IF(BBlues!AG18+BReds!AG18=3,IF(BBlues!AG18>BReds!AG18,1,2),0)))","v":0},{"$f":"IF(Edit!$A$42=TRUE,Edit!AH18,IF(OR(AH18=1,AH18=2),CHOOSE(MIN(5,BBlues!AH18+BReds!AH18),0,0,AH18,AH18,0),IF(BBlues!AH18+BReds!AH18=3,IF(BBlues!AH18>BReds!AH18,1,2),0)))","v":0},{"$f":"IF(Edit!$A$42=TRUE,Edit!AI18,IF(OR(AI18=1,AI18=2),CHOOSE(MIN(5,BBlues!AI18+BReds!AI18),0,0,AI18,AI18,0),IF(BBlues!AI18+BReds!AI18=3,IF(BBlues!AI18>BReds!AI18,1,2),0)))","v":0},{"$f":"IF(Edit!$A$42=TRUE,Edit!AJ18,IF(OR(AJ18=1,AJ18=2),CHOOSE(MIN(5,BBlues!AJ18+BReds!AJ18),0,0,AJ18,AJ18,0),IF(BBlues!AJ18+BReds!AJ18=3,IF(BBlues!AJ18>BReds!AJ18,1,2),0)))","v":0},{"$f":"IF(Edit!$A$42=TRUE,Edit!AK18,IF(OR(AK18=1,AK18=2),CHOOSE(MIN(5,BBlues!AK18+BReds!AK18),0,0,AK18,AK18,0),IF(BBlues!AK18+BReds!AK18=3,IF(BBlues!AK18>BReds!AK18,1,2),0)))","v":0},{"$f":"IF(Edit!$A$42=TRUE,Edit!AL18,IF(OR(AL18=1,AL18=2),CHOOSE(MIN(5,BBlues!AL18+BReds!AL18),0,0,AL18,AL18,0),IF(BBlues!AL18+BReds!AL18=3,IF(BBlues!AL18>BReds!AL18,1,2),0)))","v":0}]
[null,{"$f":"IF(Edit!$A$42=TRUE,Edit!B19,IF(OR(B19=1,B19=2),CHOOSE(MIN(5,BBlues!B19+BReds!B19),0,0,B19,B19,0),IF(BBlues!B19+BReds!B19=3,IF(BBlues!B19>BReds!B19,1,2),0)))","v":0},{"$f":"IF(Edit!$A$42=TRUE,Edit!C19,IF(OR(C19=1,C19=2),CHOOSE(MIN(5,BBlues!C19+BReds!C19),0,0,C19,C19,0),IF(BBlues!C19+BReds!C19=3,IF(BBlues!C19>BReds!C19,1,2),0)))","v":0},{"$f":"IF(Edit!$A$42=TRUE,Edit!D19,IF(OR(D19=1,D19=2),CHOOSE(MIN(5,BBlues!D19+BReds!D19),0,0,D19,D19,0),IF(BBlues!D19+BReds!D19=3,IF(BBlues!D19>BReds!D19,1,2),0)))","v":2},{"$f":"IF(Edit!$A$42=TRUE,Edit!E19,IF(OR(E19=1,E19=2),CHOOSE(MIN(5,BBlues!E19+BReds!E19),0,0,E19,E19,0),IF(BBlues!E19+BReds!E19=3,IF(BBlues!E19>BReds!E19,1,2),0)))","v":2},{"$f":"IF(Edit!$A$42=TRUE,Edit!F19,IF(OR(F19=1,F19=2),CHOOSE(MIN(5,BBlues!F19+BReds!F19),0,0,F19,F19,0),IF(BBlues!F19+BReds!F19=3,IF(BBlues!F19>BReds!F19,1,2),0)))","v":0},{"$f":"IF(Edit!$A$42=TRUE,Edit!G19,IF(OR(G19=1,G19=2),CHOOSE(MIN(5,BBlues!G19+BReds!G19),0,0,G19,G19,0),IF(BBlues!G19+BReds!G19=3,IF(BBlues!G19>BReds!G19,1,2),0)))","v":2},{"$f":"IF(Edit!$A$42=TRUE,Edit!H19,IF(OR(H19=1,H19=2),CHOOSE(MIN(5,BBlues!H19+BReds!H19),0,0,H19,H19,0),IF(BBlues!H19+BReds!H19=3,IF(BBlues!H19>BReds!H19,1,2),0)))","v":2},{"$f":"IF(Edit!$A$42=TRUE,Edit!I19,IF(OR(I19=1,I19=2),CHOOSE(MIN(5,BBlues!I19+BReds!I19),0,0,I19,I19,0),IF(BBlues!I19+BReds!I19=3,IF(BBlues!I19>BReds!I19,1,2),0)))","v":2},{"$f":"IF(Edit!$A$42=TRUE,Edit!J19,IF(OR(J19=1,J19=2),CHOOSE(MIN(5,BBlues!J19+BReds!J19),0,0,J19,J19,0),IF(BBlues!J19+BReds!J19=3,IF(BBlues!J19>BReds!J19,1,2),0)))","v":2},{"$f":"IF(Edit!$A$42=TRUE,Edit!K19,IF(OR(K19=1,K19=2),CHOOSE(MIN(5,BBlues!K19+BReds!K19),0,0,K19,K19,0),IF(BBlues!K19+BReds!K19=3,IF(BBlues!K19>BReds!K19,1,2),0)))","v":1},{"$f":"IF(Edit!$A$42=TRUE,Edit!L19,IF(OR(L19=1,L19=2),CHOOSE(MIN(5,BBlues!L19+BReds!L19),0,0,L19,L19,0),IF(BBlues!L19+BReds!L19=3,IF(BBlues!L19>BReds!L19,1,2),0)))","v":1},{"$f":"IF(Edit!$A$42=TRUE,Edit!M19,IF(OR(M19=1,M19=2),CHOOSE(MIN(5,BBlues!M19+BReds!M19),0,0,M19,M19,0),IF(BBlues!M19+BReds!M19=3,IF(BBlues!M19>BReds!M19,1,2),0)))","v":1},{"$f":"IF(Edit!$A$42=TRUE,Edit!N19,IF(OR(N19=1,N19=2),CHOOSE(MIN(5,BBlues!N19+BReds!N19),0,0,N19,N19,0),IF(BBlues!N19+BReds!N19=3,IF(BBlues!N19>BReds!N19,1,2),0)))","v":0},{"$f":"IF(Edit!$A$42=TRUE,Edit!O19,IF(OR(O19=1,O19=2),CHOOSE(MIN(5,BBlues!O19+BReds!O19),0,0,O19,O19,0),IF(BBlues!O19+BReds!O19=3,IF(BBlues!O19>BReds!O19,1,2),0)))","v":1},{"$f":"IF(Edit!$A$42=TRUE,Edit!P19,IF(OR(P19=1,P19=2),CHOOSE(MIN(5,BBlues!P19+BReds!P19),0,0,P19,P19,0),IF(BBlues!P19+BReds!P19=3,IF(BBlues!P19>BReds!P19,1,2),0)))","v":1},{"$f":"IF(Edit!$A$42=TRUE,Edit!Q19,IF(OR(Q19=1,Q19=2),CHOOSE(MIN(5,BBlues!Q19+BReds!Q19),0,0,Q19,Q19,0),IF(BBlues!Q19+BReds!Q19=3,IF(BBlues!Q19>BReds!Q19,1,2),0)))","v":0},{"$f":"IF(Edit!$A$42=TRUE,Edit!R19,IF(OR(R19=1,R19=2),CHOOSE(MIN(5,BBlues!R19+BReds!R19),0,0,R19,R19,0),IF(BBlues!R19+BReds!R19=3,IF(BBlues!R19>BReds!R19,1,2),0)))","v":0},{"$f":"IF(Edit!$A$42=TRUE,Edit!S19,IF(OR(S19=1,S19=2),CHOOSE(MIN(5,BBlues!S19+BReds!S19),0,0,S19,S19,0),IF(BBlues!S19+BReds!S19=3,IF(BBlues!S19>BReds!S19,1,2),0)))","v":0},{"$f":"IF(Edit!$A$42=TRUE,Edit!T19,IF(OR(T19=1,T19=2),CHOOSE(MIN(5,BBlues!T19+BReds!T19),0,0,T19,T19,0),IF(BBlues!T19+BReds!T19=3,IF(BBlues!T19>BReds!T19,1,2),0)))","v":0},{"$f":"IF(Edit!$A$42=TRUE,Edit!U19,IF(OR(U19=1,U19=2),CHOOSE(MIN(5,BBlues!U19+BReds!U19),0,0,U19,U19,0),IF(BBlues!U19+BReds!U19=3,IF(BBlues!U19>BReds!U19,1,2),0)))","v":0},{"$f":"IF(Edit!$A$42=TRUE,Edit!V19,IF(OR(V19=1,V19=2),CHOOSE(MIN(5,BBlues!V19+BReds!V19),0,0,V19,V19,0),IF(BBlues!V19+BReds!V19=3,IF(BBlues!V19>BReds!V19,1,2),0)))","v":0},{"$f":"IF(Edit!$A$42=TRUE,Edit!W19,IF(OR(W19=1,W19=2),CHOOSE(MIN(5,BBlues!W19+BReds!W19),0,0,W19,W19,0),IF(BBlues!W19+BReds!W19=3,IF(BBlues!W19>BReds!W19,1,2),0)))","v":0},{"$f":"IF(Edit!$A$42=TRUE,Edit!X19,IF(OR(X19=1,X19=2),CHOOSE(MIN(5,BBlues!X19+BReds!X19),0,0,X19,X19,0),IF(BBlues!X19+BReds!X19=3,IF(BBlues!X19>BReds!X19,1,2),0)))","v":0},{"$f":"IF(Edit!$A$42=TRUE,Edit!Y19,IF(OR(Y19=1,Y19=2),CHOOSE(MIN(5,BBlues!Y19+BReds!Y19),0,0,Y19,Y19,0),IF(BBlues!Y19+BReds!Y19=3,IF(BBlues!Y19>BReds!Y19,1,2),0)))","v":0},{"$f":"IF(Edit!$A$42=TRUE,Edit!Z19,IF(OR(Z19=1,Z19=2),CHOOSE(MIN(5,BBlues!Z19+BReds!Z19),0,0,Z19,Z19,0),IF(BBlues!Z19+BReds!Z19=3,IF(BBlues!Z19>BReds!Z19,1,2),0)))","v":0},{"$f":"IF(Edit!$A$42=TRUE,Edit!AA19,IF(OR(AA19=1,AA19=2),CHOOSE(MIN(5,BBlues!AA19+BReds!AA19),0,0,AA19,AA19,0),IF(BBlues!AA19+BReds!AA19=3,IF(BBlues!AA19>BReds!AA19,1,2),0)))","v":0},{"$f":"IF(Edit!$A$42=TRUE,Edit!AB19,IF(OR(AB19=1,AB19=2),CHOOSE(MIN(5,BBlues!AB19+BReds!AB19),0,0,AB19,AB19,0),IF(BBlues!AB19+BReds!AB19=3,IF(BBlues!AB19>BReds!AB19,1,2),0)))","v":0},{"$f":"IF(Edit!$A$42=TRUE,Edit!AC19,IF(OR(AC19=1,AC19=2),CHOOSE(MIN(5,BBlues!AC19+BReds!AC19),0,0,AC19,AC19,0),IF(BBlues!AC19+BReds!AC19=3,IF(BBlues!AC19>BReds!AC19,1,2),0)))","v":0},{"$f":"IF(Edit!$A$42=TRUE,Edit!AD19,IF(OR(AD19=1,AD19=2),CHOOSE(MIN(5,BBlues!AD19+BReds!AD19),0,0,AD19,AD19,0),IF(BBlues!AD19+BReds!AD19=3,IF(BBlues!AD19>BReds!AD19,1,2),0)))","v":0},{"$f":"IF(Edit!$A$42=TRUE,Edit!AE19,IF(OR(AE19=1,AE19=2),CHOOSE(MIN(5,BBlues!AE19+BReds!AE19),0,0,AE19,AE19,0),IF(BBlues!AE19+BReds!AE19=3,IF(BBlues!AE19>BReds!AE19,1,2),0)))","v":0},{"$f":"IF(Edit!$A$42=TRUE,Edit!AF19,IF(OR(AF19=1,AF19=2),CHOOSE(MIN(5,BBlues!AF19+BReds!AF19),0,0,AF19,AF19,0),IF(BBlues!AF19+BReds!AF19=3,IF(BBlues!AF19>BReds!AF19,1,2),0)))","v":0},{"$f":"IF(Edit!$A$42=TRUE,Edit!AG19,IF(OR(AG19=1,AG19=2),CHOOSE(MIN(5,BBlues!AG19+BReds!AG19),0,0,AG19,AG19,0),IF(BBlues!AG19+BReds!AG19=3,IF(BBlues!AG19>BReds!AG19,1,2),0)))","v":0},{"$f":"IF(Edit!$A$42=TRUE,Edit!AH19,IF(OR(AH19=1,AH19=2),CHOOSE(MIN(5,BBlues!AH19+BReds!AH19),0,0,AH19,AH19,0),IF(BBlues!AH19+BReds!AH19=3,IF(BBlues!AH19>BReds!AH19,1,2),0)))","v":0},{"$f":"IF(Edit!$A$42=TRUE,Edit!AI19,IF(OR(AI19=1,AI19=2),CHOOSE(MIN(5,BBlues!AI19+BReds!AI19),0,0,AI19,AI19,0),IF(BBlues!AI19+BReds!AI19=3,IF(BBlues!AI19>BReds!AI19,1,2),0)))","v":0},{"$f":"IF(Edit!$A$42=TRUE,Edit!AJ19,IF(OR(AJ19=1,AJ19=2),CHOOSE(MIN(5,BBlues!AJ19+BReds!AJ19),0,0,AJ19,AJ19,0),IF(BBlues!AJ19+BReds!AJ19=3,IF(BBlues!AJ19>BReds!AJ19,1,2),0)))","v":0},{"$f":"IF(Edit!$A$42=TRUE,Edit!AK19,IF(OR(AK19=1,AK19=2),CHOOSE(MIN(5,BBlues!AK19+BReds!AK19),0,0,AK19,AK19,0),IF(BBlues!AK19+BReds!AK19=3,IF(BBlues!AK19>BReds!AK19,1,2),0)))","v":0},{"$f":"IF(Edit!$A$42=TRUE,Edit!AL19,IF(OR(AL19=1,AL19=2),CHOOSE(MIN(5,BBlues!AL19+BReds!AL19),0,0,AL19,AL19,0),IF(BBlues!AL19+BReds!AL19=3,IF(BBlues!AL19>BReds!AL19,1,2),0)))","v":0}]
[null,{"$f":"IF(Edit!$A$42=TRUE,Edit!B20,IF(OR(B20=1,B20=2),CHOOSE(MIN(5,BBlues!B20+BReds!B20),0,0,B20,B20,0),IF(BBlues!B20+BReds!B20=3,IF(BBlues!B20>BReds!B20,1,2),0)))","v":2},{"$f":"IF(Edit!$A$42=TRUE,Edit!C20,IF(OR(C20=1,C20=2),CHOOSE(MIN(5,BBlues!C20+BReds!C20),0,0,C20,C20,0),IF(BBlues!C20+BReds!C20=3,IF(BBlues!C20>BReds!C20,1,2),0)))","v":2},{"$f":"IF(Edit!$A$42=TRUE,Edit!D20,IF(OR(D20=1,D20=2),CHOOSE(MIN(5,BBlues!D20+BReds!D20),0,0,D20,D20,0),IF(BBlues!D20+BReds!D20=3,IF(BBlues!D20>BReds!D20,1,2),0)))","v":2},{"$f":"IF(Edit!$A$42=TRUE,Edit!E20,IF(OR(E20=1,E20=2),CHOOSE(MIN(5,BBlues!E20+BReds!E20),0,0,E20,E20,0),IF(BBlues!E20+BReds!E20=3,IF(BBlues!E20>BReds!E20,1,2),0)))","v":2},{"$f":"IF(Edit!$A$42=TRUE,Edit!F20,IF(OR(F20=1,F20=2),CHOOSE(MIN(5,BBlues!F20+BReds!F20),0,0,F20,F20,0),IF(BBlues!F20+BReds!F20=3,IF(BBlues!F20>BReds!F20,1,2),0)))","v":2},{"$f":"IF(Edit!$A$42=TRUE,Edit!G20,IF(OR(G20=1,G20=2),CHOOSE(MIN(5,BBlues!G20+BReds!G20),0,0,G20,G20,0),IF(BBlues!G20+BReds!G20=3,IF(BBlues!G20>BReds!G20,1,2),0)))","v":2},{"$f":"IF(Edit!$A$42=TRUE,Edit!H20,IF(OR(H20=1,H20=2),CHOOSE(MIN(5,BBlues!H20+BReds!H20),0,0,H20,H20,0),IF(BBlues!H20+BReds!H20=3,IF(BBlues!H20>BReds!H20,1,2),0)))","v":2},{"$f":"IF(Edit!$A$42=TRUE,Edit!I20,IF(OR(I20=1,I20=2),CHOOSE(MIN(5,BBlues!I20+BReds!I20),0,0,I20,I20,0),IF(BBlues!I20+BReds!I20=3,IF(BBlues!I20>BReds!I20,1,2),0)))","v":2},{"$f":"IF(Edit!$A$42=TRUE,Edit!J20,IF(OR(J20=1,J20=2),CHOOSE(MIN(5,BBlues!J20+BReds!J20),0,0,J20,J20,0),IF(BBlues!J20+BReds!J20=3,IF(BBlues!J20>BReds!J20,1,2),0)))","v":0},{"$f":"IF(Edit!$A$42=TRUE,Edit!K20,IF(OR(K20=1,K20=2),CHOOSE(MIN(5,BBlues!K20+BReds!K20),0,0,K20,K20,0),IF(BBlues!K20+BReds!K20=3,IF(BBlues!K20>BReds!K20,1,2),0)))","v":1},{"$f":"IF(Edit!$A$42=TRUE,Edit!L20,IF(OR(L20=1,L20=2),CHOOSE(MIN(5,BBlues!L20+BReds!L20),0,0,L20,L20,0),IF(BBlues!L20+BReds!L20=3,IF(BBlues!L20>BReds!L20,1,2),0)))","v":0},{"$f":"IF(Edit!$A$42=TRUE,Edit!M20,IF(OR(M20=1,M20=2),CHOOSE(MIN(5,BBlues!M20+BReds!M20),0,0,M20,M20,0),IF(BBlues!M20+BReds!M20=3,IF(BBlues!M20>BReds!M20,1,2),0)))","v":2},{"$f":"IF(Edit!$A$42=TRUE,Edit!N20,IF(OR(N20=1,N20=2),CHOOSE(MIN(5,BBlues!N20+BReds!N20),0,0,N20,N20,0),IF(BBlues!N20+BReds!N20=3,IF(BBlues!N20>BReds!N20,1,2),0)))","v":2},{"$f":"IF(Edit!$A$42=TRUE,Edit!O20,IF(OR(O20=1,O20=2),CHOOSE(MIN(5,BBlues!O20+BReds!O20),0,0,O20,O20,0),IF(BBlues!O20+BReds!O20=3,IF(BBlues!O20>BReds!O20,1,2),0)))","v":1},{"$f":"IF(Edit!$A$42=TRUE,Edit!P20,IF(OR(P20=1,P20=2),CHOOSE(MIN(5,BBlues!P20+BReds!P20),0,0,P20,P20,0),IF(BBlues!P20+BReds!P20=3,IF(BBlues!P20>BReds!P20,1,2),0)))","v":0},{"$f":"IF(Edit!$A$42=TRUE,Edit!Q20,IF(OR(Q20=1,Q20=2),CHOOSE(MIN(5,BBlues!Q20+BReds!Q20),0,0,Q20,Q20,0),IF(BBlues!Q20+BReds!Q20=3,IF(BBlues!Q20>BReds!Q20,1,2),0)))","v":0},{"$f":"IF(Edit!$A$42=TRUE,Edit!R20,IF(OR(R20=1,R20=2),CHOOSE(MIN(5,BBlues!R20+BReds!R20),0,0,R20,R20,0),IF(BBlues!R20+BReds!R20=3,IF(BBlues!R20>BReds!R20,1,2),0)))","v":0},{"$f":"IF(Edit!$A$42=TRUE,Edit!S20,IF(OR(S20=1,S20=2),CHOOSE(MIN(5,BBlues!S20+BReds!S20),0,0,S20,S20,0),IF(BBlues!S20+BReds!S20=3,IF(BBlues!S20>BReds!S20,1,2),0)))","v":0},{"$f":"IF(Edit!$A$42=TRUE,Edit!T20,IF(OR(T20=1,T20=2),CHOOSE(MIN(5,BBlues!T20+BReds!T20),0,0,T20,T20,0),IF(BBlues!T20+BReds!T20=3,IF(BBlues!T20>BReds!T20,1,2),0)))","v":0},{"$f":"IF(Edit!$A$42=TRUE,Edit!U20,IF(OR(U20=1,U20=2),CHOOSE(MIN(5,BBlues!U20+BReds!U20),0,0,U20,U20,0),IF(BBlues!U20+BReds!U20=3,IF(BBlues!U20>BReds!U20,1,2),0)))","v":0},{"$f":"IF(Edit!$A$42=TRUE,Edit!V20,IF(OR(V20=1,V20=2),CHOOSE(MIN(5,BBlues!V20+BReds!V20),0,0,V20,V20,0),IF(BBlues!V20+BReds!V20=3,IF(BBlues!V20>BReds!V20,1,2),0)))","v":0},{"$f":"IF(Edit!$A$42=TRUE,Edit!W20,IF(OR(W20=1,W20=2),CHOOSE(MIN(5,BBlues!W20+BReds!W20),0,0,W20,W20,0),IF(BBlues!W20+BReds!W20=3,IF(BBlues!W20>BReds!W20,1,2),0)))","v":0},{"$f":"IF(Edit!$A$42=TRUE,Edit!X20,IF(OR(X20=1,X20=2),CHOOSE(MIN(5,BBlues!X20+BReds!X20),0,0,X20,X20,0),IF(BBlues!X20+BReds!X20=3,IF(BBlues!X20>BReds!X20,1,2),0)))","v":0},{"$f":"IF(Edit!$A$42=TRUE,Edit!Y20,IF(OR(Y20=1,Y20=2),CHOOSE(MIN(5,BBlues!Y20+BReds!Y20),0,0,Y20,Y20,0),IF(BBlues!Y20+BReds!Y20=3,IF(BBlues!Y20>BReds!Y20,1,2),0)))","v":0},{"$f":"IF(Edit!$A$42=TRUE,Edit!Z20,IF(OR(Z20=1,Z20=2),CHOOSE(MIN(5,BBlues!Z20+BReds!Z20),0,0,Z20,Z20,0),IF(BBlues!Z20+BReds!Z20=3,IF(BBlues!Z20>BReds!Z20,1,2),0)))","v":0},{"$f":"IF(Edit!$A$42=TRUE,Edit!AA20,IF(OR(AA20=1,AA20=2),CHOOSE(MIN(5,BBlues!AA20+BReds!AA20),0,0,AA20,AA20,0),IF(BBlues!AA20+BReds!AA20=3,IF(BBlues!AA20>BReds!AA20,1,2),0)))","v":0},{"$f":"IF(Edit!$A$42=TRUE,Edit!AB20,IF(OR(AB20=1,AB20=2),CHOOSE(MIN(5,BBlues!AB20+BReds!AB20),0,0,AB20,AB20,0),IF(BBlues!AB20+BReds!AB20=3,IF(BBlues!AB20>BReds!AB20,1,2),0)))","v":0},{"$f":"IF(Edit!$A$42=TRUE,Edit!AC20,IF(OR(AC20=1,AC20=2),CHOOSE(MIN(5,BBlues!AC20+BReds!AC20),0,0,AC20,AC20,0),IF(BBlues!AC20+BReds!AC20=3,IF(BBlues!AC20>BReds!AC20,1,2),0)))","v":0},{"$f":"IF(Edit!$A$42=TRUE,Edit!AD20,IF(OR(AD20=1,AD20=2),CHOOSE(MIN(5,BBlues!AD20+BReds!AD20),0,0,AD20,AD20,0),IF(BBlues!AD20+BReds!AD20=3,IF(BBlues!AD20>BReds!AD20,1,2),0)))","v":0},{"$f":"IF(Edit!$A$42=TRUE,Edit!AE20,IF(OR(AE20=1,AE20=2),CHOOSE(MIN(5,BBlues!AE20+BReds!AE20),0,0,AE20,AE20,0),IF(BBlues!AE20+BReds!AE20=3,IF(BBlues!AE20>BReds!AE20,1,2),0)))","v":0},{"$f":"IF(Edit!$A$42=TRUE,Edit!AF20,IF(OR(AF20=1,AF20=2),CHOOSE(MIN(5,BBlues!AF20+BReds!AF20),0,0,AF20,AF20,0),IF(BBlues!AF20+BReds!AF20=3,IF(BBlues!AF20>BReds!AF20,1,2),0)))","v":0},{"$f":"IF(Edit!$A$42=TRUE,Edit!AG20,IF(OR(AG20=1,AG20=2),CHOOSE(MIN(5,BBlues!AG20+BReds!AG20),0,0,AG20,AG20,0),IF(BBlues!AG20+BReds!AG20=3,IF(BBlues!AG20>BReds!AG20,1,2),0)))","v":0},{"$f":"IF(Edit!$A$42=TRUE,Edit!AH20,IF(OR(AH20=1,AH20=2),CHOOSE(MIN(5,BBlues!AH20+BReds!AH20),0,0,AH20,AH20,0),IF(BBlues!AH20+BReds!AH20=3,IF(BBlues!AH20>BReds!AH20,1,2),0)))","v":0},{"$f":"IF(Edit!$A$42=TRUE,Edit!AI20,IF(OR(AI20=1,AI20=2),CHOOSE(MIN(5,BBlues!AI20+BReds!AI20),0,0,AI20,AI20,0),IF(BBlues!AI20+BReds!AI20=3,IF(BBlues!AI20>BReds!AI20,1,2),0)))","v":1},{"$f":"IF(Edit!$A$42=TRUE,Edit!AJ20,IF(OR(AJ20=1,AJ20=2),CHOOSE(MIN(5,BBlues!AJ20+BReds!AJ20),0,0,AJ20,AJ20,0),IF(BBlues!AJ20+BReds!AJ20=3,IF(BBlues!AJ20>BReds!AJ20,1,2),0)))","v":1},{"$f":"IF(Edit!$A$42=TRUE,Edit!AK20,IF(OR(AK20=1,AK20=2),CHOOSE(MIN(5,BBlues!AK20+BReds!AK20),0,0,AK20,AK20,0),IF(BBlues!AK20+BReds!AK20=3,IF(BBlues!AK20>BReds!AK20,1,2),0)))","v":0},{"$f":"IF(Edit!$A$42=TRUE,Edit!AL20,IF(OR(AL20=1,AL20=2),CHOOSE(MIN(5,BBlues!AL20+BReds!AL20),0,0,AL20,AL20,0),IF(BBlues!AL20+BReds!AL20=3,IF(BBlues!AL20>BReds!AL20,1,2),0)))","v":0}]
[null,{"$f":"IF(Edit!$A$42=TRUE,Edit!B21,IF(OR(B21=1,B21=2),CHOOSE(MIN(5,BBlues!B21+BReds!B21),0,0,B21,B21,0),IF(BBlues!B21+BReds!B21=3,IF(BBlues!B21>BReds!B21,1,2),0)))","v":2},{"$f":"IF(Edit!$A$42=TRUE,Edit!C21,IF(OR(C21=1,C21=2),CHOOSE(MIN(5,BBlues!C21+BReds!C21),0,0,C21,C21,0),IF(BBlues!C21+BReds!C21=3,IF(BBlues!C21>BReds!C21,1,2),0)))","v":2},{"$f":"IF(Edit!$A$42=TRUE,Edit!D21,IF(OR(D21=1,D21=2),CHOOSE(MIN(5,BBlues!D21+BReds!D21),0,0,D21,D21,0),IF(BBlues!D21+BReds!D21=3,IF(BBlues!D21>BReds!D21,1,2),0)))","v":0},{"$f":"IF(Edit!$A$42=TRUE,Edit!E21,IF(OR(E21=1,E21=2),CHOOSE(MIN(5,BBlues!E21+BReds!E21),0,0,E21,E21,0),IF(BBlues!E21+BReds!E21=3,IF(BBlues!E21>BReds!E21,1,2),0)))","v":0},{"$f":"IF(Edit!$A$42=TRUE,Edit!F21,IF(OR(F21=1,F21=2),CHOOSE(MIN(5,BBlues!F21+BReds!F21),0,0,F21,F21,0),IF(BBlues!F21+BReds!F21=3,IF(BBlues!F21>BReds!F21,1,2),0)))","v":2},{"$f":"IF(Edit!$A$42=TRUE,Edit!G21,IF(OR(G21=1,G21=2),CHOOSE(MIN(5,BBlues!G21+BReds!G21),0,0,G21,G21,0),IF(BBlues!G21+BReds!G21=3,IF(BBlues!G21>BReds!G21,1,2),0)))","v":2},{"$f":"IF(Edit!$A$42=TRUE,Edit!H21,IF(OR(H21=1,H21=2),CHOOSE(MIN(5,BBlues!H21+BReds!H21),0,0,H21,H21,0),IF(BBlues!H21+BReds!H21=3,IF(BBlues!H21>BReds!H21,1,2),0)))","v":2},{"$f":"IF(Edit!$A$42=TRUE,Edit!I21,IF(OR(I21=1,I21=2),CHOOSE(MIN(5,BBlues!I21+BReds!I21),0,0,I21,I21,0),IF(BBlues!I21+BReds!I21=3,IF(BBlues!I21>BReds!I21,1,2),0)))","v":0},{"$f":"IF(Edit!$A$42=TRUE,Edit!J21,IF(OR(J21=1,J21=2),CHOOSE(MIN(5,BBlues!J21+BReds!J21),0,0,J21,J21,0),IF(BBlues!J21+BReds!J21=3,IF(BBlues!J21>BReds!J21,1,2),0)))","v":2},{"$f":"IF(Edit!$A$42=TRUE,Edit!K21,IF(OR(K21=1,K21=2),CHOOSE(MIN(5,BBlues!K21+BReds!K21),0,0,K21,K21,0),IF(BBlues!K21+BReds!K21=3,IF(BBlues!K21>BReds!K21,1,2),0)))","v":2},{"$f":"IF(Edit!$A$42=TRUE,Edit!L21,IF(OR(L21=1,L21=2),CHOOSE(MIN(5,BBlues!L21+BReds!L21),0,0,L21,L21,0),IF(BBlues!L21+BReds!L21=3,IF(BBlues!L21>BReds!L21,1,2),0)))","v":2},{"$f":"IF(Edit!$A$42=TRUE,Edit!M21,IF(OR(M21=1,M21=2),CHOOSE(MIN(5,BBlues!M21+BReds!M21),0,0,M21,M21,0),IF(BBlues!M21+BReds!M21=3,IF(BBlues!M21>BReds!M21,1,2),0)))","v":0},{"$f":"IF(Edit!$A$42=TRUE,Edit!N21,IF(OR(N21=1,N21=2),CHOOSE(MIN(5,BBlues!N21+BReds!N21),0,0,N21,N21,0),IF(BBlues!N21+BReds!N21=3,IF(BBlues!N21>BReds!N21,1,2),0)))","v":0},{"$f":"IF(Edit!$A$42=TRUE,Edit!O21,IF(OR(O21=1,O21=2),CHOOSE(MIN(5,BBlues!O21+BReds!O21),0,0,O21,O21,0),IF(BBlues!O21+BReds!O21=3,IF(BBlues!O21>BReds!O21,1,2),0)))","v":0},{"$f":"IF(Edit!$A$42=TRUE,Edit!P21,IF(OR(P21=1,P21=2),CHOOSE(MIN(5,BBlues!P21+BReds!P21),0,0,P21,P21,0),IF(BBlues!P21+BReds!P21=3,IF(BBlues!P21>BReds!P21,1,2),0)))","v":0},{"$f":"IF(Edit!$A$42=TRUE,Edit!Q21,IF(OR(Q21=1,Q21=2),CHOOSE(MIN(5,BBlues!Q21+BReds!Q21),0,0,Q21,Q21,0),IF(BBlues!Q21+BReds!Q21=3,IF(BBlues!Q21>BReds!Q21,1,2),0)))","v":0},{"$f":"IF(Edit!$A$42=TRUE,Edit!R21,IF(OR(R21=1,R21=2),CHOOSE(MIN(5,BBlues!R21+BReds!R21),0,0,R21,R21,0),IF(BBlues!R21+BReds!R21=3,IF(BBlues!R21>BReds!R21,1,2),0)))","v":0},{"$f":"IF(Edit!$A$42=TRUE,Edit!S21,IF(OR(S21=1,S21=2),CHOOSE(MIN(5,BBlues!S21+BReds!S21),0,0,S21,S21,0),IF(BBlues!S21+BReds!S21=3,IF(BBlues!S21>BReds!S21,1,2),0)))","v":0},{"$f":"IF(Edit!$A$42=TRUE,Edit!T21,IF(OR(T21=1,T21=2),CHOOSE(MIN(5,BBlues!T21+BReds!T21),0,0,T21,T21,0),IF(BBlues!T21+BReds!T21=3,IF(BBlues!T21>BReds!T21,1,2),0)))","v":0},{"$f":"IF(Edit!$A$42=TRUE,Edit!U21,IF(OR(U21=1,U21=2),CHOOSE(MIN(5,BBlues!U21+BReds!U21),0,0,U21,U21,0),IF(BBlues!U21+BReds!U21=3,IF(BBlues!U21>BReds!U21,1,2),0)))","v":0},{"$f":"IF(Edit!$A$42=TRUE,Edit!V21,IF(OR(V21=1,V21=2),CHOOSE(MIN(5,BBlues!V21+BReds!V21),0,0,V21,V21,0),IF(BBlues!V21+BReds!V21=3,IF(BBlues!V21>BReds!V21,1,2),0)))","v":0},{"$f":"IF(Edit!$A$42=TRUE,Edit!W21,IF(OR(W21=1,W21=2),CHOOSE(MIN(5,BBlues!W21+BReds!W21),0,0,W21,W21,0),IF(BBlues!W21+BReds!W21=3,IF(BBlues!W21>BReds!W21,1,2),0)))","v":0},{"$f":"IF(Edit!$A$42=TRUE,Edit!X21,IF(OR(X21=1,X21=2),CHOOSE(MIN(5,BBlues!X21+BReds!X21),0,0,X21,X21,0),IF(BBlues!X21+BReds!X21=3,IF(BBlues!X21>BReds!X21,1,2),0)))","v":0},{"$f":"IF(Edit!$A$42=TRUE,Edit!Y21,IF(OR(Y21=1,Y21=2),CHOOSE(MIN(5,BBlues!Y21+BReds!Y21),0,0,Y21,Y21,0),IF(BBlues!Y21+BReds!Y21=3,IF(BBlues!Y21>BReds!Y21,1,2),0)))","v":0},{"$f":"IF(Edit!$A$42=TRUE,Edit!Z21,IF(OR(Z21=1,Z21=2),CHOOSE(MIN(5,BBlues!Z21+BReds!Z21),0,0,Z21,Z21,0),IF(BBlues!Z21+BReds!Z21=3,IF(BBlues!Z21>BReds!Z21,1,2),0)))","v":0},{"$f":"IF(Edit!$A$42=TRUE,Edit!AA21,IF(OR(AA21=1,AA21=2),CHOOSE(MIN(5,BBlues!AA21+BReds!AA21),0,0,AA21,AA21,0),IF(BBlues!AA21+BReds!AA21=3,IF(BBlues!AA21>BReds!AA21,1,2),0)))","v":0},{"$f":"IF(Edit!$A$42=TRUE,Edit!AB21,IF(OR(AB21=1,AB21=2),CHOOSE(MIN(5,BBlues!AB21+BReds!AB21),0,0,AB21,AB21,0),IF(BBlues!AB21+BReds!AB21=3,IF(BBlues!AB21>BReds!AB21,1,2),0)))","v":0},{"$f":"IF(Edit!$A$42=TRUE,Edit!AC21,IF(OR(AC21=1,AC21=2),CHOOSE(MIN(5,BBlues!AC21+BReds!AC21),0,0,AC21,AC21,0),IF(BBlues!AC21+BReds!AC21=3,IF(BBlues!AC21>BReds!AC21,1,2),0)))","v":0},{"$f":"IF(Edit!$A$42=TRUE,Edit!AD21,IF(OR(AD21=1,AD21=2),CHOOSE(MIN(5,BBlues!AD21+BReds!AD21),0,0,AD21,AD21,0),IF(BBlues!AD21+BReds!AD21=3,IF(BBlues!AD21>BReds!AD21,1,2),0)))","v":0},{"$f":"IF(Edit!$A$42=TRUE,Edit!AE21,IF(OR(AE21=1,AE21=2),CHOOSE(MIN(5,BBlues!AE21+BReds!AE21),0,0,AE21,AE21,0),IF(BBlues!AE21+BReds!AE21=3,IF(BBlues!AE21>BReds!AE21,1,2),0)))","v":1},{"$f":"IF(Edit!$A$42=TRUE,Edit!AF21,IF(OR(AF21=1,AF21=2),CHOOSE(MIN(5,BBlues!AF21+BReds!AF21),0,0,AF21,AF21,0),IF(BBlues!AF21+BReds!AF21=3,IF(BBlues!AF21>BReds!AF21,1,2),0)))","v":1},{"$f":"IF(Edit!$A$42=TRUE,Edit!AG21,IF(OR(AG21=1,AG21=2),CHOOSE(MIN(5,BBlues!AG21+BReds!AG21),0,0,AG21,AG21,0),IF(BBlues!AG21+BReds!AG21=3,IF(BBlues!AG21>BReds!AG21,1,2),0)))","v":0},{"$f":"IF(Edit!$A$42=TRUE,Edit!AH21,IF(OR(AH21=1,AH21=2),CHOOSE(MIN(5,BBlues!AH21+BReds!AH21),0,0,AH21,AH21,0),IF(BBlues!AH21+BReds!AH21=3,IF(BBlues!AH21>BReds!AH21,1,2),0)))","v":1},{"$f":"IF(Edit!$A$42=TRUE,Edit!AI21,IF(OR(AI21=1,AI21=2),CHOOSE(MIN(5,BBlues!AI21+BReds!AI21),0,0,AI21,AI21,0),IF(BBlues!AI21+BReds!AI21=3,IF(BBlues!AI21>BReds!AI21,1,2),0)))","v":1},{"$f":"IF(Edit!$A$42=TRUE,Edit!AJ21,IF(OR(AJ21=1,AJ21=2),CHOOSE(MIN(5,BBlues!AJ21+BReds!AJ21),0,0,AJ21,AJ21,0),IF(BBlues!AJ21+BReds!AJ21=3,IF(BBlues!AJ21>BReds!AJ21,1,2),0)))","v":0},{"$f":"IF(Edit!$A$42=TRUE,Edit!AK21,IF(OR(AK21=1,AK21=2),CHOOSE(MIN(5,BBlues!AK21+BReds!AK21),0,0,AK21,AK21,0),IF(BBlues!AK21+BReds!AK21=3,IF(BBlues!AK21>BReds!AK21,1,2),0)))","v":0},{"$f":"IF(Edit!$A$42=TRUE,Edit!AL21,IF(OR(AL21=1,AL21=2),CHOOSE(MIN(5,BBlues!AL21+BReds!AL21),0,0,AL21,AL21,0),IF(BBlues!AL21+BReds!AL21=3,IF(BBlues!AL21>BReds!AL21,1,2),0)))","v":0}]
[null,{"$f":"IF(Edit!$A$42=TRUE,Edit!B22,IF(OR(B22=1,B22=2),CHOOSE(MIN(5,BBlues!B22+BReds!B22),0,0,B22,B22,0),IF(BBlues!B22+BReds!B22=3,IF(BBlues!B22>BReds!B22,1,2),0)))","v":0},{"$f":"IF(Edit!$A$42=TRUE,Edit!C22,IF(OR(C22=1,C22=2),CHOOSE(MIN(5,BBlues!C22+BReds!C22),0,0,C22,C22,0),IF(BBlues!C22+BReds!C22=3,IF(BBlues!C22>BReds!C22,1,2),0)))","v":0},{"$f":"IF(Edit!$A$42=TRUE,Edit!D22,IF(OR(D22=1,D22=2),CHOOSE(MIN(5,BBlues!D22+BReds!D22),0,0,D22,D22,0),IF(BBlues!D22+BReds!D22=3,IF(BBlues!D22>BReds!D22,1,2),0)))","v":0},{"$f":"IF(Edit!$A$42=TRUE,Edit!E22,IF(OR(E22=1,E22=2),CHOOSE(MIN(5,BBlues!E22+BReds!E22),0,0,E22,E22,0),IF(BBlues!E22+BReds!E22=3,IF(BBlues!E22>BReds!E22,1,2),0)))","v":2},{"$f":"IF(Edit!$A$42=TRUE,Edit!F22,IF(OR(F22=1,F22=2),CHOOSE(MIN(5,BBlues!F22+BReds!F22),0,0,F22,F22,0),IF(BBlues!F22+BReds!F22=3,IF(BBlues!F22>BReds!F22,1,2),0)))","v":0},{"$f":"IF(Edit!$A$42=TRUE,Edit!G22,IF(OR(G22=1,G22=2),CHOOSE(MIN(5,BBlues!G22+BReds!G22),0,0,G22,G22,0),IF(BBlues!G22+BReds!G22=3,IF(BBlues!G22>BReds!G22,1,2),0)))","v":0},{"$f":"IF(Edit!$A$42=TRUE,Edit!H22,IF(OR(H22=1,H22=2),CHOOSE(MIN(5,BBlues!H22+BReds!H22),0,0,H22,H22,0),IF(BBlues!H22+BReds!H22=3,IF(BBlues!H22>BReds!H22,1,2),0)))","v":0},{"$f":"IF(Edit!$A$42=TRUE,Edit!I22,IF(OR(I22=1,I22=2),CHOOSE(MIN(5,BBlues!I22+BReds!I22),0,0,I22,I22,0),IF(BBlues!I22+BReds!I22=3,IF(BBlues!I22>BReds!I22,1,2),0)))","v":0},{"$f":"IF(Edit!$A$42=TRUE,Edit!J22,IF(OR(J22=1,J22=2),CHOOSE(MIN(5,BBlues!J22+BReds!J22),0,0,J22,J22,0),IF(BBlues!J22+BReds!J22=3,IF(BBlues!J22>BReds!J22,1,2),0)))","v":2},{"$f":"IF(Edit!$A$42=TRUE,Edit!K22,IF(OR(K22=1,K22=2),CHOOSE(MIN(5,BBlues!K22+BReds!K22),0,0,K22,K22,0),IF(BBlues!K22+BReds!K22=3,IF(BBlues!K22>BReds!K22,1,2),0)))","v":2},{"$f":"IF(Edit!$A$42=TRUE,Edit!L22,IF(OR(L22=1,L22=2),CHOOSE(MIN(5,BBlues!L22+BReds!L22),0,0,L22,L22,0),IF(BBlues!L22+BReds!L22=3,IF(BBlues!L22>BReds!L22,1,2),0)))","v":0},{"$f":"IF(Edit!$A$42=TRUE,Edit!M22,IF(OR(M22=1,M22=2),CHOOSE(MIN(5,BBlues!M22+BReds!M22),0,0,M22,M22,0),IF(BBlues!M22+BReds!M22=3,IF(BBlues!M22>BReds!M22,1,2),0)))","v":0},{"$f":"IF(Edit!$A$42=TRUE,Edit!N22,IF(OR(N22=1,N22=2),CHOOSE(MIN(5,BBlues!N22+BReds!N22),0,0,N22,N22,0),IF(BBlues!N22+BReds!N22=3,IF(BBlues!N22>BReds!N22,1,2),0)))","v":0},{"$f":"IF(Edit!$A$42=TRUE,Edit!O22,IF(OR(O22=1,O22=2),CHOOSE(MIN(5,BBlues!O22+BReds!O22),0,0,O22,O22,0),IF(BBlues!O22+BReds!O22=3,IF(BBlues!O22>BReds!O22,1,2),0)))","v":0},{"$f":"IF(Edit!$A$42=TRUE,Edit!P22,IF(OR(P22=1,P22=2),CHOOSE(MIN(5,BBlues!P22+BReds!P22),0,0,P22,P22,0),IF(BBlues!P22+BReds!P22=3,IF(BBlues!P22>BReds!P22,1,2),0)))","v":0},{"$f":"IF(Edit!$A$42=TRUE,Edit!Q22,IF(OR(Q22=1,Q22=2),CHOOSE(MIN(5,BBlues!Q22+BReds!Q22),0,0,Q22,Q22,0),IF(BBlues!Q22+BReds!Q22=3,IF(BBlues!Q22>BReds!Q22,1,2),0)))","v":0},{"$f":"IF(Edit!$A$42=TRUE,Edit!R22,IF(OR(R22=1,R22=2),CHOOSE(MIN(5,BBlues!R22+BReds!R22),0,0,R22,R22,0),IF(BBlues!R22+BReds!R22=3,IF(BBlues!R22>BReds!R22,1,2),0)))","v":0},{"$f":"IF(Edit!$A$42=TRUE,Edit!S22,IF(OR(S22=1,S22=2),CHOOSE(MIN(5,BBlues!S22+BReds!S22),0,0,S22,S22,0),IF(BBlues!S22+BReds!S22=3,IF(BBlues!S22>BReds!S22,1,2),0)))","v":0},{"$f":"IF(Edit!$A$42=TRUE,Edit!T22,IF(OR(T22=1,T22=2),CHOOSE(MIN(5,BBlues!T22+BReds!T22),0,0,T22,T22,0),IF(BBlues!T22+BReds!T22=3,IF(BBlues!T22>BReds!T22,1,2),0)))","v":0},{"$f":"IF(Edit!$A$42=TRUE,Edit!U22,IF(OR(U22=1,U22=2),CHOOSE(MIN(5,BBlues!U22+BReds!U22),0,0,U22,U22,0),IF(BBlues!U22+BReds!U22=3,IF(BBlues!U22>BReds!U22,1,2),0)))","v":0},{"$f":"IF(Edit!$A$42=TRUE,Edit!V22,IF(OR(V22=1,V22=2),CHOOSE(MIN(5,BBlues!V22+BReds!V22),0,0,V22,V22,0),IF(BBlues!V22+BReds!V22=3,IF(BBlues!V22>BReds!V22,1,2),0)))","v":0},{"$f":"IF(Edit!$A$42=TRUE,Edit!W22,IF(OR(W22=1,W22=2),CHOOSE(MIN(5,BBlues!W22+BReds!W22),0,0,W22,W22,0),IF(BBlues!W22+BReds!W22=3,IF(BBlues!W22>BReds!W22,1,2),0)))","v":0},{"$f":"IF(Edit!$A$42=TRUE,Edit!X22,IF(OR(X22=1,X22=2),CHOOSE(MIN(5,BBlues!X22+BReds!X22),0,0,X22,X22,0),IF(BBlues!X22+BReds!X22=3,IF(BBlues!X22>BReds!X22,1,2),0)))","v":0},{"$f":"IF(Edit!$A$42=TRUE,Edit!Y22,IF(OR(Y22=1,Y22=2),CHOOSE(MIN(5,BBlues!Y22+BReds!Y22),0,0,Y22,Y22,0),IF(BBlues!Y22+BReds!Y22=3,IF(BBlues!Y22>BReds!Y22,1,2),0)))","v":0},{"$f":"IF(Edit!$A$42=TRUE,Edit!Z22,IF(OR(Z22=1,Z22=2),CHOOSE(MIN(5,BBlues!Z22+BReds!Z22),0,0,Z22,Z22,0),IF(BBlues!Z22+BReds!Z22=3,IF(BBlues!Z22>BReds!Z22,1,2),0)))","v":0},{"$f":"IF(Edit!$A$42=TRUE,Edit!AA22,IF(OR(AA22=1,AA22=2),CHOOSE(MIN(5,BBlues!AA22+BReds!AA22),0,0,AA22,AA22,0),IF(BBlues!AA22+BReds!AA22=3,IF(BBlues!AA22>BReds!AA22,1,2),0)))","v":0},{"$f":"IF(Edit!$A$42=TRUE,Edit!AB22,IF(OR(AB22=1,AB22=2),CHOOSE(MIN(5,BBlues!AB22+BReds!AB22),0,0,AB22,AB22,0),IF(BBlues!AB22+BReds!AB22=3,IF(BBlues!AB22>BReds!AB22,1,2),0)))","v":0},{"$f":"IF(Edit!$A$42=TRUE,Edit!AC22,IF(OR(AC22=1,AC22=2),CHOOSE(MIN(5,BBlues!AC22+BReds!AC22),0,0,AC22,AC22,0),IF(BBlues!AC22+BReds!AC22=3,IF(BBlues!AC22>BReds!AC22,1,2),0)))","v":0},{"$f":"IF(Edit!$A$42=TRUE,Edit!AD22,IF(OR(AD22=1,AD22=2),CHOOSE(MIN(5,BBlues!AD22+BReds!AD22),0,0,AD22,AD22,0),IF(BBlues!AD22+BReds!AD22=3,IF(BBlues!AD22>BReds!AD22,1,2),0)))","v":0},{"$f":"IF(Edit!$A$42=TRUE,Edit!AE22,IF(OR(AE22=1,AE22=2),CHOOSE(MIN(5,BBlues!AE22+BReds!AE22),0,0,AE22,AE22,0),IF(BBlues!AE22+BReds!AE22=3,IF(BBlues!AE22>BReds!AE22,1,2),0)))","v":1},{"$f":"IF(Edit!$A$42=TRUE,Edit!AF22,IF(OR(AF22=1,AF22=2),CHOOSE(MIN(5,BBlues!AF22+BReds!AF22),0,0,AF22,AF22,0),IF(BBlues!AF22+BReds!AF22=3,IF(BBlues!AF22>BReds!AF22,1,2),0)))","v":1},{"$f":"IF(Edit!$A$42=TRUE,Edit!AG22,IF(OR(AG22=1,AG22=2),CHOOSE(MIN(5,BBlues!AG22+BReds!AG22),0,0,AG22,AG22,0),IF(BBlues!AG22+BReds!AG22=3,IF(BBlues!AG22>BReds!AG22,1,2),0)))","v":1},{"$f":"IF(Edit!$A$42=TRUE,Edit!AH22,IF(OR(AH22=1,AH22=2),CHOOSE(MIN(5,BBlues!AH22+BReds!AH22),0,0,AH22,AH22,0),IF(BBlues!AH22+BReds!AH22=3,IF(BBlues!AH22>BReds!AH22,1,2),0)))","v":1},{"$f":"IF(Edit!$A$42=TRUE,Edit!AI22,IF(OR(AI22=1,AI22=2),CHOOSE(MIN(5,BBlues!AI22+BReds!AI22),0,0,AI22,AI22,0),IF(BBlues!AI22+BReds!AI22=3,IF(BBlues!AI22>BReds!AI22,1,2),0)))","v":0},{"$f":"IF(Edit!$A$42=TRUE,Edit!AJ22,IF(OR(AJ22=1,AJ22=2),CHOOSE(MIN(5,BBlues!AJ22+BReds!AJ22),0,0,AJ22,AJ22,0),IF(BBlues!AJ22+BReds!AJ22=3,IF(BBlues!AJ22>BReds!AJ22,1,2),0)))","v":0},{"$f":"IF(Edit!$A$42=TRUE,Edit!AK22,IF(OR(AK22=1,AK22=2),CHOOSE(MIN(5,BBlues!AK22+BReds!AK22),0,0,AK22,AK22,0),IF(BBlues!AK22+BReds!AK22=3,IF(BBlues!AK22>BReds!AK22,1,2),0)))","v":0},{"$f":"IF(Edit!$A$42=TRUE,Edit!AL22,IF(OR(AL22=1,AL22=2),CHOOSE(MIN(5,BBlues!AL22+BReds!AL22),0,0,AL22,AL22,0),IF(BBlues!AL22+BReds!AL22=3,IF(BBlues!AL22>BReds!AL22,1,2),0)))","v":0}]
[null,{"$f":"IF(Edit!$A$42=TRUE,Edit!B23,IF(OR(B23=1,B23=2),CHOOSE(MIN(5,BBlues!B23+BReds!B23),0,0,B23,B23,0),IF(BBlues!B23+BReds!B23=3,IF(BBlues!B23>BReds!B23,1,2),0)))","v":2},{"$f":"IF(Edit!$A$42=TRUE,Edit!C23,IF(OR(C23=1,C23=2),CHOOSE(MIN(5,BBlues!C23+BReds!C23),0,0,C23,C23,0),IF(BBlues!C23+BReds!C23=3,IF(BBlues!C23>BReds!C23,1,2),0)))","v":2},{"$f":"IF(Edit!$A$42=TRUE,Edit!D23,IF(OR(D23=1,D23=2),CHOOSE(MIN(5,BBlues!D23+BReds!D23),0,0,D23,D23,0),IF(BBlues!D23+BReds!D23=3,IF(BBlues!D23>BReds!D23,1,2),0)))","v":2},{"$f":"IF(Edit!$A$42=TRUE,Edit!E23,IF(OR(E23=1,E23=2),CHOOSE(MIN(5,BBlues!E23+BReds!E23),0,0,E23,E23,0),IF(BBlues!E23+BReds!E23=3,IF(BBlues!E23>BReds!E23,1,2),0)))","v":2},{"$f":"IF(Edit!$A$42=TRUE,Edit!F23,IF(OR(F23=1,F23=2),CHOOSE(MIN(5,BBlues!F23+BReds!F23),0,0,F23,F23,0),IF(BBlues!F23+BReds!F23=3,IF(BBlues!F23>BReds!F23,1,2),0)))","v":0},{"$f":"IF(Edit!$A$42=TRUE,Edit!G23,IF(OR(G23=1,G23=2),CHOOSE(MIN(5,BBlues!G23+BReds!G23),0,0,G23,G23,0),IF(BBlues!G23+BReds!G23=3,IF(BBlues!G23>BReds!G23,1,2),0)))","v":0},{"$f":"IF(Edit!$A$42=TRUE,Edit!H23,IF(OR(H23=1,H23=2),CHOOSE(MIN(5,BBlues!H23+BReds!H23),0,0,H23,H23,0),IF(BBlues!H23+BReds!H23=3,IF(BBlues!H23>BReds!H23,1,2),0)))","v":0},{"$f":"IF(Edit!$A$42=TRUE,Edit!I23,IF(OR(I23=1,I23=2),CHOOSE(MIN(5,BBlues!I23+BReds!I23),0,0,I23,I23,0),IF(BBlues!I23+BReds!I23=3,IF(BBlues!I23>BReds!I23,1,2),0)))","v":0},{"$f":"IF(Edit!$A$42=TRUE,Edit!J23,IF(OR(J23=1,J23=2),CHOOSE(MIN(5,BBlues!J23+BReds!J23),0,0,J23,J23,0),IF(BBlues!J23+BReds!J23=3,IF(BBlues!J23>BReds!J23,1,2),0)))","v":2},{"$f":"IF(Edit!$A$42=TRUE,Edit!K23,IF(OR(K23=1,K23=2),CHOOSE(MIN(5,BBlues!K23+BReds!K23),0,0,K23,K23,0),IF(BBlues!K23+BReds!K23=3,IF(BBlues!K23>BReds!K23,1,2),0)))","v":2},{"$f":"IF(Edit!$A$42=TRUE,Edit!L23,IF(OR(L23=1,L23=2),CHOOSE(MIN(5,BBlues!L23+BReds!L23),0,0,L23,L23,0),IF(BBlues!L23+BReds!L23=3,IF(BBlues!L23>BReds!L23,1,2),0)))","v":0},{"$f":"IF(Edit!$A$42=TRUE,Edit!M23,IF(OR(M23=1,M23=2),CHOOSE(MIN(5,BBlues!M23+BReds!M23),0,0,M23,M23,0),IF(BBlues!M23+BReds!M23=3,IF(BBlues!M23>BReds!M23,1,2),0)))","v":0},{"$f":"IF(Edit!$A$42=TRUE,Edit!N23,IF(OR(N23=1,N23=2),CHOOSE(MIN(5,BBlues!N23+BReds!N23),0,0,N23,N23,0),IF(BBlues!N23+BReds!N23=3,IF(BBlues!N23>BReds!N23,1,2),0)))","v":0},{"$f":"IF(Edit!$A$42=TRUE,Edit!O23,IF(OR(O23=1,O23=2),CHOOSE(MIN(5,BBlues!O23+BReds!O23),0,0,O23,O23,0),IF(BBlues!O23+BReds!O23=3,IF(BBlues!O23>BReds!O23,1,2),0)))","v":0},{"$f":"IF(Edit!$A$42=TRUE,Edit!P23,IF(OR(P23=1,P23=2),CHOOSE(MIN(5,BBlues!P23+BReds!P23),0,0,P23,P23,0),IF(BBlues!P23+BReds!P23=3,IF(BBlues!P23>BReds!P23,1,2),0)))","v":0},{"$f":"IF(Edit!$A$42=TRUE,Edit!Q23,IF(OR(Q23=1,Q23=2),CHOOSE(MIN(5,BBlues!Q23+BReds!Q23),0,0,Q23,Q23,0),IF(BBlues!Q23+BReds!Q23=3,IF(BBlues!Q23>BReds!Q23,1,2),0)))","v":0},{"$f":"IF(Edit!$A$42=TRUE,Edit!R23,IF(OR(R23=1,R23=2),CHOOSE(MIN(5,BBlues!R23+BReds!R23),0,0,R23,R23,0),IF(BBlues!R23+BReds!R23=3,IF(BBlues!R23>BReds!R23,1,2),0)))","v":0},{"$f":"IF(Edit!$A$42=TRUE,Edit!S23,IF(OR(S23=1,S23=2),CHOOSE(MIN(5,BBlues!S23+BReds!S23),0,0,S23,S23,0),IF(BBlues!S23+BReds!S23=3,IF(BBlues!S23>BReds!S23,1,2),0)))","v":0},{"$f":"IF(Edit!$A$42=TRUE,Edit!T23,IF(OR(T23=1,T23=2),CHOOSE(MIN(5,BBlues!T23+BReds!T23),0,0,T23,T23,0),IF(BBlues!T23+BReds!T23=3,IF(BBlues!T23>BReds!T23,1,2),0)))","v":0},{"$f":"IF(Edit!$A$42=TRUE,Edit!U23,IF(OR(U23=1,U23=2),CHOOSE(MIN(5,BBlues!U23+BReds!U23),0,0,U23,U23,0),IF(BBlues!U23+BReds!U23=3,IF(BBlues!U23>BReds!U23,1,2),0)))","v":0},{"$f":"IF(Edit!$A$42=TRUE,Edit!V23,IF(OR(V23=1,V23=2),CHOOSE(MIN(5,BBlues!V23+BReds!V23),0,0,V23,V23,0),IF(BBlues!V23+BReds!V23=3,IF(BBlues!V23>BReds!V23,1,2),0)))","v":0},{"$f":"IF(Edit!$A$42=TRUE,Edit!W23,IF(OR(W23=1,W23=2),CHOOSE(MIN(5,BBlues!W23+BReds!W23),0,0,W23,W23,0),IF(BBlues!W23+BReds!W23=3,IF(BBlues!W23>BReds!W23,1,2),0)))","v":0},{"$f":"IF(Edit!$A$42=TRUE,Edit!X23,IF(OR(X23=1,X23=2),CHOOSE(MIN(5,BBlues!X23+BReds!X23),0,0,X23,X23,0),IF(BBlues!X23+BReds!X23=3,IF(BBlues!X23>BReds!X23,1,2),0)))","v":0},{"$f":"IF(Edit!$A$42=TRUE,Edit!Y23,IF(OR(Y23=1,Y23=2),CHOOSE(MIN(5,BBlues!Y23+BReds!Y23),0,0,Y23,Y23,0),IF(BBlues!Y23+BReds!Y23=3,IF(BBlues!Y23>BReds!Y23,1,2),0)))","v":0},{"$f":"IF(Edit!$A$42=TRUE,Edit!Z23,IF(OR(Z23=1,Z23=2),CHOOSE(MIN(5,BBlues!Z23+BReds!Z23),0,0,Z23,Z23,0),IF(BBlues!Z23+BReds!Z23=3,IF(BBlues!Z23>BReds!Z23,1,2),0)))","v":0},{"$f":"IF(Edit!$A$42=TRUE,Edit!AA23,IF(OR(AA23=1,AA23=2),CHOOSE(MIN(5,BBlues!AA23+BReds!AA23),0,0,AA23,AA23,0),IF(BBlues!AA23+BReds!AA23=3,IF(BBlues!AA23>BReds!AA23,1,2),0)))","v":0},{"$f":"IF(Edit!$A$42=TRUE,Edit!AB23,IF(OR(AB23=1,AB23=2),CHOOSE(MIN(5,BBlues!AB23+BReds!AB23),0,0,AB23,AB23,0),IF(BBlues!AB23+BReds!AB23=3,IF(BBlues!AB23>BReds!AB23,1,2),0)))","v":0},{"$f":"IF(Edit!$A$42=TRUE,Edit!AC23,IF(OR(AC23=1,AC23=2),CHOOSE(MIN(5,BBlues!AC23+BReds!AC23),0,0,AC23,AC23,0),IF(BBlues!AC23+BReds!AC23=3,IF(BBlues!AC23>BReds!AC23,1,2),0)))","v":0},{"$f":"IF(Edit!$A$42=TRUE,Edit!AD23,IF(OR(AD23=1,AD23=2),CHOOSE(MIN(5,BBlues!AD23+BReds!AD23),0,0,AD23,AD23,0),IF(BBlues!AD23+BReds!AD23=3,IF(BBlues!AD23>BReds!AD23,1,2),0)))","v":1},{"$f":"IF(Edit!$A$42=TRUE,Edit!AE23,IF(OR(AE23=1,AE23=2),CHOOSE(MIN(5,BBlues!AE23+BReds!AE23),0,0,AE23,AE23,0),IF(BBlues!AE23+BReds!AE23=3,IF(BBlues!AE23>BReds!AE23,1,2),0)))","v":0},{"$f":"IF(Edit!$A$42=TRUE,Edit!AF23,IF(OR(AF23=1,AF23=2),CHOOSE(MIN(5,BBlues!AF23+BReds!AF23),0,0,AF23,AF23,0),IF(BBlues!AF23+BReds!AF23=3,IF(BBlues!AF23>BReds!AF23,1,2),0)))","v":0},{"$f":"IF(Edit!$A$42=TRUE,Edit!AG23,IF(OR(AG23=1,AG23=2),CHOOSE(MIN(5,BBlues!AG23+BReds!AG23),0,0,AG23,AG23,0),IF(BBlues!AG23+BReds!AG23=3,IF(BBlues!AG23>BReds!AG23,1,2),0)))","v":0},{"$f":"IF(Edit!$A$42=TRUE,Edit!AH23,IF(OR(AH23=1,AH23=2),CHOOSE(MIN(5,BBlues!AH23+BReds!AH23),0,0,AH23,AH23,0),IF(BBlues!AH23+BReds!AH23=3,IF(BBlues!AH23>BReds!AH23,1,2),0)))","v":0},{"$f":"IF(Edit!$A$42=TRUE,Edit!AI23,IF(OR(AI23=1,AI23=2),CHOOSE(MIN(5,BBlues!AI23+BReds!AI23),0,0,AI23,AI23,0),IF(BBlues!AI23+BReds!AI23=3,IF(BBlues!AI23>BReds!AI23,1,2),0)))","v":0},{"$f":"IF(Edit!$A$42=TRUE,Edit!AJ23,IF(OR(AJ23=1,AJ23=2),CHOOSE(MIN(5,BBlues!AJ23+BReds!AJ23),0,0,AJ23,AJ23,0),IF(BBlues!AJ23+BReds!AJ23=3,IF(BBlues!AJ23>BReds!AJ23,1,2),0)))","v":0},{"$f":"IF(Edit!$A$42=TRUE,Edit!AK23,IF(OR(AK23=1,AK23=2),CHOOSE(MIN(5,BBlues!AK23+BReds!AK23),0,0,AK23,AK23,0),IF(BBlues!AK23+BReds!AK23=3,IF(BBlues!AK23>BReds!AK23,1,2),0)))","v":0},{"$f":"IF(Edit!$A$42=TRUE,Edit!AL23,IF(OR(AL23=1,AL23=2),CHOOSE(MIN(5,BBlues!AL23+BReds!AL23),0,0,AL23,AL23,0),IF(BBlues!AL23+BReds!AL23=3,IF(BBlues!AL23>BReds!AL23,1,2),0)))","v":0}]
[null,{"$f":"IF(Edit!$A$42=TRUE,Edit!B24,IF(OR(B24=1,B24=2),CHOOSE(MIN(5,BBlues!B24+BReds!B24),0,0,B24,B24,0),IF(BBlues!B24+BReds!B24=3,IF(BBlues!B24>BReds!B24,1,2),0)))","v":2},{"$f":"IF(Edit!$A$42=TRUE,Edit!C24,IF(OR(C24=1,C24=2),CHOOSE(MIN(5,BBlues!C24+BReds!C24),0,0,C24,C24,0),IF(BBlues!C24+BReds!C24=3,IF(BBlues!C24>BReds!C24,1,2),0)))","v":2},{"$f":"IF(Edit!$A$42=TRUE,Edit!D24,IF(OR(D24=1,D24=2),CHOOSE(MIN(5,BBlues!D24+BReds!D24),0,0,D24,D24,0),IF(BBlues!D24+BReds!D24=3,IF(BBlues!D24>BReds!D24,1,2),0)))","v":2},{"$f":"IF(Edit!$A$42=TRUE,Edit!E24,IF(OR(E24=1,E24=2),CHOOSE(MIN(5,BBlues!E24+BReds!E24),0,0,E24,E24,0),IF(BBlues!E24+BReds!E24=3,IF(BBlues!E24>BReds!E24,1,2),0)))","v":0},{"$f":"IF(Edit!$A$42=TRUE,Edit!F24,IF(OR(F24=1,F24=2),CHOOSE(MIN(5,BBlues!F24+BReds!F24),0,0,F24,F24,0),IF(BBlues!F24+BReds!F24=3,IF(BBlues!F24>BReds!F24,1,2),0)))","v":0},{"$f":"IF(Edit!$A$42=TRUE,Edit!G24,IF(OR(G24=1,G24=2),CHOOSE(MIN(5,BBlues!G24+BReds!G24),0,0,G24,G24,0),IF(BBlues!G24+BReds!G24=3,IF(BBlues!G24>BReds!G24,1,2),0)))","v":0},{"$f":"IF(Edit!$A$42=TRUE,Edit!H24,IF(OR(H24=1,H24=2),CHOOSE(MIN(5,BBlues!H24+BReds!H24),0,0,H24,H24,0),IF(BBlues!H24+BReds!H24=3,IF(BBlues!H24>BReds!H24,1,2),0)))","v":0},{"$f":"IF(Edit!$A$42=TRUE,Edit!I24,IF(OR(I24=1,I24=2),CHOOSE(MIN(5,BBlues!I24+BReds!I24),0,0,I24,I24,0),IF(BBlues!I24+BReds!I24=3,IF(BBlues!I24>BReds!I24,1,2),0)))","v":0},{"$f":"IF(Edit!$A$42=TRUE,Edit!J24,IF(OR(J24=1,J24=2),CHOOSE(MIN(5,BBlues!J24+BReds!J24),0,0,J24,J24,0),IF(BBlues!J24+BReds!J24=3,IF(BBlues!J24>BReds!J24,1,2),0)))","v":2},{"$f":"IF(Edit!$A$42=TRUE,Edit!K24,IF(OR(K24=1,K24=2),CHOOSE(MIN(5,BBlues!K24+BReds!K24),0,0,K24,K24,0),IF(BBlues!K24+BReds!K24=3,IF(BBlues!K24>BReds!K24,1,2),0)))","v":0},{"$f":"IF(Edit!$A$42=TRUE,Edit!L24,IF(OR(L24=1,L24=2),CHOOSE(MIN(5,BBlues!L24+BReds!L24),0,0,L24,L24,0),IF(BBlues!L24+BReds!L24=3,IF(BBlues!L24>BReds!L24,1,2),0)))","v":0},{"$f":"IF(Edit!$A$42=TRUE,Edit!M24,IF(OR(M24=1,M24=2),CHOOSE(MIN(5,BBlues!M24+BReds!M24),0,0,M24,M24,0),IF(BBlues!M24+BReds!M24=3,IF(BBlues!M24>BReds!M24,1,2),0)))","v":0},{"$f":"IF(Edit!$A$42=TRUE,Edit!N24,IF(OR(N24=1,N24=2),CHOOSE(MIN(5,BBlues!N24+BReds!N24),0,0,N24,N24,0),IF(BBlues!N24+BReds!N24=3,IF(BBlues!N24>BReds!N24,1,2),0)))","v":0},{"$f":"IF(Edit!$A$42=TRUE,Edit!O24,IF(OR(O24=1,O24=2),CHOOSE(MIN(5,BBlues!O24+BReds!O24),0,0,O24,O24,0),IF(BBlues!O24+BReds!O24=3,IF(BBlues!O24>BReds!O24,1,2),0)))","v":0},{"$f":"IF(Edit!$A$42=TRUE,Edit!P24,IF(OR(P24=1,P24=2),CHOOSE(MIN(5,BBlues!P24+BReds!P24),0,0,P24,P24,0),IF(BBlues!P24+BReds!P24=3,IF(BBlues!P24>BReds!P24,1,2),0)))","v":0},{"$f":"IF(Edit!$A$42=TRUE,Edit!Q24,IF(OR(Q24=1,Q24=2),CHOOSE(MIN(5,BBlues!Q24+BReds!Q24),0,0,Q24,Q24,0),IF(BBlues!Q24+BReds!Q24=3,IF(BBlues!Q24>BReds!Q24,1,2),0)))","v":0},{"$f":"IF(Edit!$A$42=TRUE,Edit!R24,IF(OR(R24=1,R24=2),CHOOSE(MIN(5,BBlues!R24+BReds!R24),0,0,R24,R24,0),IF(BBlues!R24+BReds!R24=3,IF(BBlues!R24>BReds!R24,1,2),0)))","v":0},{"$f":"IF(Edit!$A$42=TRUE,Edit!S24,IF(OR(S24=1,S24=2),CHOOSE(MIN(5,BBlues!S24+BReds!S24),0,0,S24,S24,0),IF(BBlues!S24+BReds!S24=3,IF(BBlues!S24>BReds!S24,1,2),0)))","v":0},{"$f":"IF(Edit!$A$42=TRUE,Edit!T24,IF(OR(T24=1,T24=2),CHOOSE(MIN(5,BBlues!T24+BReds!T24),0,0,T24,T24,0),IF(BBlues!T24+BReds!T24=3,IF(BBlues!T24>BReds!T24,1,2),0)))","v":0},{"$f":"IF(Edit!$A$42=TRUE,Edit!U24,IF(OR(U24=1,U24=2),CHOOSE(MIN(5,BBlues!U24+BReds!U24),0,0,U24,U24,0),IF(BBlues!U24+BReds!U24=3,IF(BBlues!U24>BReds!U24,1,2),0)))","v":0},{"$f":"IF(Edit!$A$42=TRUE,Edit!V24,IF(OR(V24=1,V24=2),CHOOSE(MIN(5,BBlues!V24+BReds!V24),0,0,V24,V24,0),IF(BBlues!V24+BReds!V24=3,IF(BBlues!V24>BReds!V24,1,2),0)))","v":0},{"$f":"IF(Edit!$A$42=TRUE,Edit!W24,IF(OR(W24=1,W24=2),CHOOSE(MIN(5,BBlues!W24+BReds!W24),0,0,W24,W24,0),IF(BBlues!W24+BReds!W24=3,IF(BBlues!W24>BReds!W24,1,2),0)))","v":0},{"$f":"IF(Edit!$A$42=TRUE,Edit!X24,IF(OR(X24=1,X24=2),CHOOSE(MIN(5,BBlues!X24+BReds!X24),0,0,X24,X24,0),IF(BBlues!X24+BReds!X24=3,IF(BBlues!X24>BReds!X24,1,2),0)))","v":0},{"$f":"IF(Edit!$A$42=TRUE,Edit!Y24,IF(OR(Y24=1,Y24=2),CHOOSE(MIN(5,BBlues!Y24+BReds!Y24),0,0,Y24,Y24,0),IF(BBlues!Y24+BReds!Y24=3,IF(BBlues!Y24>BReds!Y24,1,2),0)))","v":0},{"$f":"IF(Edit!$A$42=TRUE,Edit!Z24,IF(OR(Z24=1,Z24=2),CHOOSE(MIN(5,BBlues!Z24+BReds!Z24),0,0,Z24,Z24,0),IF(BBlues!Z24+BReds!Z24=3,IF(BBlues!Z24>BReds!Z24,1,2),0)))","v":0},{"$f":"IF(Edit!$A$42=TRUE,Edit!AA24,IF(OR(AA24=1,AA24=2),CHOOSE(MIN(5,BBlues!AA24+BReds!AA24),0,0,AA24,AA24,0),IF(BBlues!AA24+BReds!AA24=3,IF(BBlues!AA24>BReds!AA24,1,2),0)))","v":0},{"$f":"IF(Edit!$A$42=TRUE,Edit!AB24,IF(OR(AB24=1,AB24=2),CHOOSE(MIN(5,BBlues!AB24+BReds!AB24),0,0,AB24,AB24,0),IF(BBlues!AB24+BReds!AB24=3,IF(BBlues!AB24>BReds!AB24,1,2),0)))","v":0},{"$f":"IF(Edit!$A$42=TRUE,Edit!AC24,IF(OR(AC24=1,AC24=2),CHOOSE(MIN(5,BBlues!AC24+BReds!AC24),0,0,AC24,AC24,0),IF(BBlues!AC24+BReds!AC24=3,IF(BBlues!AC24>BReds!AC24,1,2),0)))","v":0},{"$f":"IF(Edit!$A$42=TRUE,Edit!AD24,IF(OR(AD24=1,AD24=2),CHOOSE(MIN(5,BBlues!AD24+BReds!AD24),0,0,AD24,AD24,0),IF(BBlues!AD24+BReds!AD24=3,IF(BBlues!AD24>BReds!AD24,1,2),0)))","v":0},{"$f":"IF(Edit!$A$42=TRUE,Edit!AE24,IF(OR(AE24=1,AE24=2),CHOOSE(MIN(5,BBlues!AE24+BReds!AE24),0,0,AE24,AE24,0),IF(BBlues!AE24+BReds!AE24=3,IF(BBlues!AE24>BReds!AE24,1,2),0)))","v":0},{"$f":"IF(Edit!$A$42=TRUE,Edit!AF24,IF(OR(AF24=1,AF24=2),CHOOSE(MIN(5,BBlues!AF24+BReds!AF24),0,0,AF24,AF24,0),IF(BBlues!AF24+BReds!AF24=3,IF(BBlues!AF24>BReds!AF24,1,2),0)))","v":0},{"$f":"IF(Edit!$A$42=TRUE,Edit!AG24,IF(OR(AG24=1,AG24=2),CHOOSE(MIN(5,BBlues!AG24+BReds!AG24),0,0,AG24,AG24,0),IF(BBlues!AG24+BReds!AG24=3,IF(BBlues!AG24>BReds!AG24,1,2),0)))","v":0},{"$f":"IF(Edit!$A$42=TRUE,Edit!AH24,IF(OR(AH24=1,AH24=2),CHOOSE(MIN(5,BBlues!AH24+BReds!AH24),0,0,AH24,AH24,0),IF(BBlues!AH24+BReds!AH24=3,IF(BBlues!AH24>BReds!AH24,1,2),0)))","v":0},{"$f":"IF(Edit!$A$42=TRUE,Edit!AI24,IF(OR(AI24=1,AI24=2),CHOOSE(MIN(5,BBlues!AI24+BReds!AI24),0,0,AI24,AI24,0),IF(BBlues!AI24+BReds!AI24=3,IF(BBlues!AI24>BReds!AI24,1,2),0)))","v":0},{"$f":"IF(Edit!$A$42=TRUE,Edit!AJ24,IF(OR(AJ24=1,AJ24=2),CHOOSE(MIN(5,BBlues!AJ24+BReds!AJ24),0,0,AJ24,AJ24,0),IF(BBlues!AJ24+BReds!AJ24=3,IF(BBlues!AJ24>BReds!AJ24,1,2),0)))","v":0},{"$f":"IF(Edit!$A$42=TRUE,Edit!AK24,IF(OR(AK24=1,AK24=2),CHOOSE(MIN(5,BBlues!AK24+BReds!AK24),0,0,AK24,AK24,0),IF(BBlues!AK24+BReds!AK24=3,IF(BBlues!AK24>BReds!AK24,1,2),0)))","v":1},{"$f":"IF(Edit!$A$42=TRUE,Edit!AL24,IF(OR(AL24=1,AL24=2),CHOOSE(MIN(5,BBlues!AL24+BReds!AL24),0,0,AL24,AL24,0),IF(BBlues!AL24+BReds!AL24=3,IF(BBlues!AL24>BReds!AL24,1,2),0)))","v":1}]
[null,{"$f":"IF(Edit!$A$42=TRUE,Edit!B25,IF(OR(B25=1,B25=2),CHOOSE(MIN(5,BBlues!B25+BReds!B25),0,0,B25,B25,0),IF(BBlues!B25+BReds!B25=3,IF(BBlues!B25>BReds!B25,1,2),0)))","v":1},{"$f":"IF(Edit!$A$42=TRUE,Edit!C25,IF(OR(C25=1,C25=2),CHOOSE(MIN(5,BBlues!C25+BReds!C25),0,0,C25,C25,0),IF(BBlues!C25+BReds!C25=3,IF(BBlues!C25>BReds!C25,1,2),0)))","v":0},{"$f":"IF(Edit!$A$42=TRUE,Edit!D25,IF(OR(D25=1,D25=2),CHOOSE(MIN(5,BBlues!D25+BReds!D25),0,0,D25,D25,0),IF(BBlues!D25+BReds!D25=3,IF(BBlues!D25>BReds!D25,1,2),0)))","v":1},{"$f":"IF(Edit!$A$42=TRUE,Edit!E25,IF(OR(E25=1,E25=2),CHOOSE(MIN(5,BBlues!E25+BReds!E25),0,0,E25,E25,0),IF(BBlues!E25+BReds!E25=3,IF(BBlues!E25>BReds!E25,1,2),0)))","v":0},{"$f":"IF(Edit!$A$42=TRUE,Edit!F25,IF(OR(F25=1,F25=2),CHOOSE(MIN(5,BBlues!F25+BReds!F25),0,0,F25,F25,0),IF(BBlues!F25+BReds!F25=3,IF(BBlues!F25>BReds!F25,1,2),0)))","v":2},{"$f":"IF(Edit!$A$42=TRUE,Edit!G25,IF(OR(G25=1,G25=2),CHOOSE(MIN(5,BBlues!G25+BReds!G25),0,0,G25,G25,0),IF(BBlues!G25+BReds!G25=3,IF(BBlues!G25>BReds!G25,1,2),0)))","v":0},{"$f":"IF(Edit!$A$42=TRUE,Edit!H25,IF(OR(H25=1,H25=2),CHOOSE(MIN(5,BBlues!H25+BReds!H25),0,0,H25,H25,0),IF(BBlues!H25+BReds!H25=3,IF(BBlues!H25>BReds!H25,1,2),0)))","v":0},{"$f":"IF(Edit!$A$42=TRUE,Edit!I25,IF(OR(I25=1,I25=2),CHOOSE(MIN(5,BBlues!I25+BReds!I25),0,0,I25,I25,0),IF(BBlues!I25+BReds!I25=3,IF(BBlues!I25>BReds!I25,1,2),0)))","v":2},{"$f":"IF(Edit!$A$42=TRUE,Edit!J25,IF(OR(J25=1,J25=2),CHOOSE(MIN(5,BBlues!J25+BReds!J25),0,0,J25,J25,0),IF(BBlues!J25+BReds!J25=3,IF(BBlues!J25>BReds!J25,1,2),0)))","v":0},{"$f":"IF(Edit!$A$42=TRUE,Edit!K25,IF(OR(K25=1,K25=2),CHOOSE(MIN(5,BBlues!K25+BReds!K25),0,0,K25,K25,0),IF(BBlues!K25+BReds!K25=3,IF(BBlues!K25>BReds!K25,1,2),0)))","v":0},{"$f":"IF(Edit!$A$42=TRUE,Edit!L25,IF(OR(L25=1,L25=2),CHOOSE(MIN(5,BBlues!L25+BReds!L25),0,0,L25,L25,0),IF(BBlues!L25+BReds!L25=3,IF(BBlues!L25>BReds!L25,1,2),0)))","v":0},{"$f":"IF(Edit!$A$42=TRUE,Edit!M25,IF(OR(M25=1,M25=2),CHOOSE(MIN(5,BBlues!M25+BReds!M25),0,0,M25,M25,0),IF(BBlues!M25+BReds!M25=3,IF(BBlues!M25>BReds!M25,1,2),0)))","v":0},{"$f":"IF(Edit!$A$42=TRUE,Edit!N25,IF(OR(N25=1,N25=2),CHOOSE(MIN(5,BBlues!N25+BReds!N25),0,0,N25,N25,0),IF(BBlues!N25+BReds!N25=3,IF(BBlues!N25>BReds!N25,1,2),0)))","v":0},{"$f":"IF(Edit!$A$42=TRUE,Edit!O25,IF(OR(O25=1,O25=2),CHOOSE(MIN(5,BBlues!O25+BReds!O25),0,0,O25,O25,0),IF(BBlues!O25+BReds!O25=3,IF(BBlues!O25>BReds!O25,1,2),0)))","v":0},{"$f":"IF(Edit!$A$42=TRUE,Edit!P25,IF(OR(P25=1,P25=2),CHOOSE(MIN(5,BBlues!P25+BReds!P25),0,0,P25,P25,0),IF(BBlues!P25+BReds!P25=3,IF(BBlues!P25>BReds!P25,1,2),0)))","v":0},{"$f":"IF(Edit!$A$42=TRUE,Edit!Q25,IF(OR(Q25=1,Q25=2),CHOOSE(MIN(5,BBlues!Q25+BReds!Q25),0,0,Q25,Q25,0),IF(BBlues!Q25+BReds!Q25=3,IF(BBlues!Q25>BReds!Q25,1,2),0)))","v":0},{"$f":"IF(Edit!$A$42=TRUE,Edit!R25,IF(OR(R25=1,R25=2),CHOOSE(MIN(5,BBlues!R25+BReds!R25),0,0,R25,R25,0),IF(BBlues!R25+BReds!R25=3,IF(BBlues!R25>BReds!R25,1,2),0)))","v":0},{"$f":"IF(Edit!$A$42=TRUE,Edit!S25,IF(OR(S25=1,S25=2),CHOOSE(MIN(5,BBlues!S25+BReds!S25),0,0,S25,S25,0),IF(BBlues!S25+BReds!S25=3,IF(BBlues!S25>BReds!S25,1,2),0)))","v":0},{"$f":"IF(Edit!$A$42=TRUE,Edit!T25,IF(OR(T25=1,T25=2),CHOOSE(MIN(5,BBlues!T25+BReds!T25),0,0,T25,T25,0),IF(BBlues!T25+BReds!T25=3,IF(BBlues!T25>BReds!T25,1,2),0)))","v":0},{"$f":"IF(Edit!$A$42=TRUE,Edit!U25,IF(OR(U25=1,U25=2),CHOOSE(MIN(5,BBlues!U25+BReds!U25),0,0,U25,U25,0),IF(BBlues!U25+BReds!U25=3,IF(BBlues!U25>BReds!U25,1,2),0)))","v":0},{"$f":"IF(Edit!$A$42=TRUE,Edit!V25,IF(OR(V25=1,V25=2),CHOOSE(MIN(5,BBlues!V25+BReds!V25),0,0,V25,V25,0),IF(BBlues!V25+BReds!V25=3,IF(BBlues!V25>BReds!V25,1,2),0)))","v":0},{"$f":"IF(Edit!$A$42=TRUE,Edit!W25,IF(OR(W25=1,W25=2),CHOOSE(MIN(5,BBlues!W25+BReds!W25),0,0,W25,W25,0),IF(BBlues!W25+BReds!W25=3,IF(BBlues!W25>BReds!W25,1,2),0)))","v":0},{"$f":"IF(Edit!$A$42=TRUE,Edit!X25,IF(OR(X25=1,X25=2),CHOOSE(MIN(5,BBlues!X25+BReds!X25),0,0,X25,X25,0),IF(BBlues!X25+BReds!X25=3,IF(BBlues!X25>BReds!X25,1,2),0)))","v":0},{"$f":"IF(Edit!$A$42=TRUE,Edit!Y25,IF(OR(Y25=1,Y25=2),CHOOSE(MIN(5,BBlues!Y25+BReds!Y25),0,0,Y25,Y25,0),IF(BBlues!Y25+BReds!Y25=3,IF(BBlues!Y25>BReds!Y25,1,2),0)))","v":0},{"$f":"IF(Edit!$A$42=TRUE,Edit!Z25,IF(OR(Z25=1,Z25=2),CHOOSE(MIN(5,BBlues!Z25+BReds!Z25),0,0,Z25,Z25,0),IF(BBlues!Z25+BReds!Z25=3,IF(BBlues!Z25>BReds!Z25,1,2),0)))","v":0},{"$f":"IF(Edit!$A$42=TRUE,Edit!AA25,IF(OR(AA25=1,AA25=2),CHOOSE(MIN(5,BBlues!AA25+BReds!AA25),0,0,AA25,AA25,0),IF(BBlues!AA25+BReds!AA25=3,IF(BBlues!AA25>BReds!AA25,1,2),0)))","v":0},{"$f":"IF(Edit!$A$42=TRUE,Edit!AB25,IF(OR(AB25=1,AB25=2),CHOOSE(MIN(5,BBlues!AB25+BReds!AB25),0,0,AB25,AB25,0),IF(BBlues!AB25+BReds!AB25=3,IF(BBlues!AB25>BReds!AB25,1,2),0)))","v":0},{"$f":"IF(Edit!$A$42=TRUE,Edit!AC25,IF(OR(AC25=1,AC25=2),CHOOSE(MIN(5,BBlues!AC25+BReds!AC25),0,0,AC25,AC25,0),IF(BBlues!AC25+BReds!AC25=3,IF(BBlues!AC25>BReds!AC25,1,2),0)))","v":0},{"$f":"IF(Edit!$A$42=TRUE,Edit!AD25,IF(OR(AD25=1,AD25=2),CHOOSE(MIN(5,BBlues!AD25+BReds!AD25),0,0,AD25,AD25,0),IF(BBlues!AD25+BReds!AD25=3,IF(BBlues!AD25>BReds!AD25,1,2),0)))","v":0},{"$f":"IF(Edit!$A$42=TRUE,Edit!AE25,IF(OR(AE25=1,AE25=2),CHOOSE(MIN(5,BBlues!AE25+BReds!AE25),0,0,AE25,AE25,0),IF(BBlues!AE25+BReds!AE25=3,IF(BBlues!AE25>BReds!AE25,1,2),0)))","v":0},{"$f":"IF(Edit!$A$42=TRUE,Edit!AF25,IF(OR(AF25=1,AF25=2),CHOOSE(MIN(5,BBlues!AF25+BReds!AF25),0,0,AF25,AF25,0),IF(BBlues!AF25+BReds!AF25=3,IF(BBlues!AF25>BReds!AF25,1,2),0)))","v":0},{"$f":"IF(Edit!$A$42=TRUE,Edit!AG25,IF(OR(AG25=1,AG25=2),CHOOSE(MIN(5,BBlues!AG25+BReds!AG25),0,0,AG25,AG25,0),IF(BBlues!AG25+BReds!AG25=3,IF(BBlues!AG25>BReds!AG25,1,2),0)))","v":0},{"$f":"IF(Edit!$A$42=TRUE,Edit!AH25,IF(OR(AH25=1,AH25=2),CHOOSE(MIN(5,BBlues!AH25+BReds!AH25),0,0,AH25,AH25,0),IF(BBlues!AH25+BReds!AH25=3,IF(BBlues!AH25>BReds!AH25,1,2),0)))","v":0},{"$f":"IF(Edit!$A$42=TRUE,Edit!AI25,IF(OR(AI25=1,AI25=2),CHOOSE(MIN(5,BBlues!AI25+BReds!AI25),0,0,AI25,AI25,0),IF(BBlues!AI25+BReds!AI25=3,IF(BBlues!AI25>BReds!AI25,1,2),0)))","v":0},{"$f":"IF(Edit!$A$42=TRUE,Edit!AJ25,IF(OR(AJ25=1,AJ25=2),CHOOSE(MIN(5,BBlues!AJ25+BReds!AJ25),0,0,AJ25,AJ25,0),IF(BBlues!AJ25+BReds!AJ25=3,IF(BBlues!AJ25>BReds!AJ25,1,2),0)))","v":0},{"$f":"IF(Edit!$A$42=TRUE,Edit!AK25,IF(OR(AK25=1,AK25=2),CHOOSE(MIN(5,BBlues!AK25+BReds!AK25),0,0,AK25,AK25,0),IF(BBlues!AK25+BReds!AK25=3,IF(BBlues!AK25>BReds!AK25,1,2),0)))","v":0},{"$f":"IF(Edit!$A$42=TRUE,Edit!AL25,IF(OR(AL25=1,AL25=2),CHOOSE(MIN(5,BBlues!AL25+BReds!AL25),0,0,AL25,AL25,0),IF(BBlues!AL25+BReds!AL25=3,IF(BBlues!AL25>BReds!AL25,1,2),0)))","v":0}]
[null,{"$f":"IF(Edit!$A$42=TRUE,Edit!B26,IF(OR(B26=1,B26=2),CHOOSE(MIN(5,BBlues!B26+BReds!B26),0,0,B26,B26,0),IF(BBlues!B26+BReds!B26=3,IF(BBlues!B26>BReds!B26,1,2),0)))","v":1},{"$f":"IF(Edit!$A$42=TRUE,Edit!C26,IF(OR(C26=1,C26=2),CHOOSE(MIN(5,BBlues!C26+BReds!C26),0,0,C26,C26,0),IF(BBlues!C26+BReds!C26=3,IF(BBlues!C26>BReds!C26,1,2),0)))","v":0},{"$f":"IF(Edit!$A$42=TRUE,Edit!D26,IF(OR(D26=1,D26=2),CHOOSE(MIN(5,BBlues!D26+BReds!D26),0,0,D26,D26,0),IF(BBlues!D26+BReds!D26=3,IF(BBlues!D26>BReds!D26,1,2),0)))","v":1},{"$f":"IF(Edit!$A$42=TRUE,Edit!E26,IF(OR(E26=1,E26=2),CHOOSE(MIN(5,BBlues!E26+BReds!E26),0,0,E26,E26,0),IF(BBlues!E26+BReds!E26=3,IF(BBlues!E26>BReds!E26,1,2),0)))","v":0},{"$f":"IF(Edit!$A$42=TRUE,Edit!F26,IF(OR(F26=1,F26=2),CHOOSE(MIN(5,BBlues!F26+BReds!F26),0,0,F26,F26,0),IF(BBlues!F26+BReds!F26=3,IF(BBlues!F26>BReds!F26,1,2),0)))","v":1},{"$f":"IF(Edit!$A$42=TRUE,Edit!G26,IF(OR(G26=1,G26=2),CHOOSE(MIN(5,BBlues!G26+BReds!G26),0,0,G26,G26,0),IF(BBlues!G26+BReds!G26=3,IF(BBlues!G26>BReds!G26,1,2),0)))","v":0},{"$f":"IF(Edit!$A$42=TRUE,Edit!H26,IF(OR(H26=1,H26=2),CHOOSE(MIN(5,BBlues!H26+BReds!H26),0,0,H26,H26,0),IF(BBlues!H26+BReds!H26=3,IF(BBlues!H26>BReds!H26,1,2),0)))","v":2},{"$f":"IF(Edit!$A$42=TRUE,Edit!I26,IF(OR(I26=1,I26=2),CHOOSE(MIN(5,BBlues!I26+BReds!I26),0,0,I26,I26,0),IF(BBlues!I26+BReds!I26=3,IF(BBlues!I26>BReds!I26,1,2),0)))","v":0},{"$f":"IF(Edit!$A$42=TRUE,Edit!J26,IF(OR(J26=1,J26=2),CHOOSE(MIN(5,BBlues!J26+BReds!J26),0,0,J26,J26,0),IF(BBlues!J26+BReds!J26=3,IF(BBlues!J26>BReds!J26,1,2),0)))","v":0},{"$f":"IF(Edit!$A$42=TRUE,Edit!K26,IF(OR(K26=1,K26=2),CHOOSE(MIN(5,BBlues!K26+BReds!K26),0,0,K26,K26,0),IF(BBlues!K26+BReds!K26=3,IF(BBlues!K26>BReds!K26,1,2),0)))","v":0},{"$f":"IF(Edit!$A$42=TRUE,Edit!L26,IF(OR(L26=1,L26=2),CHOOSE(MIN(5,BBlues!L26+BReds!L26),0,0,L26,L26,0),IF(BBlues!L26+BReds!L26=3,IF(BBlues!L26>BReds!L26,1,2),0)))","v":0},{"$f":"IF(Edit!$A$42=TRUE,Edit!M26,IF(OR(M26=1,M26=2),CHOOSE(MIN(5,BBlues!M26+BReds!M26),0,0,M26,M26,0),IF(BBlues!M26+BReds!M26=3,IF(BBlues!M26>BReds!M26,1,2),0)))","v":0},{"$f":"IF(Edit!$A$42=TRUE,Edit!N26,IF(OR(N26=1,N26=2),CHOOSE(MIN(5,BBlues!N26+BReds!N26),0,0,N26,N26,0),IF(BBlues!N26+BReds!N26=3,IF(BBlues!N26>BReds!N26,1,2),0)))","v":0},{"$f":"IF(Edit!$A$42=TRUE,Edit!O26,IF(OR(O26=1,O26=2),CHOOSE(MIN(5,BBlues!O26+BReds!O26),0,0,O26,O26,0),IF(BBlues!O26+BReds!O26=3,IF(BBlues!O26>BReds!O26,1,2),0)))","v":0},{"$f":"IF(Edit!$A$42=TRUE,Edit!P26,IF(OR(P26=1,P26=2),CHOOSE(MIN(5,BBlues!P26+BReds!P26),0,0,P26,P26,0),IF(BBlues!P26+BReds!P26=3,IF(BBlues!P26>BReds!P26,1,2),0)))","v":0},{"$f":"IF(Edit!$A$42=TRUE,Edit!Q26,IF(OR(Q26=1,Q26=2),CHOOSE(MIN(5,BBlues!Q26+BReds!Q26),0,0,Q26,Q26,0),IF(BBlues!Q26+BReds!Q26=3,IF(BBlues!Q26>BReds!Q26,1,2),0)))","v":0},{"$f":"IF(Edit!$A$42=TRUE,Edit!R26,IF(OR(R26=1,R26=2),CHOOSE(MIN(5,BBlues!R26+BReds!R26),0,0,R26,R26,0),IF(BBlues!R26+BReds!R26=3,IF(BBlues!R26>BReds!R26,1,2),0)))","v":0},{"$f":"IF(Edit!$A$42=TRUE,Edit!S26,IF(OR(S26=1,S26=2),CHOOSE(MIN(5,BBlues!S26+BReds!S26),0,0,S26,S26,0),IF(BBlues!S26+BReds!S26=3,IF(BBlues!S26>BReds!S26,1,2),0)))","v":0},{"$f":"IF(Edit!$A$42=TRUE,Edit!T26,IF(OR(T26=1,T26=2),CHOOSE(MIN(5,BBlues!T26+BReds!T26),0,0,T26,T26,0),IF(BBlues!T26+BReds!T26=3,IF(BBlues!T26>BReds!T26,1,2),0)))","v":0},{"$f":"IF(Edit!$A$42=TRUE,Edit!U26,IF(OR(U26=1,U26=2),CHOOSE(MIN(5,BBlues!U26+BReds!U26),0,0,U26,U26,0),IF(BBlues!U26+BReds!U26=3,IF(BBlues!U26>BReds!U26,1,2),0)))","v":0},{"$f":"IF(Edit!$A$42=TRUE,Edit!V26,IF(OR(V26=1,V26=2),CHOOSE(MIN(5,BBlues!V26+BReds!V26),0,0,V26,V26,0),IF(BBlues!V26+BReds!V26=3,IF(BBlues!V26>BReds!V26,1,2),0)))","v":0},{"$f":"IF(Edit!$A$42=TRUE,Edit!W26,IF(OR(W26=1,W26=2),CHOOSE(MIN(5,BBlues!W26+BReds!W26),0,0,W26,W26,0),IF(BBlues!W26+BReds!W26=3,IF(BBlues!W26>BReds!W26,1,2),0)))","v":0},{"$f":"IF(Edit!$A$42=TRUE,Edit!X26,IF(OR(X26=1,X26=2),CHOOSE(MIN(5,BBlues!X26+BReds!X26),0,0,X26,X26,0),IF(BBlues!X26+BReds!X26=3,IF(BBlues!X26>BReds!X26,1,2),0)))","v":0},{"$f":"IF(Edit!$A$42=TRUE,Edit!Y26,IF(OR(Y26=1,Y26=2),CHOOSE(MIN(5,BBlues!Y26+BReds!Y26),0,0,Y26,Y26,0),IF(BBlues!Y26+BReds!Y26=3,IF(BBlues!Y26>BReds!Y26,1,2),0)))","v":0},{"$f":"IF(Edit!$A$42=TRUE,Edit!Z26,IF(OR(Z26=1,Z26=2),CHOOSE(MIN(5,BBlues!Z26+BReds!Z26),0,0,Z26,Z26,0),IF(BBlues!Z26+BReds!Z26=3,IF(BBlues!Z26>BReds!Z26,1,2),0)))","v":0},{"$f":"IF(Edit!$A$42=TRUE,Edit!AA26,IF(OR(AA26=1,AA26=2),CHOOSE(MIN(5,BBlues!AA26+BReds!AA26),0,0,AA26,AA26,0),IF(BBlues!AA26+BReds!AA26=3,IF(BBlues!AA26>BReds!AA26,1,2),0)))","v":0},{"$f":"IF(Edit!$A$42=TRUE,Edit!AB26,IF(OR(AB26=1,AB26=2),CHOOSE(MIN(5,BBlues!AB26+BReds!AB26),0,0,AB26,AB26,0),IF(BBlues!AB26+BReds!AB26=3,IF(BBlues!AB26>BReds!AB26,1,2),0)))","v":0},{"$f":"IF(Edit!$A$42=TRUE,Edit!AC26,IF(OR(AC26=1,AC26=2),CHOOSE(MIN(5,BBlues!AC26+BReds!AC26),0,0,AC26,AC26,0),IF(BBlues!AC26+BReds!AC26=3,IF(BBlues!AC26>BReds!AC26,1,2),0)))","v":0},{"$f":"IF(Edit!$A$42=TRUE,Edit!AD26,IF(OR(AD26=1,AD26=2),CHOOSE(MIN(5,BBlues!AD26+BReds!AD26),0,0,AD26,AD26,0),IF(BBlues!AD26+BReds!AD26=3,IF(BBlues!AD26>BReds!AD26,1,2),0)))","v":0},{"$f":"IF(Edit!$A$42=TRUE,Edit!AE26,IF(OR(AE26=1,AE26=2),CHOOSE(MIN(5,BBlues!AE26+BReds!AE26),0,0,AE26,AE26,0),IF(BBlues!AE26+BReds!AE26=3,IF(BBlues!AE26>BReds!AE26,1,2),0)))","v":0},{"$f":"IF(Edit!$A$42=TRUE,Edit!AF26,IF(OR(AF26=1,AF26=2),CHOOSE(MIN(5,BBlues!AF26+BReds!AF26),0,0,AF26,AF26,0),IF(BBlues!AF26+BReds!AF26=3,IF(BBlues!AF26>BReds!AF26,1,2),0)))","v":0},{"$f":"IF(Edit!$A$42=TRUE,Edit!AG26,IF(OR(AG26=1,AG26=2),CHOOSE(MIN(5,BBlues!AG26+BReds!AG26),0,0,AG26,AG26,0),IF(BBlues!AG26+BReds!AG26=3,IF(BBlues!AG26>BReds!AG26,1,2),0)))","v":0},{"$f":"IF(Edit!$A$42=TRUE,Edit!AH26,IF(OR(AH26=1,AH26=2),CHOOSE(MIN(5,BBlues!AH26+BReds!AH26),0,0,AH26,AH26,0),IF(BBlues!AH26+BReds!AH26=3,IF(BBlues!AH26>BReds!AH26,1,2),0)))","v":0},{"$f":"IF(Edit!$A$42=TRUE,Edit!AI26,IF(OR(AI26=1,AI26=2),CHOOSE(MIN(5,BBlues!AI26+BReds!AI26),0,0,AI26,AI26,0),IF(BBlues!AI26+BReds!AI26=3,IF(BBlues!AI26>BReds!AI26,1,2),0)))","v":0},{"$f":"IF(Edit!$A$42=TRUE,Edit!AJ26,IF(OR(AJ26=1,AJ26=2),CHOOSE(MIN(5,BBlues!AJ26+BReds!AJ26),0,0,AJ26,AJ26,0),IF(BBlues!AJ26+BReds!AJ26=3,IF(BBlues!AJ26>BReds!AJ26,1,2),0)))","v":0},{"$f":"IF(Edit!$A$42=TRUE,Edit!AK26,IF(OR(AK26=1,AK26=2),CHOOSE(MIN(5,BBlues!AK26+BReds!AK26),0,0,AK26,AK26,0),IF(BBlues!AK26+BReds!AK26=3,IF(BBlues!AK26>BReds!AK26,1,2),0)))","v":1},{"$f":"IF(Edit!$A$42=TRUE,Edit!AL26,IF(OR(AL26=1,AL26=2),CHOOSE(MIN(5,BBlues!AL26+BReds!AL26),0,0,AL26,AL26,0),IF(BBlues!AL26+BReds!AL26=3,IF(BBlues!AL26>BReds!AL26,1,2),0)))","v":1}]
[null,{"$f":"IF(Edit!$A$42=TRUE,Edit!B27,IF(OR(B27=1,B27=2),CHOOSE(MIN(5,BBlues!B27+BReds!B27),0,0,B27,B27,0),IF(BBlues!B27+BReds!B27=3,IF(BBlues!B27>BReds!B27,1,2),0)))","v":0},{"$f":"IF(Edit!$A$42=TRUE,Edit!C27,IF(OR(C27=1,C27=2),CHOOSE(MIN(5,BBlues!C27+BReds!C27),0,0,C27,C27,0),IF(BBlues!C27+BReds!C27=3,IF(BBlues!C27>BReds!C27,1,2),0)))","v":0},{"$f":"IF(Edit!$A$42=TRUE,Edit!D27,IF(OR(D27=1,D27=2),CHOOSE(MIN(5,BBlues!D27+BReds!D27),0,0,D27,D27,0),IF(BBlues!D27+BReds!D27=3,IF(BBlues!D27>BReds!D27,1,2),0)))","v":0},{"$f":"IF(Edit!$A$42=TRUE,Edit!E27,IF(OR(E27=1,E27=2),CHOOSE(MIN(5,BBlues!E27+BReds!E27),0,0,E27,E27,0),IF(BBlues!E27+BReds!E27=3,IF(BBlues!E27>BReds!E27,1,2),0)))","v":0},{"$f":"IF(Edit!$A$42=TRUE,Edit!F27,IF(OR(F27=1,F27=2),CHOOSE(MIN(5,BBlues!F27+BReds!F27),0,0,F27,F27,0),IF(BBlues!F27+BReds!F27=3,IF(BBlues!F27>BReds!F27,1,2),0)))","v":0},{"$f":"IF(Edit!$A$42=TRUE,Edit!G27,IF(OR(G27=1,G27=2),CHOOSE(MIN(5,BBlues!G27+BReds!G27),0,0,G27,G27,0),IF(BBlues!G27+BReds!G27=3,IF(BBlues!G27>BReds!G27,1,2),0)))","v":0},{"$f":"IF(Edit!$A$42=TRUE,Edit!H27,IF(OR(H27=1,H27=2),CHOOSE(MIN(5,BBlues!H27+BReds!H27),0,0,H27,H27,0),IF(BBlues!H27+BReds!H27=3,IF(BBlues!H27>BReds!H27,1,2),0)))","v":0},{"$f":"IF(Edit!$A$42=TRUE,Edit!I27,IF(OR(I27=1,I27=2),CHOOSE(MIN(5,BBlues!I27+BReds!I27),0,0,I27,I27,0),IF(BBlues!I27+BReds!I27=3,IF(BBlues!I27>BReds!I27,1,2),0)))","v":0},{"$f":"IF(Edit!$A$42=TRUE,Edit!J27,IF(OR(J27=1,J27=2),CHOOSE(MIN(5,BBlues!J27+BReds!J27),0,0,J27,J27,0),IF(BBlues!J27+BReds!J27=3,IF(BBlues!J27>BReds!J27,1,2),0)))","v":0},{"$f":"IF(Edit!$A$42=TRUE,Edit!K27,IF(OR(K27=1,K27=2),CHOOSE(MIN(5,BBlues!K27+BReds!K27),0,0,K27,K27,0),IF(BBlues!K27+BReds!K27=3,IF(BBlues!K27>BReds!K27,1,2),0)))","v":0},{"$f":"IF(Edit!$A$42=TRUE,Edit!L27,IF(OR(L27=1,L27=2),CHOOSE(MIN(5,BBlues!L27+BReds!L27),0,0,L27,L27,0),IF(BBlues!L27+BReds!L27=3,IF(BBlues!L27>BReds!L27,1,2),0)))","v":0},{"$f":"IF(Edit!$A$42=TRUE,Edit!M27,IF(OR(M27=1,M27=2),CHOOSE(MIN(5,BBlues!M27+BReds!M27),0,0,M27,M27,0),IF(BBlues!M27+BReds!M27=3,IF(BBlues!M27>BReds!M27,1,2),0)))","v":0},{"$f":"IF(Edit!$A$42=TRUE,Edit!N27,IF(OR(N27=1,N27=2),CHOOSE(MIN(5,BBlues!N27+BReds!N27),0,0,N27,N27,0),IF(BBlues!N27+BReds!N27=3,IF(BBlues!N27>BReds!N27,1,2),0)))","v":0},{"$f":"IF(Edit!$A$42=TRUE,Edit!O27,IF(OR(O27=1,O27=2),CHOOSE(MIN(5,BBlues!O27+BReds!O27),0,0,O27,O27,0),IF(BBlues!O27+BReds!O27=3,IF(BBlues!O27>BReds!O27,1,2),0)))","v":0},{"$f":"IF(Edit!$A$42=TRUE,Edit!P27,IF(OR(P27=1,P27=2),CHOOSE(MIN(5,BBlues!P27+BReds!P27),0,0,P27,P27,0),IF(BBlues!P27+BReds!P27=3,IF(BBlues!P27>BReds!P27,1,2),0)))","v":0},{"$f":"IF(Edit!$A$42=TRUE,Edit!Q27,IF(OR(Q27=1,Q27=2),CHOOSE(MIN(5,BBlues!Q27+BReds!Q27),0,0,Q27,Q27,0),IF(BBlues!Q27+BReds!Q27=3,IF(BBlues!Q27>BReds!Q27,1,2),0)))","v":0},{"$f":"IF(Edit!$A$42=TRUE,Edit!R27,IF(OR(R27=1,R27=2),CHOOSE(MIN(5,BBlues!R27+BReds!R27),0,0,R27,R27,0),IF(BBlues!R27+BReds!R27=3,IF(BBlues!R27>BReds!R27,1,2),0)))","v":0},{"$f":"IF(Edit!$A$42=TRUE,Edit!S27,IF(OR(S27=1,S27=2),CHOOSE(MIN(5,BBlues!S27+BReds!S27),0,0,S27,S27,0),IF(BBlues!S27+BReds!S27=3,IF(BBlues!S27>BReds!S27,1,2),0)))","v":0},{"$f":"IF(Edit!$A$42=TRUE,Edit!T27,IF(OR(T27=1,T27=2),CHOOSE(MIN(5,BBlues!T27+BReds!T27),0,0,T27,T27,0),IF(BBlues!T27+BReds!T27=3,IF(BBlues!T27>BReds!T27,1,2),0)))","v":0},{"$f":"IF(Edit!$A$42=TRUE,Edit!U27,IF(OR(U27=1,U27=2),CHOOSE(MIN(5,BBlues!U27+BReds!U27),0,0,U27,U27,0),IF(BBlues!U27+BReds!U27=3,IF(BBlues!U27>BReds!U27,1,2),0)))","v":0},{"$f":"IF(Edit!$A$42=TRUE,Edit!V27,IF(OR(V27=1,V27=2),CHOOSE(MIN(5,BBlues!V27+BReds!V27),0,0,V27,V27,0),IF(BBlues!V27+BReds!V27=3,IF(BBlues!V27>BReds!V27,1,2),0)))","v":0},{"$f":"IF(Edit!$A$42=TRUE,Edit!W27,IF(OR(W27=1,W27=2),CHOOSE(MIN(5,BBlues!W27+BReds!W27),0,0,W27,W27,0),IF(BBlues!W27+BReds!W27=3,IF(BBlues!W27>BReds!W27,1,2),0)))","v":0},{"$f":"IF(Edit!$A$42=TRUE,Edit!X27,IF(OR(X27=1,X27=2),CHOOSE(MIN(5,BBlues!X27+BReds!X27),0,0,X27,X27,0),IF(BBlues!X27+BReds!X27=3,IF(BBlues!X27>BReds!X27,1,2),0)))","v":0},{"$f":"IF(Edit!$A$42=TRUE,Edit!Y27,IF(OR(Y27=1,Y27=2),CHOOSE(MIN(5,BBlues!Y27+BReds!Y27),0,0,Y27,Y27,0),IF(BBlues!Y27+BReds!Y27=3,IF(BBlues!Y27>BReds!Y27,1,2),0)))","v":0},{"$f":"IF(Edit!$A$42=TRUE,Edit!Z27,IF(OR(Z27=1,Z27=2),CHOOSE(MIN(5,BBlues!Z27+BReds!Z27),0,0,Z27,Z27,0),IF(BBlues!Z27+BReds!Z27=3,IF(BBlues!Z27>BReds!Z27,1,2),0)))","v":0},{"$f":"IF(Edit!$A$42=TRUE,Edit!AA27,IF(OR(AA27=1,AA27=2),CHOOSE(MIN(5,BBlues!AA27+BReds!AA27),0,0,AA27,AA27,0),IF(BBlues!AA27+BReds!AA27=3,IF(BBlues!AA27>BReds!AA27,1,2),0)))","v":0},{"$f":"IF(Edit!$A$42=TRUE,Edit!AB27,IF(OR(AB27=1,AB27=2),CHOOSE(MIN(5,BBlues!AB27+BReds!AB27),0,0,AB27,AB27,0),IF(BBlues!AB27+BReds!AB27=3,IF(BBlues!AB27>BReds!AB27,1,2),0)))","v":0},{"$f":"IF(Edit!$A$42=TRUE,Edit!AC27,IF(OR(AC27=1,AC27=2),CHOOSE(MIN(5,BBlues!AC27+BReds!AC27),0,0,AC27,AC27,0),IF(BBlues!AC27+BReds!AC27=3,IF(BBlues!AC27>BReds!AC27,1,2),0)))","v":0},{"$f":"IF(Edit!$A$42=TRUE,Edit!AD27,IF(OR(AD27=1,AD27=2),CHOOSE(MIN(5,BBlues!AD27+BReds!AD27),0,0,AD27,AD27,0),IF(BBlues!AD27+BReds!AD27=3,IF(BBlues!AD27>BReds!AD27,1,2),0)))","v":1},{"$f":"IF(Edit!$A$42=TRUE,Edit!AE27,IF(OR(AE27=1,AE27=2),CHOOSE(MIN(5,BBlues!AE27+BReds!AE27),0,0,AE27,AE27,0),IF(BBlues!AE27+BReds!AE27=3,IF(BBlues!AE27>BReds!AE27,1,2),0)))","v":1},{"$f":"IF(Edit!$A$42=TRUE,Edit!AF27,IF(OR(AF27=1,AF27=2),CHOOSE(MIN(5,BBlues!AF27+BReds!AF27),0,0,AF27,AF27,0),IF(BBlues!AF27+BReds!AF27=3,IF(BBlues!AF27>BReds!AF27,1,2),0)))","v":0},{"$f":"IF(Edit!$A$42=TRUE,Edit!AG27,IF(OR(AG27=1,AG27=2),CHOOSE(MIN(5,BBlues!AG27+BReds!AG27),0,0,AG27,AG27,0),IF(BBlues!AG27+BReds!AG27=3,IF(BBlues!AG27>BReds!AG27,1,2),0)))","v":1},{"$f":"IF(Edit!$A$42=TRUE,Edit!AH27,IF(OR(AH27=1,AH27=2),CHOOSE(MIN(5,BBlues!AH27+BReds!AH27),0,0,AH27,AH27,0),IF(BBlues!AH27+BReds!AH27=3,IF(BBlues!AH27>BReds!AH27,1,2),0)))","v":1},{"$f":"IF(Edit!$A$42=TRUE,Edit!AI27,IF(OR(AI27=1,AI27=2),CHOOSE(MIN(5,BBlues!AI27+BReds!AI27),0,0,AI27,AI27,0),IF(BBlues!AI27+BReds!AI27=3,IF(BBlues!AI27>BReds!AI27,1,2),0)))","v":1},{"$f":"IF(Edit!$A$42=TRUE,Edit!AJ27,IF(OR(AJ27=1,AJ27=2),CHOOSE(MIN(5,BBlues!AJ27+BReds!AJ27),0,0,AJ27,AJ27,0),IF(BBlues!AJ27+BReds!AJ27=3,IF(BBlues!AJ27>BReds!AJ27,1,2),0)))","v":1},{"$f":"IF(Edit!$A$42=TRUE,Edit!AK27,IF(OR(AK27=1,AK27=2),CHOOSE(MIN(5,BBlues!AK27+BReds!AK27),0,0,AK27,AK27,0),IF(BBlues!AK27+BReds!AK27=3,IF(BBlues!AK27>BReds!AK27,1,2),0)))","v":1},{"$f":"IF(Edit!$A$42=TRUE,Edit!AL27,IF(OR(AL27=1,AL27=2),CHOOSE(MIN(5,BBlues!AL27+BReds!AL27),0,0,AL27,AL27,0),IF(BBlues!AL27+BReds!AL27=3,IF(BBlues!AL27>BReds!AL27,1,2),0)))","v":1}]
[null,{"$f":"IF(Edit!$A$42=TRUE,Edit!B28,IF(OR(B28=1,B28=2),CHOOSE(MIN(5,BBlues!B28+BReds!B28),0,0,B28,B28,0),IF(BBlues!B28+BReds!B28=3,IF(BBlues!B28>BReds!B28,1,2),0)))","v":1},{"$f":"IF(Edit!$A$42=TRUE,Edit!C28,IF(OR(C28=1,C28=2),CHOOSE(MIN(5,BBlues!C28+BReds!C28),0,0,C28,C28,0),IF(BBlues!C28+BReds!C28=3,IF(BBlues!C28>BReds!C28,1,2),0)))","v":0},{"$f":"IF(Edit!$A$42=TRUE,Edit!D28,IF(OR(D28=1,D28=2),CHOOSE(MIN(5,BBlues!D28+BReds!D28),0,0,D28,D28,0),IF(BBlues!D28+BReds!D28=3,IF(BBlues!D28>BReds!D28,1,2),0)))","v":0},{"$f":"IF(Edit!$A$42=TRUE,Edit!E28,IF(OR(E28=1,E28=2),CHOOSE(MIN(5,BBlues!E28+BReds!E28),0,0,E28,E28,0),IF(BBlues!E28+BReds!E28=3,IF(BBlues!E28>BReds!E28,1,2),0)))","v":0},{"$f":"IF(Edit!$A$42=TRUE,Edit!F28,IF(OR(F28=1,F28=2),CHOOSE(MIN(5,BBlues!F28+BReds!F28),0,0,F28,F28,0),IF(BBlues!F28+BReds!F28=3,IF(BBlues!F28>BReds!F28,1,2),0)))","v":0},{"$f":"IF(Edit!$A$42=TRUE,Edit!G28,IF(OR(G28=1,G28=2),CHOOSE(MIN(5,BBlues!G28+BReds!G28),0,0,G28,G28,0),IF(BBlues!G28+BReds!G28=3,IF(BBlues!G28>BReds!G28,1,2),0)))","v":0},{"$f":"IF(Edit!$A$42=TRUE,Edit!H28,IF(OR(H28=1,H28=2),CHOOSE(MIN(5,BBlues!H28+BReds!H28),0,0,H28,H28,0),IF(BBlues!H28+BReds!H28=3,IF(BBlues!H28>BReds!H28,1,2),0)))","v":0},{"$f":"IF(Edit!$A$42=TRUE,Edit!I28,IF(OR(I28=1,I28=2),CHOOSE(MIN(5,BBlues!I28+BReds!I28),0,0,I28,I28,0),IF(BBlues!I28+BReds!I28=3,IF(BBlues!I28>BReds!I28,1,2),0)))","v":1},{"$f":"IF(Edit!$A$42=TRUE,Edit!J28,IF(OR(J28=1,J28=2),CHOOSE(MIN(5,BBlues!J28+BReds!J28),0,0,J28,J28,0),IF(BBlues!J28+BReds!J28=3,IF(BBlues!J28>BReds!J28,1,2),0)))","v":1},{"$f":"IF(Edit!$A$42=TRUE,Edit!K28,IF(OR(K28=1,K28=2),CHOOSE(MIN(5,BBlues!K28+BReds!K28),0,0,K28,K28,0),IF(BBlues!K28+BReds!K28=3,IF(BBlues!K28>BReds!K28,1,2),0)))","v":0},{"$f":"IF(Edit!$A$42=TRUE,Edit!L28,IF(OR(L28=1,L28=2),CHOOSE(MIN(5,BBlues!L28+BReds!L28),0,0,L28,L28,0),IF(BBlues!L28+BReds!L28=3,IF(BBlues!L28>BReds!L28,1,2),0)))","v":0},{"$f":"IF(Edit!$A$42=TRUE,Edit!M28,IF(OR(M28=1,M28=2),CHOOSE(MIN(5,BBlues!M28+BReds!M28),0,0,M28,M28,0),IF(BBlues!M28+BReds!M28=3,IF(BBlues!M28>BReds!M28,1,2),0)))","v":0},{"$f":"IF(Edit!$A$42=TRUE,Edit!N28,IF(OR(N28=1,N28=2),CHOOSE(MIN(5,BBlues!N28+BReds!N28),0,0,N28,N28,0),IF(BBlues!N28+BReds!N28=3,IF(BBlues!N28>BReds!N28,1,2),0)))","v":0},{"$f":"IF(Edit!$A$42=TRUE,Edit!O28,IF(OR(O28=1,O28=2),CHOOSE(MIN(5,BBlues!O28+BReds!O28),0,0,O28,O28,0),IF(BBlues!O28+BReds!O28=3,IF(BBlues!O28>BReds!O28,1,2),0)))","v":1},{"$f":"IF(Edit!$A$42=TRUE,Edit!P28,IF(OR(P28=1,P28=2),CHOOSE(MIN(5,BBlues!P28+BReds!P28),0,0,P28,P28,0),IF(BBlues!P28+BReds!P28=3,IF(BBlues!P28>BReds!P28,1,2),0)))","v":0},{"$f":"IF(Edit!$A$42=TRUE,Edit!Q28,IF(OR(Q28=1,Q28=2),CHOOSE(MIN(5,BBlues!Q28+BReds!Q28),0,0,Q28,Q28,0),IF(BBlues!Q28+BReds!Q28=3,IF(BBlues!Q28>BReds!Q28,1,2),0)))","v":0},{"$f":"IF(Edit!$A$42=TRUE,Edit!R28,IF(OR(R28=1,R28=2),CHOOSE(MIN(5,BBlues!R28+BReds!R28),0,0,R28,R28,0),IF(BBlues!R28+BReds!R28=3,IF(BBlues!R28>BReds!R28,1,2),0)))","v":0},{"$f":"IF(Edit!$A$42=TRUE,Edit!S28,IF(OR(S28=1,S28=2),CHOOSE(MIN(5,BBlues!S28+BReds!S28),0,0,S28,S28,0),IF(BBlues!S28+BReds!S28=3,IF(BBlues!S28>BReds!S28,1,2),0)))","v":0},{"$f":"IF(Edit!$A$42=TRUE,Edit!T28,IF(OR(T28=1,T28=2),CHOOSE(MIN(5,BBlues!T28+BReds!T28),0,0,T28,T28,0),IF(BBlues!T28+BReds!T28=3,IF(BBlues!T28>BReds!T28,1,2),0)))","v":0},{"$f":"IF(Edit!$A$42=TRUE,Edit!U28,IF(OR(U28=1,U28=2),CHOOSE(MIN(5,BBlues!U28+BReds!U28),0,0,U28,U28,0),IF(BBlues!U28+BReds!U28=3,IF(BBlues!U28>BReds!U28,1,2),0)))","v":0},{"$f":"IF(Edit!$A$42=TRUE,Edit!V28,IF(OR(V28=1,V28=2),CHOOSE(MIN(5,BBlues!V28+BReds!V28),0,0,V28,V28,0),IF(BBlues!V28+BReds!V28=3,IF(BBlues!V28>BReds!V28,1,2),0)))","v":0},{"$f":"IF(Edit!$A$42=TRUE,Edit!W28,IF(OR(W28=1,W28=2),CHOOSE(MIN(5,BBlues!W28+BReds!W28),0,0,W28,W28,0),IF(BBlues!W28+BReds!W28=3,IF(BBlues!W28>BReds!W28,1,2),0)))","v":0},{"$f":"IF(Edit!$A$42=TRUE,Edit!X28,IF(OR(X28=1,X28=2),CHOOSE(MIN(5,BBlues!X28+BReds!X28),0,0,X28,X28,0),IF(BBlues!X28+BReds!X28=3,IF(BBlues!X28>BReds!X28,1,2),0)))","v":0},{"$f":"IF(Edit!$A$42=TRUE,Edit!Y28,IF(OR(Y28=1,Y28=2),CHOOSE(MIN(5,BBlues!Y28+BReds!Y28),0,0,Y28,Y28,0),IF(BBlues!Y28+BReds!Y28=3,IF(BBlues!Y28>BReds!Y28,1,2),0)))","v":0},{"$f":"IF(Edit!$A$42=TRUE,Edit!Z28,IF(OR(Z28=1,Z28=2),CHOOSE(MIN(5,BBlues!Z28+BReds!Z28),0,0,Z28,Z28,0),IF(BBlues!Z28+BReds!Z28=3,IF(BBlues!Z28>BReds!Z28,1,2),0)))","v":0},{"$f":"IF(Edit!$A$42=TRUE,Edit!AA28,IF(OR(AA28=1,AA28=2),CHOOSE(MIN(5,BBlues!AA28+BReds!AA28),0,0,AA28,AA28,0),IF(BBlues!AA28+BReds!AA28=3,IF(BBlues!AA28>BReds!AA28,1,2),0)))","v":0},{"$f":"IF(Edit!$A$42=TRUE,Edit!AB28,IF(OR(AB28=1,AB28=2),CHOOSE(MIN(5,BBlues!AB28+BReds!AB28),0,0,AB28,AB28,0),IF(BBlues!AB28+BReds!AB28=3,IF(BBlues!AB28>BReds!AB28,1,2),0)))","v":0},{"$f":"IF(Edit!$A$42=TRUE,Edit!AC28,IF(OR(AC28=1,AC28=2),CHOOSE(MIN(5,BBlues!AC28+BReds!AC28),0,0,AC28,AC28,0),IF(BBlues!AC28+BReds!AC28=3,IF(BBlues!AC28>BReds!AC28,1,2),0)))","v":1},{"$f":"IF(Edit!$A$42=TRUE,Edit!AD28,IF(OR(AD28=1,AD28=2),CHOOSE(MIN(5,BBlues!AD28+BReds!AD28),0,0,AD28,AD28,0),IF(BBlues!AD28+BReds!AD28=3,IF(BBlues!AD28>BReds!AD28,1,2),0)))","v":0},{"$f":"IF(Edit!$A$42=TRUE,Edit!AE28,IF(OR(AE28=1,AE28=2),CHOOSE(MIN(5,BBlues!AE28+BReds!AE28),0,0,AE28,AE28,0),IF(BBlues!AE28+BReds!AE28=3,IF(BBlues!AE28>BReds!AE28,1,2),0)))","v":1},{"$f":"IF(Edit!$A$42=TRUE,Edit!AF28,IF(OR(AF28=1,AF28=2),CHOOSE(MIN(5,BBlues!AF28+BReds!AF28),0,0,AF28,AF28,0),IF(BBlues!AF28+BReds!AF28=3,IF(BBlues!AF28>BReds!AF28,1,2),0)))","v":0},{"$f":"IF(Edit!$A$42=TRUE,Edit!AG28,IF(OR(AG28=1,AG28=2),CHOOSE(MIN(5,BBlues!AG28+BReds!AG28),0,0,AG28,AG28,0),IF(BBlues!AG28+BReds!AG28=3,IF(BBlues!AG28>BReds!AG28,1,2),0)))","v":0},{"$f":"IF(Edit!$A$42=TRUE,Edit!AH28,IF(OR(AH28=1,AH28=2),CHOOSE(MIN(5,BBlues!AH28+BReds!AH28),0,0,AH28,AH28,0),IF(BBlues!AH28+BReds!AH28=3,IF(BBlues!AH28>BReds!AH28,1,2),0)))","v":0},{"$f":"IF(Edit!$A$42=TRUE,Edit!AI28,IF(OR(AI28=1,AI28=2),CHOOSE(MIN(5,BBlues!AI28+BReds!AI28),0,0,AI28,AI28,0),IF(BBlues!AI28+BReds!AI28=3,IF(BBlues!AI28>BReds!AI28,1,2),0)))","v":0},{"$f":"IF(Edit!$A$42=TRUE,Edit!AJ28,IF(OR(AJ28=1,AJ28=2),CHOOSE(MIN(5,BBlues!AJ28+BReds!AJ28),0,0,AJ28,AJ28,0),IF(BBlues!AJ28+BReds!AJ28=3,IF(BBlues!AJ28>BReds!AJ28,1,2),0)))","v":1},{"$f":"IF(Edit!$A$42=TRUE,Edit!AK28,IF(OR(AK28=1,AK28=2),CHOOSE(MIN(5,BBlues!AK28+BReds!AK28),0,0,AK28,AK28,0),IF(BBlues!AK28+BReds!AK28=3,IF(BBlues!AK28>BReds!AK28,1,2),0)))","v":1},{"$f":"IF(Edit!$A$42=TRUE,Edit!AL28,IF(OR(AL28=1,AL28=2),CHOOSE(MIN(5,BBlues!AL28+BReds!AL28),0,0,AL28,AL28,0),IF(BBlues!AL28+BReds!AL28=3,IF(BBlues!AL28>BReds!AL28,1,2),0)))","v":0}]
[null,{"$f":"IF(Edit!$A$42=TRUE,Edit!B29,IF(OR(B29=1,B29=2),CHOOSE(MIN(5,BBlues!B29+BReds!B29),0,0,B29,B29,0),IF(BBlues!B29+BReds!B29=3,IF(BBlues!B29>BReds!B29,1,2),0)))","v":1},{"$f":"IF(Edit!$A$42=TRUE,Edit!C29,IF(OR(C29=1,C29=2),CHOOSE(MIN(5,BBlues!C29+BReds!C29),0,0,C29,C29,0),IF(BBlues!C29+BReds!C29=3,IF(BBlues!C29>BReds!C29,1,2),0)))","v":0},{"$f":"IF(Edit!$A$42=TRUE,Edit!D29,IF(OR(D29=1,D29=2),CHOOSE(MIN(5,BBlues!D29+BReds!D29),0,0,D29,D29,0),IF(BBlues!D29+BReds!D29=3,IF(BBlues!D29>BReds!D29,1,2),0)))","v":0},{"$f":"IF(Edit!$A$42=TRUE,Edit!E29,IF(OR(E29=1,E29=2),CHOOSE(MIN(5,BBlues!E29+BReds!E29),0,0,E29,E29,0),IF(BBlues!E29+BReds!E29=3,IF(BBlues!E29>BReds!E29,1,2),0)))","v":1},{"$f":"IF(Edit!$A$42=TRUE,Edit!F29,IF(OR(F29=1,F29=2),CHOOSE(MIN(5,BBlues!F29+BReds!F29),0,0,F29,F29,0),IF(BBlues!F29+BReds!F29=3,IF(BBlues!F29>BReds!F29,1,2),0)))","v":1},{"$f":"IF(Edit!$A$42=TRUE,Edit!G29,IF(OR(G29=1,G29=2),CHOOSE(MIN(5,BBlues!G29+BReds!G29),0,0,G29,G29,0),IF(BBlues!G29+BReds!G29=3,IF(BBlues!G29>BReds!G29,1,2),0)))","v":0},{"$f":"IF(Edit!$A$42=TRUE,Edit!H29,IF(OR(H29=1,H29=2),CHOOSE(MIN(5,BBlues!H29+BReds!H29),0,0,H29,H29,0),IF(BBlues!H29+BReds!H29=3,IF(BBlues!H29>BReds!H29,1,2),0)))","v":1},{"$f":"IF(Edit!$A$42=TRUE,Edit!I29,IF(OR(I29=1,I29=2),CHOOSE(MIN(5,BBlues!I29+BReds!I29),0,0,I29,I29,0),IF(BBlues!I29+BReds!I29=3,IF(BBlues!I29>BReds!I29,1,2),0)))","v":0},{"$f":"IF(Edit!$A$42=TRUE,Edit!J29,IF(OR(J29=1,J29=2),CHOOSE(MIN(5,BBlues!J29+BReds!J29),0,0,J29,J29,0),IF(BBlues!J29+BReds!J29=3,IF(BBlues!J29>BReds!J29,1,2),0)))","v":1},{"$f":"IF(Edit!$A$42=TRUE,Edit!K29,IF(OR(K29=1,K29=2),CHOOSE(MIN(5,BBlues!K29+BReds!K29),0,0,K29,K29,0),IF(BBlues!K29+BReds!K29=3,IF(BBlues!K29>BReds!K29,1,2),0)))","v":1},{"$f":"IF(Edit!$A$42=TRUE,Edit!L29,IF(OR(L29=1,L29=2),CHOOSE(MIN(5,BBlues!L29+BReds!L29),0,0,L29,L29,0),IF(BBlues!L29+BReds!L29=3,IF(BBlues!L29>BReds!L29,1,2),0)))","v":0},{"$f":"IF(Edit!$A$42=TRUE,Edit!M29,IF(OR(M29=1,M29=2),CHOOSE(MIN(5,BBlues!M29+BReds!M29),0,0,M29,M29,0),IF(BBlues!M29+BReds!M29=3,IF(BBlues!M29>BReds!M29,1,2),0)))","v":0},{"$f":"IF(Edit!$A$42=TRUE,Edit!N29,IF(OR(N29=1,N29=2),CHOOSE(MIN(5,BBlues!N29+BReds!N29),0,0,N29,N29,0),IF(BBlues!N29+BReds!N29=3,IF(BBlues!N29>BReds!N29,1,2),0)))","v":0},{"$f":"IF(Edit!$A$42=TRUE,Edit!O29,IF(OR(O29=1,O29=2),CHOOSE(MIN(5,BBlues!O29+BReds!O29),0,0,O29,O29,0),IF(BBlues!O29+BReds!O29=3,IF(BBlues!O29>BReds!O29,1,2),0)))","v":1},{"$f":"IF(Edit!$A$42=TRUE,Edit!P29,IF(OR(P29=1,P29=2),CHOOSE(MIN(5,BBlues!P29+BReds!P29),0,0,P29,P29,0),IF(BBlues!P29+BReds!P29=3,IF(BBlues!P29>BReds!P29,1,2),0)))","v":0},{"$f":"IF(Edit!$A$42=TRUE,Edit!Q29,IF(OR(Q29=1,Q29=2),CHOOSE(MIN(5,BBlues!Q29+BReds!Q29),0,0,Q29,Q29,0),IF(BBlues!Q29+BReds!Q29=3,IF(BBlues!Q29>BReds!Q29,1,2),0)))","v":0},{"$f":"IF(Edit!$A$42=TRUE,Edit!R29,IF(OR(R29=1,R29=2),CHOOSE(MIN(5,BBlues!R29+BReds!R29),0,0,R29,R29,0),IF(BBlues!R29+BReds!R29=3,IF(BBlues!R29>BReds!R29,1,2),0)))","v":0},{"$f":"IF(Edit!$A$42=TRUE,Edit!S29,IF(OR(S29=1,S29=2),CHOOSE(MIN(5,BBlues!S29+BReds!S29),0,0,S29,S29,0),IF(BBlues!S29+BReds!S29=3,IF(BBlues!S29>BReds!S29,1,2),0)))","v":0},{"$f":"IF(Edit!$A$42=TRUE,Edit!T29,IF(OR(T29=1,T29=2),CHOOSE(MIN(5,BBlues!T29+BReds!T29),0,0,T29,T29,0),IF(BBlues!T29+BReds!T29=3,IF(BBlues!T29>BReds!T29,1,2),0)))","v":0},{"$f":"IF(Edit!$A$42=TRUE,Edit!U29,IF(OR(U29=1,U29=2),CHOOSE(MIN(5,BBlues!U29+BReds!U29),0,0,U29,U29,0),IF(BBlues!U29+BReds!U29=3,IF(BBlues!U29>BReds!U29,1,2),0)))","v":0},{"$f":"IF(Edit!$A$42=TRUE,Edit!V29,IF(OR(V29=1,V29=2),CHOOSE(MIN(5,BBlues!V29+BReds!V29),0,0,V29,V29,0),IF(BBlues!V29+BReds!V29=3,IF(BBlues!V29>BReds!V29,1,2),0)))","v":0},{"$f":"IF(Edit!$A$42=TRUE,Edit!W29,IF(OR(W29=1,W29=2),CHOOSE(MIN(5,BBlues!W29+BReds!W29),0,0,W29,W29,0),IF(BBlues!W29+BReds!W29=3,IF(BBlues!W29>BReds!W29,1,2),0)))","v":0},{"$f":"IF(Edit!$A$42=TRUE,Edit!X29,IF(OR(X29=1,X29=2),CHOOSE(MIN(5,BBlues!X29+BReds!X29),0,0,X29,X29,0),IF(BBlues!X29+BReds!X29=3,IF(BBlues!X29>BReds!X29,1,2),0)))","v":0},{"$f":"IF(Edit!$A$42=TRUE,Edit!Y29,IF(OR(Y29=1,Y29=2),CHOOSE(MIN(5,BBlues!Y29+BReds!Y29),0,0,Y29,Y29,0),IF(BBlues!Y29+BReds!Y29=3,IF(BBlues!Y29>BReds!Y29,1,2),0)))","v":0},{"$f":"IF(Edit!$A$42=TRUE,Edit!Z29,IF(OR(Z29=1,Z29=2),CHOOSE(MIN(5,BBlues!Z29+BReds!Z29),0,0,Z29,Z29,0),IF(BBlues!Z29+BReds!Z29=3,IF(BBlues!Z29>BReds!Z29,1,2),0)))","v":0},{"$f":"IF(Edit!$A$42=TRUE,Edit!AA29,IF(OR(AA29=1,AA29=2),CHOOSE(MIN(5,BBlues!AA29+BReds!AA29),0,0,AA29,AA29,0),IF(BBlues!AA29+BReds!AA29=3,IF(BBlues!AA29>BReds!AA29,1,2),0)))","v":0},{"$f":"IF(Edit!$A$42=TRUE,Edit!AB29,IF(OR(AB29=1,AB29=2),CHOOSE(MIN(5,BBlues!AB29+BReds!AB29),0,0,AB29,AB29,0),IF(BBlues!AB29+BReds!AB29=3,IF(BBlues!AB29>BReds!AB29,1,2),0)))","v":0},{"$f":"IF(Edit!$A$42=TRUE,Edit!AC29,IF(OR(AC29=1,AC29=2),CHOOSE(MIN(5,BBlues!AC29+BReds!AC29),0,0,AC29,AC29,0),IF(BBlues!AC29+BReds!AC29=3,IF(BBlues!AC29>BReds!AC29,1,2),0)))","v":0},{"$f":"IF(Edit!$A$42=TRUE,Edit!AD29,IF(OR(AD29=1,AD29=2),CHOOSE(MIN(5,BBlues!AD29+BReds!AD29),0,0,AD29,AD29,0),IF(BBlues!AD29+BReds!AD29=3,IF(BBlues!AD29>BReds!AD29,1,2),0)))","v":1},{"$f":"IF(Edit!$A$42=TRUE,Edit!AE29,IF(OR(AE29=1,AE29=2),CHOOSE(MIN(5,BBlues!AE29+BReds!AE29),0,0,AE29,AE29,0),IF(BBlues!AE29+BReds!AE29=3,IF(BBlues!AE29>BReds!AE29,1,2),0)))","v":0},{"$f":"IF(Edit!$A$42=TRUE,Edit!AF29,IF(OR(AF29=1,AF29=2),CHOOSE(MIN(5,BBlues!AF29+BReds!AF29),0,0,AF29,AF29,0),IF(BBlues!AF29+BReds!AF29=3,IF(BBlues!AF29>BReds!AF29,1,2),0)))","v":0},{"$f":"IF(Edit!$A$42=TRUE,Edit!AG29,IF(OR(AG29=1,AG29=2),CHOOSE(MIN(5,BBlues!AG29+BReds!AG29),0,0,AG29,AG29,0),IF(BBlues!AG29+BReds!AG29=3,IF(BBlues!AG29>BReds!AG29,1,2),0)))","v":0},{"$f":"IF(Edit!$A$42=TRUE,Edit!AH29,IF(OR(AH29=1,AH29=2),CHOOSE(MIN(5,BBlues!AH29+BReds!AH29),0,0,AH29,AH29,0),IF(BBlues!AH29+BReds!AH29=3,IF(BBlues!AH29>BReds!AH29,1,2),0)))","v":0},{"$f":"IF(Edit!$A$42=TRUE,Edit!AI29,IF(OR(AI29=1,AI29=2),CHOOSE(MIN(5,BBlues!AI29+BReds!AI29),0,0,AI29,AI29,0),IF(BBlues!AI29+BReds!AI29=3,IF(BBlues!AI29>BReds!AI29,1,2),0)))","v":0},{"$f":"IF(Edit!$A$42=TRUE,Edit!AJ29,IF(OR(AJ29=1,AJ29=2),CHOOSE(MIN(5,BBlues!AJ29+BReds!AJ29),0,0,AJ29,AJ29,0),IF(BBlues!AJ29+BReds!AJ29=3,IF(BBlues!AJ29>BReds!AJ29,1,2),0)))","v":1},{"$f":"IF(Edit!$A$42=TRUE,Edit!AK29,IF(OR(AK29=1,AK29=2),CHOOSE(MIN(5,BBlues!AK29+BReds!AK29),0,0,AK29,AK29,0),IF(BBlues!AK29+BReds!AK29=3,IF(BBlues!AK29>BReds!AK29,1,2),0)))","v":1},{"$f":"IF(Edit!$A$42=TRUE,Edit!AL29,IF(OR(AL29=1,AL29=2),CHOOSE(MIN(5,BBlues!AL29+BReds!AL29),0,0,AL29,AL29,0),IF(BBlues!AL29+BReds!AL29=3,IF(BBlues!AL29>BReds!AL29,1,2),0)))","v":0}]
[null,{"$f":"IF(Edit!$A$42=TRUE,Edit!B30,IF(OR(B30=1,B30=2),CHOOSE(MIN(5,BBlues!B30+BReds!B30),0,0,B30,B30,0),IF(BBlues!B30+BReds!B30=3,IF(BBlues!B30>BReds!B30,1,2),0)))","v":1},{"$f":"IF(Edit!$A$42=TRUE,Edit!C30,IF(OR(C30=1,C30=2),CHOOSE(MIN(5,BBlues!C30+BReds!C30),0,0,C30,C30,0),IF(BBlues!C30+BReds!C30=3,IF(BBlues!C30>BReds!C30,1,2),0)))","v":0},{"$f":"IF(Edit!$A$42=TRUE,Edit!D30,IF(OR(D30=1,D30=2),CHOOSE(MIN(5,BBlues!D30+BReds!D30),0,0,D30,D30,0),IF(BBlues!D30+BReds!D30=3,IF(BBlues!D30>BReds!D30,1,2),0)))","v":0},{"$f":"IF(Edit!$A$42=TRUE,Edit!E30,IF(OR(E30=1,E30=2),CHOOSE(MIN(5,BBlues!E30+BReds!E30),0,0,E30,E30,0),IF(BBlues!E30+BReds!E30=3,IF(BBlues!E30>BReds!E30,1,2),0)))","v":1},{"$f":"IF(Edit!$A$42=TRUE,Edit!F30,IF(OR(F30=1,F30=2),CHOOSE(MIN(5,BBlues!F30+BReds!F30),0,0,F30,F30,0),IF(BBlues!F30+BReds!F30=3,IF(BBlues!F30>BReds!F30,1,2),0)))","v":0},{"$f":"IF(Edit!$A$42=TRUE,Edit!G30,IF(OR(G30=1,G30=2),CHOOSE(MIN(5,BBlues!G30+BReds!G30),0,0,G30,G30,0),IF(BBlues!G30+BReds!G30=3,IF(BBlues!G30>BReds!G30,1,2),0)))","v":1},{"$f":"IF(Edit!$A$42=TRUE,Edit!H30,IF(OR(H30=1,H30=2),CHOOSE(MIN(5,BBlues!H30+BReds!H30),0,0,H30,H30,0),IF(BBlues!H30+BReds!H30=3,IF(BBlues!H30>BReds!H30,1,2),0)))","v":1},{"$f":"IF(Edit!$A$42=TRUE,Edit!I30,IF(OR(I30=1,I30=2),CHOOSE(MIN(5,BBlues!I30+BReds!I30),0,0,I30,I30,0),IF(BBlues!I30+BReds!I30=3,IF(BBlues!I30>BReds!I30,1,2),0)))","v":1},{"$f":"IF(Edit!$A$42=TRUE,Edit!J30,IF(OR(J30=1,J30=2),CHOOSE(MIN(5,BBlues!J30+BReds!J30),0,0,J30,J30,0),IF(BBlues!J30+BReds!J30=3,IF(BBlues!J30>BReds!J30,1,2),0)))","v":1},{"$f":"IF(Edit!$A$42=TRUE,Edit!K30,IF(OR(K30=1,K30=2),CHOOSE(MIN(5,BBlues!K30+BReds!K30),0,0,K30,K30,0),IF(BBlues!K30+BReds!K30=3,IF(BBlues!K30>BReds!K30,1,2),0)))","v":0},{"$f":"IF(Edit!$A$42=TRUE,Edit!L30,IF(OR(L30=1,L30=2),CHOOSE(MIN(5,BBlues!L30+BReds!L30),0,0,L30,L30,0),IF(BBlues!L30+BReds!L30=3,IF(BBlues!L30>BReds!L30,1,2),0)))","v":0},{"$f":"IF(Edit!$A$42=TRUE,Edit!M30,IF(OR(M30=1,M30=2),CHOOSE(MIN(5,BBlues!M30+BReds!M30),0,0,M30,M30,0),IF(BBlues!M30+BReds!M30=3,IF(BBlues!M30>BReds!M30,1,2),0)))","v":0},{"$f":"IF(Edit!$A$42=TRUE,Edit!N30,IF(OR(N30=1,N30=2),CHOOSE(MIN(5,BBlues!N30+BReds!N30),0,0,N30,N30,0),IF(BBlues!N30+BReds!N30=3,IF(BBlues!N30>BReds!N30,1,2),0)))","v":0},{"$f":"IF(Edit!$A$42=TRUE,Edit!O30,IF(OR(O30=1,O30=2),CHOOSE(MIN(5,BBlues!O30+BReds!O30),0,0,O30,O30,0),IF(BBlues!O30+BReds!O30=3,IF(BBlues!O30>BReds!O30,1,2),0)))","v":1},{"$f":"IF(Edit!$A$42=TRUE,Edit!P30,IF(OR(P30=1,P30=2),CHOOSE(MIN(5,BBlues!P30+BReds!P30),0,0,P30,P30,0),IF(BBlues!P30+BReds!P30=3,IF(BBlues!P30>BReds!P30,1,2),0)))","v":0},{"$f":"IF(Edit!$A$42=TRUE,Edit!Q30,IF(OR(Q30=1,Q30=2),CHOOSE(MIN(5,BBlues!Q30+BReds!Q30),0,0,Q30,Q30,0),IF(BBlues!Q30+BReds!Q30=3,IF(BBlues!Q30>BReds!Q30,1,2),0)))","v":0},{"$f":"IF(Edit!$A$42=TRUE,Edit!R30,IF(OR(R30=1,R30=2),CHOOSE(MIN(5,BBlues!R30+BReds!R30),0,0,R30,R30,0),IF(BBlues!R30+BReds!R30=3,IF(BBlues!R30>BReds!R30,1,2),0)))","v":0},{"$f":"IF(Edit!$A$42=TRUE,Edit!S30,IF(OR(S30=1,S30=2),CHOOSE(MIN(5,BBlues!S30+BReds!S30),0,0,S30,S30,0),IF(BBlues!S30+BReds!S30=3,IF(BBlues!S30>BReds!S30,1,2),0)))","v":1},{"$f":"IF(Edit!$A$42=TRUE,Edit!T30,IF(OR(T30=1,T30=2),CHOOSE(MIN(5,BBlues!T30+BReds!T30),0,0,T30,T30,0),IF(BBlues!T30+BReds!T30=3,IF(BBlues!T30>BReds!T30,1,2),0)))","v":0},{"$f":"IF(Edit!$A$42=TRUE,Edit!U30,IF(OR(U30=1,U30=2),CHOOSE(MIN(5,BBlues!U30+BReds!U30),0,0,U30,U30,0),IF(BBlues!U30+BReds!U30=3,IF(BBlues!U30>BReds!U30,1,2),0)))","v":0},{"$f":"IF(Edit!$A$42=TRUE,Edit!V30,IF(OR(V30=1,V30=2),CHOOSE(MIN(5,BBlues!V30+BReds!V30),0,0,V30,V30,0),IF(BBlues!V30+BReds!V30=3,IF(BBlues!V30>BReds!V30,1,2),0)))","v":0},{"$f":"IF(Edit!$A$42=TRUE,Edit!W30,IF(OR(W30=1,W30=2),CHOOSE(MIN(5,BBlues!W30+BReds!W30),0,0,W30,W30,0),IF(BBlues!W30+BReds!W30=3,IF(BBlues!W30>BReds!W30,1,2),0)))","v":0},{"$f":"IF(Edit!$A$42=TRUE,Edit!X30,IF(OR(X30=1,X30=2),CHOOSE(MIN(5,BBlues!X30+BReds!X30),0,0,X30,X30,0),IF(BBlues!X30+BReds!X30=3,IF(BBlues!X30>BReds!X30,1,2),0)))","v":0},{"$f":"IF(Edit!$A$42=TRUE,Edit!Y30,IF(OR(Y30=1,Y30=2),CHOOSE(MIN(5,BBlues!Y30+BReds!Y30),0,0,Y30,Y30,0),IF(BBlues!Y30+BReds!Y30=3,IF(BBlues!Y30>BReds!Y30,1,2),0)))","v":0},{"$f":"IF(Edit!$A$42=TRUE,Edit!Z30,IF(OR(Z30=1,Z30=2),CHOOSE(MIN(5,BBlues!Z30+BReds!Z30),0,0,Z30,Z30,0),IF(BBlues!Z30+BReds!Z30=3,IF(BBlues!Z30>BReds!Z30,1,2),0)))","v":0},{"$f":"IF(Edit!$A$42=TRUE,Edit!AA30,IF(OR(AA30=1,AA30=2),CHOOSE(MIN(5,BBlues!AA30+BReds!AA30),0,0,AA30,AA30,0),IF(BBlues!AA30+BReds!AA30=3,IF(BBlues!AA30>BReds!AA30,1,2),0)))","v":0},{"$f":"IF(Edit!$A$42=TRUE,Edit!AB30,IF(OR(AB30=1,AB30=2),CHOOSE(MIN(5,BBlues!AB30+BReds!AB30),0,0,AB30,AB30,0),IF(BBlues!AB30+BReds!AB30=3,IF(BBlues!AB30>BReds!AB30,1,2),0)))","v":0},{"$f":"IF(Edit!$A$42=TRUE,Edit!AC30,IF(OR(AC30=1,AC30=2),CHOOSE(MIN(5,BBlues!AC30+BReds!AC30),0,0,AC30,AC30,0),IF(BBlues!AC30+BReds!AC30=3,IF(BBlues!AC30>BReds!AC30,1,2),0)))","v":0},{"$f":"IF(Edit!$A$42=TRUE,Edit!AD30,IF(OR(AD30=1,AD30=2),CHOOSE(MIN(5,BBlues!AD30+BReds!AD30),0,0,AD30,AD30,0),IF(BBlues!AD30+BReds!AD30=3,IF(BBlues!AD30>BReds!AD30,1,2),0)))","v":0},{"$f":"IF(Edit!$A$42=TRUE,Edit!AE30,IF(OR(AE30=1,AE30=2),CHOOSE(MIN(5,BBlues!AE30+BReds!AE30),0,0,AE30,AE30,0),IF(BBlues!AE30+BReds!AE30=3,IF(BBlues!AE30>BReds!AE30,1,2),0)))","v":0},{"$f":"IF(Edit!$A$42=TRUE,Edit!AF30,IF(OR(AF30=1,AF30=2),CHOOSE(MIN(5,BBlues!AF30+BReds!AF30),0,0,AF30,AF30,0),IF(BBlues!AF30+BReds!AF30=3,IF(BBlues!AF30>BReds!AF30,1,2),0)))","v":1},{"$f":"IF(Edit!$A$42=TRUE,Edit!AG30,IF(OR(AG30=1,AG30=2),CHOOSE(MIN(5,BBlues!AG30+BReds!AG30),0,0,AG30,AG30,0),IF(BBlues!AG30+BReds!AG30=3,IF(BBlues!AG30>BReds!AG30,1,2),0)))","v":0},{"$f":"IF(Edit!$A$42=TRUE,Edit!AH30,IF(OR(AH30=1,AH30=2),CHOOSE(MIN(5,BBlues!AH30+BReds!AH30),0,0,AH30,AH30,0),IF(BBlues!AH30+BReds!AH30=3,IF(BBlues!AH30>BReds!AH30,1,2),0)))","v":0},{"$f":"IF(Edit!$A$42=TRUE,Edit!AI30,IF(OR(AI30=1,AI30=2),CHOOSE(MIN(5,BBlues!AI30+BReds!AI30),0,0,AI30,AI30,0),IF(BBlues!AI30+BReds!AI30=3,IF(BBlues!AI30>BReds!AI30,1,2),0)))","v":0},{"$f":"IF(Edit!$A$42=TRUE,Edit!AJ30,IF(OR(AJ30=1,AJ30=2),CHOOSE(MIN(5,BBlues!AJ30+BReds!AJ30),0,0,AJ30,AJ30,0),IF(BBlues!AJ30+BReds!AJ30=3,IF(BBlues!AJ30>BReds!AJ30,1,2),0)))","v":0},{"$f":"IF(Edit!$A$42=TRUE,Edit!AK30,IF(OR(AK30=1,AK30=2),CHOOSE(MIN(5,BBlues!AK30+BReds!AK30),0,0,AK30,AK30,0),IF(BBlues!AK30+BReds!AK30=3,IF(BBlues!AK30>BReds!AK30,1,2),0)))","v":1},{"$f":"IF(Edit!$A$42=TRUE,Edit!AL30,IF(OR(AL30=1,AL30=2),CHOOSE(MIN(5,BBlues!AL30+BReds!AL30),0,0,AL30,AL30,0),IF(BBlues!AL30+BReds!AL30=3,IF(BBlues!AL30>BReds!AL30,1,2),0)))","v":0}]
[null,{"$f":"IF(Edit!$A$42=TRUE,Edit!B31,IF(OR(B31=1,B31=2),CHOOSE(MIN(5,BBlues!B31+BReds!B31),0,0,B31,B31,0),IF(BBlues!B31+BReds!B31=3,IF(BBlues!B31>BReds!B31,1,2),0)))","v":1},{"$f":"IF(Edit!$A$42=TRUE,Edit!C31,IF(OR(C31=1,C31=2),CHOOSE(MIN(5,BBlues!C31+BReds!C31),0,0,C31,C31,0),IF(BBlues!C31+BReds!C31=3,IF(BBlues!C31>BReds!C31,1,2),0)))","v":0},{"$f":"IF(Edit!$A$42=TRUE,Edit!D31,IF(OR(D31=1,D31=2),CHOOSE(MIN(5,BBlues!D31+BReds!D31),0,0,D31,D31,0),IF(BBlues!D31+BReds!D31=3,IF(BBlues!D31>BReds!D31,1,2),0)))","v":0},{"$f":"IF(Edit!$A$42=TRUE,Edit!E31,IF(OR(E31=1,E31=2),CHOOSE(MIN(5,BBlues!E31+BReds!E31),0,0,E31,E31,0),IF(BBlues!E31+BReds!E31=3,IF(BBlues!E31>BReds!E31,1,2),0)))","v":0},{"$f":"IF(Edit!$A$42=TRUE,Edit!F31,IF(OR(F31=1,F31=2),CHOOSE(MIN(5,BBlues!F31+BReds!F31),0,0,F31,F31,0),IF(BBlues!F31+BReds!F31=3,IF(BBlues!F31>BReds!F31,1,2),0)))","v":0},{"$f":"IF(Edit!$A$42=TRUE,Edit!G31,IF(OR(G31=1,G31=2),CHOOSE(MIN(5,BBlues!G31+BReds!G31),0,0,G31,G31,0),IF(BBlues!G31+BReds!G31=3,IF(BBlues!G31>BReds!G31,1,2),0)))","v":1},{"$f":"IF(Edit!$A$42=TRUE,Edit!H31,IF(OR(H31=1,H31=2),CHOOSE(MIN(5,BBlues!H31+BReds!H31),0,0,H31,H31,0),IF(BBlues!H31+BReds!H31=3,IF(BBlues!H31>BReds!H31,1,2),0)))","v":0},{"$f":"IF(Edit!$A$42=TRUE,Edit!I31,IF(OR(I31=1,I31=2),CHOOSE(MIN(5,BBlues!I31+BReds!I31),0,0,I31,I31,0),IF(BBlues!I31+BReds!I31=3,IF(BBlues!I31>BReds!I31,1,2),0)))","v":1},{"$f":"IF(Edit!$A$42=TRUE,Edit!J31,IF(OR(J31=1,J31=2),CHOOSE(MIN(5,BBlues!J31+BReds!J31),0,0,J31,J31,0),IF(BBlues!J31+BReds!J31=3,IF(BBlues!J31>BReds!J31,1,2),0)))","v":0},{"$f":"IF(Edit!$A$42=TRUE,Edit!K31,IF(OR(K31=1,K31=2),CHOOSE(MIN(5,BBlues!K31+BReds!K31),0,0,K31,K31,0),IF(BBlues!K31+BReds!K31=3,IF(BBlues!K31>BReds!K31,1,2),0)))","v":0},{"$f":"IF(Edit!$A$42=TRUE,Edit!L31,IF(OR(L31=1,L31=2),CHOOSE(MIN(5,BBlues!L31+BReds!L31),0,0,L31,L31,0),IF(BBlues!L31+BReds!L31=3,IF(BBlues!L31>BReds!L31,1,2),0)))","v":0},{"$f":"IF(Edit!$A$42=TRUE,Edit!M31,IF(OR(M31=1,M31=2),CHOOSE(MIN(5,BBlues!M31+BReds!M31),0,0,M31,M31,0),IF(BBlues!M31+BReds!M31=3,IF(BBlues!M31>BReds!M31,1,2),0)))","v":0},{"$f":"IF(Edit!$A$42=TRUE,Edit!N31,IF(OR(N31=1,N31=2),CHOOSE(MIN(5,BBlues!N31+BReds!N31),0,0,N31,N31,0),IF(BBlues!N31+BReds!N31=3,IF(BBlues!N31>BReds!N31,1,2),0)))","v":0},{"$f":"IF(Edit!$A$42=TRUE,Edit!O31,IF(OR(O31=1,O31=2),CHOOSE(MIN(5,BBlues!O31+BReds!O31),0,0,O31,O31,0),IF(BBlues!O31+BReds!O31=3,IF(BBlues!O31>BReds!O31,1,2),0)))","v":0},{"$f":"IF(Edit!$A$42=TRUE,Edit!P31,IF(OR(P31=1,P31=2),CHOOSE(MIN(5,BBlues!P31+BReds!P31),0,0,P31,P31,0),IF(BBlues!P31+BReds!P31=3,IF(BBlues!P31>BReds!P31,1,2),0)))","v":0},{"$f":"IF(Edit!$A$42=TRUE,Edit!Q31,IF(OR(Q31=1,Q31=2),CHOOSE(MIN(5,BBlues!Q31+BReds!Q31),0,0,Q31,Q31,0),IF(BBlues!Q31+BReds!Q31=3,IF(BBlues!Q31>BReds!Q31,1,2),0)))","v":0},{"$f":"IF(Edit!$A$42=TRUE,Edit!R31,IF(OR(R31=1,R31=2),CHOOSE(MIN(5,BBlues!R31+BReds!R31),0,0,R31,R31,0),IF(BBlues!R31+BReds!R31=3,IF(BBlues!R31>BReds!R31,1,2),0)))","v":0},{"$f":"IF(Edit!$A$42=TRUE,Edit!S31,IF(OR(S31=1,S31=2),CHOOSE(MIN(5,BBlues!S31+BReds!S31),0,0,S31,S31,0),IF(BBlues!S31+BReds!S31=3,IF(BBlues!S31>BReds!S31,1,2),0)))","v":1},{"$f":"IF(Edit!$A$42=TRUE,Edit!T31,IF(OR(T31=1,T31=2),CHOOSE(MIN(5,BBlues!T31+BReds!T31),0,0,T31,T31,0),IF(BBlues!T31+BReds!T31=3,IF(BBlues!T31>BReds!T31,1,2),0)))","v":0},{"$f":"IF(Edit!$A$42=TRUE,Edit!U31,IF(OR(U31=1,U31=2),CHOOSE(MIN(5,BBlues!U31+BReds!U31),0,0,U31,U31,0),IF(BBlues!U31+BReds!U31=3,IF(BBlues!U31>BReds!U31,1,2),0)))","v":0},{"$f":"IF(Edit!$A$42=TRUE,Edit!V31,IF(OR(V31=1,V31=2),CHOOSE(MIN(5,BBlues!V31+BReds!V31),0,0,V31,V31,0),IF(BBlues!V31+BReds!V31=3,IF(BBlues!V31>BReds!V31,1,2),0)))","v":0},{"$f":"IF(Edit!$A$42=TRUE,Edit!W31,IF(OR(W31=1,W31=2),CHOOSE(MIN(5,BBlues!W31+BReds!W31),0,0,W31,W31,0),IF(BBlues!W31+BReds!W31=3,IF(BBlues!W31>BReds!W31,1,2),0)))","v":0},{"$f":"IF(Edit!$A$42=TRUE,Edit!X31,IF(OR(X31=1,X31=2),CHOOSE(MIN(5,BBlues!X31+BReds!X31),0,0,X31,X31,0),IF(BBlues!X31+BReds!X31=3,IF(BBlues!X31>BReds!X31,1,2),0)))","v":0},{"$f":"IF(Edit!$A$42=TRUE,Edit!Y31,IF(OR(Y31=1,Y31=2),CHOOSE(MIN(5,BBlues!Y31+BReds!Y31),0,0,Y31,Y31,0),IF(BBlues!Y31+BReds!Y31=3,IF(BBlues!Y31>BReds!Y31,1,2),0)))","v":0},{"$f":"IF(Edit!$A$42=TRUE,Edit!Z31,IF(OR(Z31=1,Z31=2),CHOOSE(MIN(5,BBlues!Z31+BReds!Z31),0,0,Z31,Z31,0),IF(BBlues!Z31+BReds!Z31=3,IF(BBlues!Z31>BReds!Z31,1,2),0)))","v":0},{"$f":"IF(Edit!$A$42=TRUE,Edit!AA31,IF(OR(AA31=1,AA31=2),CHOOSE(MIN(5,BBlues!AA31+BReds!AA31),0,0,AA31,AA31,0),IF(BBlues!AA31+BReds!AA31=3,IF(BBlues!AA31>BReds!AA31,1,2),0)))","v":0},{"$f":"IF(Edit!$A$42=TRUE,Edit!AB31,IF(OR(AB31=1,AB31=2),CHOOSE(MIN(5,BBlues!AB31+BReds!AB31),0,0,AB31,AB31,0),IF(BBlues!AB31+BReds!AB31=3,IF(BBlues!AB31>BReds!AB31,1,2),0)))","v":1},{"$f":"IF(Edit!$A$42=TRUE,Edit!AC31,IF(OR(AC31=1,AC31=2),CHOOSE(MIN(5,BBlues!AC31+BReds!AC31),0,0,AC31,AC31,0),IF(BBlues!AC31+BReds!AC31=3,IF(BBlues!AC31>BReds!AC31,1,2),0)))","v":1},{"$f":"IF(Edit!$A$42=TRUE,Edit!AD31,IF(OR(AD31=1,AD31=2),CHOOSE(MIN(5,BBlues!AD31+BReds!AD31),0,0,AD31,AD31,0),IF(BBlues!AD31+BReds!AD31=3,IF(BBlues!AD31>BReds!AD31,1,2),0)))","v":1},{"$f":"IF(Edit!$A$42=TRUE,Edit!AE31,IF(OR(AE31=1,AE31=2),CHOOSE(MIN(5,BBlues!AE31+BReds!AE31),0,0,AE31,AE31,0),IF(BBlues!AE31+BReds!AE31=3,IF(BBlues!AE31>BReds!AE31,1,2),0)))","v":0},{"$f":"IF(Edit!$A$42=TRUE,Edit!AF31,IF(OR(AF31=1,AF31=2),CHOOSE(MIN(5,BBlues!AF31+BReds!AF31),0,0,AF31,AF31,0),IF(BBlues!AF31+BReds!AF31=3,IF(BBlues!AF31>BReds!AF31,1,2),0)))","v":0},{"$f":"IF(Edit!$A$42=TRUE,Edit!AG31,IF(OR(AG31=1,AG31=2),CHOOSE(MIN(5,BBlues!AG31+BReds!AG31),0,0,AG31,AG31,0),IF(BBlues!AG31+BReds!AG31=3,IF(BBlues!AG31>BReds!AG31,1,2),0)))","v":1},{"$f":"IF(Edit!$A$42=TRUE,Edit!AH31,IF(OR(AH31=1,AH31=2),CHOOSE(MIN(5,BBlues!AH31+BReds!AH31),0,0,AH31,AH31,0),IF(BBlues!AH31+BReds!AH31=3,IF(BBlues!AH31>BReds!AH31,1,2),0)))","v":1},{"$f":"IF(Edit!$A$42=TRUE,Edit!AI31,IF(OR(AI31=1,AI31=2),CHOOSE(MIN(5,BBlues!AI31+BReds!AI31),0,0,AI31,AI31,0),IF(BBlues!AI31+BReds!AI31=3,IF(BBlues!AI31>BReds!AI31,1,2),0)))","v":0},{"$f":"IF(Edit!$A$42=TRUE,Edit!AJ31,IF(OR(AJ31=1,AJ31=2),CHOOSE(MIN(5,BBlues!AJ31+BReds!AJ31),0,0,AJ31,AJ31,0),IF(BBlues!AJ31+BReds!AJ31=3,IF(BBlues!AJ31>BReds!AJ31,1,2),0)))","v":1},{"$f":"IF(Edit!$A$42=TRUE,Edit!AK31,IF(OR(AK31=1,AK31=2),CHOOSE(MIN(5,BBlues!AK31+BReds!AK31),0,0,AK31,AK31,0),IF(BBlues!AK31+BReds!AK31=3,IF(BBlues!AK31>BReds!AK31,1,2),0)))","v":1},{"$f":"IF(Edit!$A$42=TRUE,Edit!AL31,IF(OR(AL31=1,AL31=2),CHOOSE(MIN(5,BBlues!AL31+BReds!AL31),0,0,AL31,AL31,0),IF(BBlues!AL31+BReds!AL31=3,IF(BBlues!AL31>BReds!AL31,1,2),0)))","v":0}]
[null,{"$f":"IF(Edit!$A$42=TRUE,Edit!B32,IF(OR(B32=1,B32=2),CHOOSE(MIN(5,BBlues!B32+BReds!B32),0,0,B32,B32,0),IF(BBlues!B32+BReds!B32=3,IF(BBlues!B32>BReds!B32,1,2),0)))","v":0},{"$f":"IF(Edit!$A$42=TRUE,Edit!C32,IF(OR(C32=1,C32=2),CHOOSE(MIN(5,BBlues!C32+BReds!C32),0,0,C32,C32,0),IF(BBlues!C32+BReds!C32=3,IF(BBlues!C32>BReds!C32,1,2),0)))","v":0},{"$f":"IF(Edit!$A$42=TRUE,Edit!D32,IF(OR(D32=1,D32=2),CHOOSE(MIN(5,BBlues!D32+BReds!D32),0,0,D32,D32,0),IF(BBlues!D32+BReds!D32=3,IF(BBlues!D32>BReds!D32,1,2),0)))","v":0},{"$f":"IF(Edit!$A$42=TRUE,Edit!E32,IF(OR(E32=1,E32=2),CHOOSE(MIN(5,BBlues!E32+BReds!E32),0,0,E32,E32,0),IF(BBlues!E32+BReds!E32=3,IF(BBlues!E32>BReds!E32,1,2),0)))","v":0},{"$f":"IF(Edit!$A$42=TRUE,Edit!F32,IF(OR(F32=1,F32=2),CHOOSE(MIN(5,BBlues!F32+BReds!F32),0,0,F32,F32,0),IF(BBlues!F32+BReds!F32=3,IF(BBlues!F32>BReds!F32,1,2),0)))","v":0},{"$f":"IF(Edit!$A$42=TRUE,Edit!G32,IF(OR(G32=1,G32=2),CHOOSE(MIN(5,BBlues!G32+BReds!G32),0,0,G32,G32,0),IF(BBlues!G32+BReds!G32=3,IF(BBlues!G32>BReds!G32,1,2),0)))","v":1},{"$f":"IF(Edit!$A$42=TRUE,Edit!H32,IF(OR(H32=1,H32=2),CHOOSE(MIN(5,BBlues!H32+BReds!H32),0,0,H32,H32,0),IF(BBlues!H32+BReds!H32=3,IF(BBlues!H32>BReds!H32,1,2),0)))","v":0},{"$f":"IF(Edit!$A$42=TRUE,Edit!I32,IF(OR(I32=1,I32=2),CHOOSE(MIN(5,BBlues!I32+BReds!I32),0,0,I32,I32,0),IF(BBlues!I32+BReds!I32=3,IF(BBlues!I32>BReds!I32,1,2),0)))","v":0},{"$f":"IF(Edit!$A$42=TRUE,Edit!J32,IF(OR(J32=1,J32=2),CHOOSE(MIN(5,BBlues!J32+BReds!J32),0,0,J32,J32,0),IF(BBlues!J32+BReds!J32=3,IF(BBlues!J32>BReds!J32,1,2),0)))","v":0},{"$f":"IF(Edit!$A$42=TRUE,Edit!K32,IF(OR(K32=1,K32=2),CHOOSE(MIN(5,BBlues!K32+BReds!K32),0,0,K32,K32,0),IF(BBlues!K32+BReds!K32=3,IF(BBlues!K32>BReds!K32,1,2),0)))","v":0},{"$f":"IF(Edit!$A$42=TRUE,Edit!L32,IF(OR(L32=1,L32=2),CHOOSE(MIN(5,BBlues!L32+BReds!L32),0,0,L32,L32,0),IF(BBlues!L32+BReds!L32=3,IF(BBlues!L32>BReds!L32,1,2),0)))","v":0},{"$f":"IF(Edit!$A$42=TRUE,Edit!M32,IF(OR(M32=1,M32=2),CHOOSE(MIN(5,BBlues!M32+BReds!M32),0,0,M32,M32,0),IF(BBlues!M32+BReds!M32=3,IF(BBlues!M32>BReds!M32,1,2),0)))","v":0},{"$f":"IF(Edit!$A$42=TRUE,Edit!N32,IF(OR(N32=1,N32=2),CHOOSE(MIN(5,BBlues!N32+BReds!N32),0,0,N32,N32,0),IF(BBlues!N32+BReds!N32=3,IF(BBlues!N32>BReds!N32,1,2),0)))","v":0},{"$f":"IF(Edit!$A$42=TRUE,Edit!O32,IF(OR(O32=1,O32=2),CHOOSE(MIN(5,BBlues!O32+BReds!O32),0,0,O32,O32,0),IF(BBlues!O32+BReds!O32=3,IF(BBlues!O32>BReds!O32,1,2),0)))","v":0},{"$f":"IF(Edit!$A$42=TRUE,Edit!P32,IF(OR(P32=1,P32=2),CHOOSE(MIN(5,BBlues!P32+BReds!P32),0,0,P32,P32,0),IF(BBlues!P32+BReds!P32=3,IF(BBlues!P32>BReds!P32,1,2),0)))","v":0},{"$f":"IF(Edit!$A$42=TRUE,Edit!Q32,IF(OR(Q32=1,Q32=2),CHOOSE(MIN(5,BBlues!Q32+BReds!Q32),0,0,Q32,Q32,0),IF(BBlues!Q32+BReds!Q32=3,IF(BBlues!Q32>BReds!Q32,1,2),0)))","v":1},{"$f":"IF(Edit!$A$42=TRUE,Edit!R32,IF(OR(R32=1,R32=2),CHOOSE(MIN(5,BBlues!R32+BReds!R32),0,0,R32,R32,0),IF(BBlues!R32+BReds!R32=3,IF(BBlues!R32>BReds!R32,1,2),0)))","v":1},{"$f":"IF(Edit!$A$42=TRUE,Edit!S32,IF(OR(S32=1,S32=2),CHOOSE(MIN(5,BBlues!S32+BReds!S32),0,0,S32,S32,0),IF(BBlues!S32+BReds!S32=3,IF(BBlues!S32>BReds!S32,1,2),0)))","v":1},{"$f":"IF(Edit!$A$42=TRUE,Edit!T32,IF(OR(T32=1,T32=2),CHOOSE(MIN(5,BBlues!T32+BReds!T32),0,0,T32,T32,0),IF(BBlues!T32+BReds!T32=3,IF(BBlues!T32>BReds!T32,1,2),0)))","v":0},{"$f":"IF(Edit!$A$42=TRUE,Edit!U32,IF(OR(U32=1,U32=2),CHOOSE(MIN(5,BBlues!U32+BReds!U32),0,0,U32,U32,0),IF(BBlues!U32+BReds!U32=3,IF(BBlues!U32>BReds!U32,1,2),0)))","v":0},{"$f":"IF(Edit!$A$42=TRUE,Edit!V32,IF(OR(V32=1,V32=2),CHOOSE(MIN(5,BBlues!V32+BReds!V32),0,0,V32,V32,0),IF(BBlues!V32+BReds!V32=3,IF(BBlues!V32>BReds!V32,1,2),0)))","v":0},{"$f":"IF(Edit!$A$42=TRUE,Edit!W32,IF(OR(W32=1,W32=2),CHOOSE(MIN(5,BBlues!W32+BReds!W32),0,0,W32,W32,0),IF(BBlues!W32+BReds!W32=3,IF(BBlues!W32>BReds!W32,1,2),0)))","v":0},{"$f":"IF(Edit!$A$42=TRUE,Edit!X32,IF(OR(X32=1,X32=2),CHOOSE(MIN(5,BBlues!X32+BReds!X32),0,0,X32,X32,0),IF(BBlues!X32+BReds!X32=3,IF(BBlues!X32>BReds!X32,1,2),0)))","v":0},{"$f":"IF(Edit!$A$42=TRUE,Edit!Y32,IF(OR(Y32=1,Y32=2),CHOOSE(MIN(5,BBlues!Y32+BReds!Y32),0,0,Y32,Y32,0),IF(BBlues!Y32+BReds!Y32=3,IF(BBlues!Y32>BReds!Y32,1,2),0)))","v":0},{"$f":"IF(Edit!$A$42=TRUE,Edit!Z32,IF(OR(Z32=1,Z32=2),CHOOSE(MIN(5,BBlues!Z32+BReds!Z32),0,0,Z32,Z32,0),IF(BBlues!Z32+BReds!Z32=3,IF(BBlues!Z32>BReds!Z32,1,2),0)))","v":0},{"$f":"IF(Edit!$A$42=TRUE,Edit!AA32,IF(OR(AA32=1,AA32=2),CHOOSE(MIN(5,BBlues!AA32+BReds!AA32),0,0,AA32,AA32,0),IF(BBlues!AA32+BReds!AA32=3,IF(BBlues!AA32>BReds!AA32,1,2),0)))","v":1},{"$f":"IF(Edit!$A$42=TRUE,Edit!AB32,IF(OR(AB32=1,AB32=2),CHOOSE(MIN(5,BBlues!AB32+BReds!AB32),0,0,AB32,AB32,0),IF(BBlues!AB32+BReds!AB32=3,IF(BBlues!AB32>BReds!AB32,1,2),0)))","v":0},{"$f":"IF(Edit!$A$42=TRUE,Edit!AC32,IF(OR(AC32=1,AC32=2),CHOOSE(MIN(5,BBlues!AC32+BReds!AC32),0,0,AC32,AC32,0),IF(BBlues!AC32+BReds!AC32=3,IF(BBlues!AC32>BReds!AC32,1,2),0)))","v":0},{"$f":"IF(Edit!$A$42=TRUE,Edit!AD32,IF(OR(AD32=1,AD32=2),CHOOSE(MIN(5,BBlues!AD32+BReds!AD32),0,0,AD32,AD32,0),IF(BBlues!AD32+BReds!AD32=3,IF(BBlues!AD32>BReds!AD32,1,2),0)))","v":0},{"$f":"IF(Edit!$A$42=TRUE,Edit!AE32,IF(OR(AE32=1,AE32=2),CHOOSE(MIN(5,BBlues!AE32+BReds!AE32),0,0,AE32,AE32,0),IF(BBlues!AE32+BReds!AE32=3,IF(BBlues!AE32>BReds!AE32,1,2),0)))","v":1},{"$f":"IF(Edit!$A$42=TRUE,Edit!AF32,IF(OR(AF32=1,AF32=2),CHOOSE(MIN(5,BBlues!AF32+BReds!AF32),0,0,AF32,AF32,0),IF(BBlues!AF32+BReds!AF32=3,IF(BBlues!AF32>BReds!AF32,1,2),0)))","v":0},{"$f":"IF(Edit!$A$42=TRUE,Edit!AG32,IF(OR(AG32=1,AG32=2),CHOOSE(MIN(5,BBlues!AG32+BReds!AG32),0,0,AG32,AG32,0),IF(BBlues!AG32+BReds!AG32=3,IF(BBlues!AG32>BReds!AG32,1,2),0)))","v":0},{"$f":"IF(Edit!$A$42=TRUE,Edit!AH32,IF(OR(AH32=1,AH32=2),CHOOSE(MIN(5,BBlues!AH32+BReds!AH32),0,0,AH32,AH32,0),IF(BBlues!AH32+BReds!AH32=3,IF(BBlues!AH32>BReds!AH32,1,2),0)))","v":0},{"$f":"IF(Edit!$A$42=TRUE,Edit!AI32,IF(OR(AI32=1,AI32=2),CHOOSE(MIN(5,BBlues!AI32+BReds!AI32),0,0,AI32,AI32,0),IF(BBlues!AI32+BReds!AI32=3,IF(BBlues!AI32>BReds!AI32,1,2),0)))","v":0},{"$f":"IF(Edit!$A$42=TRUE,Edit!AJ32,IF(OR(AJ32=1,AJ32=2),CHOOSE(MIN(5,BBlues!AJ32+BReds!AJ32),0,0,AJ32,AJ32,0),IF(BBlues!AJ32+BReds!AJ32=3,IF(BBlues!AJ32>BReds!AJ32,1,2),0)))","v":0},{"$f":"IF(Edit!$A$42=TRUE,Edit!AK32,IF(OR(AK32=1,AK32=2),CHOOSE(MIN(5,BBlues!AK32+BReds!AK32),0,0,AK32,AK32,0),IF(BBlues!AK32+BReds!AK32=3,IF(BBlues!AK32>BReds!AK32,1,2),0)))","v":0},{"$f":"IF(Edit!$A$42=TRUE,Edit!AL32,IF(OR(AL32=1,AL32=2),CHOOSE(MIN(5,BBlues!AL32+BReds!AL32),0,0,AL32,AL32,0),IF(BBlues!AL32+BReds!AL32=3,IF(BBlues!AL32>BReds!AL32,1,2),0)))","v":0}]
[null,{"$f":"IF(Edit!$A$42=TRUE,Edit!B33,IF(OR(B33=1,B33=2),CHOOSE(MIN(5,BBlues!B33+BReds!B33),0,0,B33,B33,0),IF(BBlues!B33+BReds!B33=3,IF(BBlues!B33>BReds!B33,1,2),0)))","v":0},{"$f":"IF(Edit!$A$42=TRUE,Edit!C33,IF(OR(C33=1,C33=2),CHOOSE(MIN(5,BBlues!C33+BReds!C33),0,0,C33,C33,0),IF(BBlues!C33+BReds!C33=3,IF(BBlues!C33>BReds!C33,1,2),0)))","v":0},{"$f":"IF(Edit!$A$42=TRUE,Edit!D33,IF(OR(D33=1,D33=2),CHOOSE(MIN(5,BBlues!D33+BReds!D33),0,0,D33,D33,0),IF(BBlues!D33+BReds!D33=3,IF(BBlues!D33>BReds!D33,1,2),0)))","v":1},{"$f":"IF(Edit!$A$42=TRUE,Edit!E33,IF(OR(E33=1,E33=2),CHOOSE(MIN(5,BBlues!E33+BReds!E33),0,0,E33,E33,0),IF(BBlues!E33+BReds!E33=3,IF(BBlues!E33>BReds!E33,1,2),0)))","v":0},{"$f":"IF(Edit!$A$42=TRUE,Edit!F33,IF(OR(F33=1,F33=2),CHOOSE(MIN(5,BBlues!F33+BReds!F33),0,0,F33,F33,0),IF(BBlues!F33+BReds!F33=3,IF(BBlues!F33>BReds!F33,1,2),0)))","v":1},{"$f":"IF(Edit!$A$42=TRUE,Edit!G33,IF(OR(G33=1,G33=2),CHOOSE(MIN(5,BBlues!G33+BReds!G33),0,0,G33,G33,0),IF(BBlues!G33+BReds!G33=3,IF(BBlues!G33>BReds!G33,1,2),0)))","v":0},{"$f":"IF(Edit!$A$42=TRUE,Edit!H33,IF(OR(H33=1,H33=2),CHOOSE(MIN(5,BBlues!H33+BReds!H33),0,0,H33,H33,0),IF(BBlues!H33+BReds!H33=3,IF(BBlues!H33>BReds!H33,1,2),0)))","v":0},{"$f":"IF(Edit!$A$42=TRUE,Edit!I33,IF(OR(I33=1,I33=2),CHOOSE(MIN(5,BBlues!I33+BReds!I33),0,0,I33,I33,0),IF(BBlues!I33+BReds!I33=3,IF(BBlues!I33>BReds!I33,1,2),0)))","v":0},{"$f":"IF(Edit!$A$42=TRUE,Edit!J33,IF(OR(J33=1,J33=2),CHOOSE(MIN(5,BBlues!J33+BReds!J33),0,0,J33,J33,0),IF(BBlues!J33+BReds!J33=3,IF(BBlues!J33>BReds!J33,1,2),0)))","v":0},{"$f":"IF(Edit!$A$42=TRUE,Edit!K33,IF(OR(K33=1,K33=2),CHOOSE(MIN(5,BBlues!K33+BReds!K33),0,0,K33,K33,0),IF(BBlues!K33+BReds!K33=3,IF(BBlues!K33>BReds!K33,1,2),0)))","v":0},{"$f":"IF(Edit!$A$42=TRUE,Edit!L33,IF(OR(L33=1,L33=2),CHOOSE(MIN(5,BBlues!L33+BReds!L33),0,0,L33,L33,0),IF(BBlues!L33+BReds!L33=3,IF(BBlues!L33>BReds!L33,1,2),0)))","v":0},{"$f":"IF(Edit!$A$42=TRUE,Edit!M33,IF(OR(M33=1,M33=2),CHOOSE(MIN(5,BBlues!M33+BReds!M33),0,0,M33,M33,0),IF(BBlues!M33+BReds!M33=3,IF(BBlues!M33>BReds!M33,1,2),0)))","v":0},{"$f":"IF(Edit!$A$42=TRUE,Edit!N33,IF(OR(N33=1,N33=2),CHOOSE(MIN(5,BBlues!N33+BReds!N33),0,0,N33,N33,0),IF(BBlues!N33+BReds!N33=3,IF(BBlues!N33>BReds!N33,1,2),0)))","v":0},{"$f":"IF(Edit!$A$42=TRUE,Edit!O33,IF(OR(O33=1,O33=2),CHOOSE(MIN(5,BBlues!O33+BReds!O33),0,0,O33,O33,0),IF(BBlues!O33+BReds!O33=3,IF(BBlues!O33>BReds!O33,1,2),0)))","v":0},{"$f":"IF(Edit!$A$42=TRUE,Edit!P33,IF(OR(P33=1,P33=2),CHOOSE(MIN(5,BBlues!P33+BReds!P33),0,0,P33,P33,0),IF(BBlues!P33+BReds!P33=3,IF(BBlues!P33>BReds!P33,1,2),0)))","v":1},{"$f":"IF(Edit!$A$42=TRUE,Edit!Q33,IF(OR(Q33=1,Q33=2),CHOOSE(MIN(5,BBlues!Q33+BReds!Q33),0,0,Q33,Q33,0),IF(BBlues!Q33+BReds!Q33=3,IF(BBlues!Q33>BReds!Q33,1,2),0)))","v":1},{"$f":"IF(Edit!$A$42=TRUE,Edit!R33,IF(OR(R33=1,R33=2),CHOOSE(MIN(5,BBlues!R33+BReds!R33),0,0,R33,R33,0),IF(BBlues!R33+BReds!R33=3,IF(BBlues!R33>BReds!R33,1,2),0)))","v":0},{"$f":"IF(Edit!$A$42=TRUE,Edit!S33,IF(OR(S33=1,S33=2),CHOOSE(MIN(5,BBlues!S33+BReds!S33),0,0,S33,S33,0),IF(BBlues!S33+BReds!S33=3,IF(BBlues!S33>BReds!S33,1,2),0)))","v":0},{"$f":"IF(Edit!$A$42=TRUE,Edit!T33,IF(OR(T33=1,T33=2),CHOOSE(MIN(5,BBlues!T33+BReds!T33),0,0,T33,T33,0),IF(BBlues!T33+BReds!T33=3,IF(BBlues!T33>BReds!T33,1,2),0)))","v":0},{"$f":"IF(Edit!$A$42=TRUE,Edit!U33,IF(OR(U33=1,U33=2),CHOOSE(MIN(5,BBlues!U33+BReds!U33),0,0,U33,U33,0),IF(BBlues!U33+BReds!U33=3,IF(BBlues!U33>BReds!U33,1,2),0)))","v":0},{"$f":"IF(Edit!$A$42=TRUE,Edit!V33,IF(OR(V33=1,V33=2),CHOOSE(MIN(5,BBlues!V33+BReds!V33),0,0,V33,V33,0),IF(BBlues!V33+BReds!V33=3,IF(BBlues!V33>BReds!V33,1,2),0)))","v":0},{"$f":"IF(Edit!$A$42=TRUE,Edit!W33,IF(OR(W33=1,W33=2),CHOOSE(MIN(5,BBlues!W33+BReds!W33),0,0,W33,W33,0),IF(BBlues!W33+BReds!W33=3,IF(BBlues!W33>BReds!W33,1,2),0)))","v":0},{"$f":"IF(Edit!$A$42=TRUE,Edit!X33,IF(OR(X33=1,X33=2),CHOOSE(MIN(5,BBlues!X33+BReds!X33),0,0,X33,X33,0),IF(BBlues!X33+BReds!X33=3,IF(BBlues!X33>BReds!X33,1,2),0)))","v":0},{"$f":"IF(Edit!$A$42=TRUE,Edit!Y33,IF(OR(Y33=1,Y33=2),CHOOSE(MIN(5,BBlues!Y33+BReds!Y33),0,0,Y33,Y33,0),IF(BBlues!Y33+BReds!Y33=3,IF(BBlues!Y33>BReds!Y33,1,2),0)))","v":0},{"$f":"IF(Edit!$A$42=TRUE,Edit!Z33,IF(OR(Z33=1,Z33=2),CHOOSE(MIN(5,BBlues!Z33+BReds!Z33),0,0,Z33,Z33,0),IF(BBlues!Z33+BReds!Z33=3,IF(BBlues!Z33>BReds!Z33,1,2),0)))","v":0},{"$f":"IF(Edit!$A$42=TRUE,Edit!AA33,IF(OR(AA33=1,AA33=2),CHOOSE(MIN(5,BBlues!AA33+BReds!AA33),0,0,AA33,AA33,0),IF(BBlues!AA33+BReds!AA33=3,IF(BBlues!AA33>BReds!AA33,1,2),0)))","v":1},{"$f":"IF(Edit!$A$42=TRUE,Edit!AB33,IF(OR(AB33=1,AB33=2),CHOOSE(MIN(5,BBlues!AB33+BReds!AB33),0,0,AB33,AB33,0),IF(BBlues!AB33+BReds!AB33=3,IF(BBlues!AB33>BReds!AB33,1,2),0)))","v":0},{"$f":"IF(Edit!$A$42=TRUE,Edit!AC33,IF(OR(AC33=1,AC33=2),CHOOSE(MIN(5,BBlues!AC33+BReds!AC33),0,0,AC33,AC33,0),IF(BBlues!AC33+BReds!AC33=3,IF(BBlues!AC33>BReds!AC33,1,2),0)))","v":0},{"$f":"IF(Edit!$A$42=TRUE,Edit!AD33,IF(OR(AD33=1,AD33=2),CHOOSE(MIN(5,BBlues!AD33+BReds!AD33),0,0,AD33,AD33,0),IF(BBlues!AD33+BReds!AD33=3,IF(BBlues!AD33>BReds!AD33,1,2),0)))","v":0},{"$f":"IF(Edit!$A$42=TRUE,Edit!AE33,IF(OR(AE33=1,AE33=2),CHOOSE(MIN(5,BBlues!AE33+BReds!AE33),0,0,AE33,AE33,0),IF(BBlues!AE33+BReds!AE33=3,IF(BBlues!AE33>BReds!AE33,1,2),0)))","v":1},{"$f":"IF(Edit!$A$42=TRUE,Edit!AF33,IF(OR(AF33=1,AF33=2),CHOOSE(MIN(5,BBlues!AF33+BReds!AF33),0,0,AF33,AF33,0),IF(BBlues!AF33+BReds!AF33=3,IF(BBlues!AF33>BReds!AF33,1,2),0)))","v":0},{"$f":"IF(Edit!$A$42=TRUE,Edit!AG33,IF(OR(AG33=1,AG33=2),CHOOSE(MIN(5,BBlues!AG33+BReds!AG33),0,0,AG33,AG33,0),IF(BBlues!AG33+BReds!AG33=3,IF(BBlues!AG33>BReds!AG33,1,2),0)))","v":0},{"$f":"IF(Edit!$A$42=TRUE,Edit!AH33,IF(OR(AH33=1,AH33=2),CHOOSE(MIN(5,BBlues!AH33+BReds!AH33),0,0,AH33,AH33,0),IF(BBlues!AH33+BReds!AH33=3,IF(BBlues!AH33>BReds!AH33,1,2),0)))","v":0},{"$f":"IF(Edit!$A$42=TRUE,Edit!AI33,IF(OR(AI33=1,AI33=2),CHOOSE(MIN(5,BBlues!AI33+BReds!AI33),0,0,AI33,AI33,0),IF(BBlues!AI33+BReds!AI33=3,IF(BBlues!AI33>BReds!AI33,1,2),0)))","v":0},{"$f":"IF(Edit!$A$42=TRUE,Edit!AJ33,IF(OR(AJ33=1,AJ33=2),CHOOSE(MIN(5,BBlues!AJ33+BReds!AJ33),0,0,AJ33,AJ33,0),IF(BBlues!AJ33+BReds!AJ33=3,IF(BBlues!AJ33>BReds!AJ33,1,2),0)))","v":0},{"$f":"IF(Edit!$A$42=TRUE,Edit!AK33,IF(OR(AK33=1,AK33=2),CHOOSE(MIN(5,BBlues!AK33+BReds!AK33),0,0,AK33,AK33,0),IF(BBlues!AK33+BReds!AK33=3,IF(BBlues!AK33>BReds!AK33,1,2),0)))","v":0},{"$f":"IF(Edit!$A$42=TRUE,Edit!AL33,IF(OR(AL33=1,AL33=2),CHOOSE(MIN(5,BBlues!AL33+BReds!AL33),0,0,AL33,AL33,0),IF(BBlues!AL33+BReds!AL33=3,IF(BBlues!AL33>BReds!AL33,1,2),0)))","v":0}]
[null,{"$f":"IF(Edit!$A$42=TRUE,Edit!B34,IF(OR(B34=1,B34=2),CHOOSE(MIN(5,BBlues!B34+BReds!B34),0,0,B34,B34,0),IF(BBlues!B34+BReds!B34=3,IF(BBlues!B34>BReds!B34,1,2),0)))","v":0},{"$f":"IF(Edit!$A$42=TRUE,Edit!C34,IF(OR(C34=1,C34=2),CHOOSE(MIN(5,BBlues!C34+BReds!C34),0,0,C34,C34,0),IF(BBlues!C34+BReds!C34=3,IF(BBlues!C34>BReds!C34,1,2),0)))","v":0},{"$f":"IF(Edit!$A$42=TRUE,Edit!D34,IF(OR(D34=1,D34=2),CHOOSE(MIN(5,BBlues!D34+BReds!D34),0,0,D34,D34,0),IF(BBlues!D34+BReds!D34=3,IF(BBlues!D34>BReds!D34,1,2),0)))","v":0},{"$f":"IF(Edit!$A$42=TRUE,Edit!E34,IF(OR(E34=1,E34=2),CHOOSE(MIN(5,BBlues!E34+BReds!E34),0,0,E34,E34,0),IF(BBlues!E34+BReds!E34=3,IF(BBlues!E34>BReds!E34,1,2),0)))","v":1},{"$f":"IF(Edit!$A$42=TRUE,Edit!F34,IF(OR(F34=1,F34=2),CHOOSE(MIN(5,BBlues!F34+BReds!F34),0,0,F34,F34,0),IF(BBlues!F34+BReds!F34=3,IF(BBlues!F34>BReds!F34,1,2),0)))","v":0},{"$f":"IF(Edit!$A$42=TRUE,Edit!G34,IF(OR(G34=1,G34=2),CHOOSE(MIN(5,BBlues!G34+BReds!G34),0,0,G34,G34,0),IF(BBlues!G34+BReds!G34=3,IF(BBlues!G34>BReds!G34,1,2),0)))","v":0},{"$f":"IF(Edit!$A$42=TRUE,Edit!H34,IF(OR(H34=1,H34=2),CHOOSE(MIN(5,BBlues!H34+BReds!H34),0,0,H34,H34,0),IF(BBlues!H34+BReds!H34=3,IF(BBlues!H34>BReds!H34,1,2),0)))","v":0},{"$f":"IF(Edit!$A$42=TRUE,Edit!I34,IF(OR(I34=1,I34=2),CHOOSE(MIN(5,BBlues!I34+BReds!I34),0,0,I34,I34,0),IF(BBlues!I34+BReds!I34=3,IF(BBlues!I34>BReds!I34,1,2),0)))","v":0},{"$f":"IF(Edit!$A$42=TRUE,Edit!J34,IF(OR(J34=1,J34=2),CHOOSE(MIN(5,BBlues!J34+BReds!J34),0,0,J34,J34,0),IF(BBlues!J34+BReds!J34=3,IF(BBlues!J34>BReds!J34,1,2),0)))","v":0},{"$f":"IF(Edit!$A$42=TRUE,Edit!K34,IF(OR(K34=1,K34=2),CHOOSE(MIN(5,BBlues!K34+BReds!K34),0,0,K34,K34,0),IF(BBlues!K34+BReds!K34=3,IF(BBlues!K34>BReds!K34,1,2),0)))","v":0},{"$f":"IF(Edit!$A$42=TRUE,Edit!L34,IF(OR(L34=1,L34=2),CHOOSE(MIN(5,BBlues!L34+BReds!L34),0,0,L34,L34,0),IF(BBlues!L34+BReds!L34=3,IF(BBlues!L34>BReds!L34,1,2),0)))","v":0},{"$f":"IF(Edit!$A$42=TRUE,Edit!M34,IF(OR(M34=1,M34=2),CHOOSE(MIN(5,BBlues!M34+BReds!M34),0,0,M34,M34,0),IF(BBlues!M34+BReds!M34=3,IF(BBlues!M34>BReds!M34,1,2),0)))","v":0},{"$f":"IF(Edit!$A$42=TRUE,Edit!N34,IF(OR(N34=1,N34=2),CHOOSE(MIN(5,BBlues!N34+BReds!N34),0,0,N34,N34,0),IF(BBlues!N34+BReds!N34=3,IF(BBlues!N34>BReds!N34,1,2),0)))","v":0},{"$f":"IF(Edit!$A$42=TRUE,Edit!O34,IF(OR(O34=1,O34=2),CHOOSE(MIN(5,BBlues!O34+BReds!O34),0,0,O34,O34,0),IF(BBlues!O34+BReds!O34=3,IF(BBlues!O34>BReds!O34,1,2),0)))","v":1},{"$f":"IF(Edit!$A$42=TRUE,Edit!P34,IF(OR(P34=1,P34=2),CHOOSE(MIN(5,BBlues!P34+BReds!P34),0,0,P34,P34,0),IF(BBlues!P34+BReds!P34=3,IF(BBlues!P34>BReds!P34,1,2),0)))","v":0},{"$f":"IF(Edit!$A$42=TRUE,Edit!Q34,IF(OR(Q34=1,Q34=2),CHOOSE(MIN(5,BBlues!Q34+BReds!Q34),0,0,Q34,Q34,0),IF(BBlues!Q34+BReds!Q34=3,IF(BBlues!Q34>BReds!Q34,1,2),0)))","v":0},{"$f":"IF(Edit!$A$42=TRUE,Edit!R34,IF(OR(R34=1,R34=2),CHOOSE(MIN(5,BBlues!R34+BReds!R34),0,0,R34,R34,0),IF(BBlues!R34+BReds!R34=3,IF(BBlues!R34>BReds!R34,1,2),0)))","v":1},{"$f":"IF(Edit!$A$42=TRUE,Edit!S34,IF(OR(S34=1,S34=2),CHOOSE(MIN(5,BBlues!S34+BReds!S34),0,0,S34,S34,0),IF(BBlues!S34+BReds!S34=3,IF(BBlues!S34>BReds!S34,1,2),0)))","v":0},{"$f":"IF(Edit!$A$42=TRUE,Edit!T34,IF(OR(T34=1,T34=2),CHOOSE(MIN(5,BBlues!T34+BReds!T34),0,0,T34,T34,0),IF(BBlues!T34+BReds!T34=3,IF(BBlues!T34>BReds!T34,1,2),0)))","v":0},{"$f":"IF(Edit!$A$42=TRUE,Edit!U34,IF(OR(U34=1,U34=2),CHOOSE(MIN(5,BBlues!U34+BReds!U34),0,0,U34,U34,0),IF(BBlues!U34+BReds!U34=3,IF(BBlues!U34>BReds!U34,1,2),0)))","v":0},{"$f":"IF(Edit!$A$42=TRUE,Edit!V34,IF(OR(V34=1,V34=2),CHOOSE(MIN(5,BBlues!V34+BReds!V34),0,0,V34,V34,0),IF(BBlues!V34+BReds!V34=3,IF(BBlues!V34>BReds!V34,1,2),0)))","v":0},{"$f":"IF(Edit!$A$42=TRUE,Edit!W34,IF(OR(W34=1,W34=2),CHOOSE(MIN(5,BBlues!W34+BReds!W34),0,0,W34,W34,0),IF(BBlues!W34+BReds!W34=3,IF(BBlues!W34>BReds!W34,1,2),0)))","v":0},{"$f":"IF(Edit!$A$42=TRUE,Edit!X34,IF(OR(X34=1,X34=2),CHOOSE(MIN(5,BBlues!X34+BReds!X34),0,0,X34,X34,0),IF(BBlues!X34+BReds!X34=3,IF(BBlues!X34>BReds!X34,1,2),0)))","v":0},{"$f":"IF(Edit!$A$42=TRUE,Edit!Y34,IF(OR(Y34=1,Y34=2),CHOOSE(MIN(5,BBlues!Y34+BReds!Y34),0,0,Y34,Y34,0),IF(BBlues!Y34+BReds!Y34=3,IF(BBlues!Y34>BReds!Y34,1,2),0)))","v":1},{"$f":"IF(Edit!$A$42=TRUE,Edit!Z34,IF(OR(Z34=1,Z34=2),CHOOSE(MIN(5,BBlues!Z34+BReds!Z34),0,0,Z34,Z34,0),IF(BBlues!Z34+BReds!Z34=3,IF(BBlues!Z34>BReds!Z34,1,2),0)))","v":1},{"$f":"IF(Edit!$A$42=TRUE,Edit!AA34,IF(OR(AA34=1,AA34=2),CHOOSE(MIN(5,BBlues!AA34+BReds!AA34),0,0,AA34,AA34,0),IF(BBlues!AA34+BReds!AA34=3,IF(BBlues!AA34>BReds!AA34,1,2),0)))","v":0},{"$f":"IF(Edit!$A$42=TRUE,Edit!AB34,IF(OR(AB34=1,AB34=2),CHOOSE(MIN(5,BBlues!AB34+BReds!AB34),0,0,AB34,AB34,0),IF(BBlues!AB34+BReds!AB34=3,IF(BBlues!AB34>BReds!AB34,1,2),0)))","v":0},{"$f":"IF(Edit!$A$42=TRUE,Edit!AC34,IF(OR(AC34=1,AC34=2),CHOOSE(MIN(5,BBlues!AC34+BReds!AC34),0,0,AC34,AC34,0),IF(BBlues!AC34+BReds!AC34=3,IF(BBlues!AC34>BReds!AC34,1,2),0)))","v":0},{"$f":"IF(Edit!$A$42=TRUE,Edit!AD34,IF(OR(AD34=1,AD34=2),CHOOSE(MIN(5,BBlues!AD34+BReds!AD34),0,0,AD34,AD34,0),IF(BBlues!AD34+BReds!AD34=3,IF(BBlues!AD34>BReds!AD34,1,2),0)))","v":0},{"$f":"IF(Edit!$A$42=TRUE,Edit!AE34,IF(OR(AE34=1,AE34=2),CHOOSE(MIN(5,BBlues!AE34+BReds!AE34),0,0,AE34,AE34,0),IF(BBlues!AE34+BReds!AE34=3,IF(BBlues!AE34>BReds!AE34,1,2),0)))","v":0},{"$f":"IF(Edit!$A$42=TRUE,Edit!AF34,IF(OR(AF34=1,AF34=2),CHOOSE(MIN(5,BBlues!AF34+BReds!AF34),0,0,AF34,AF34,0),IF(BBlues!AF34+BReds!AF34=3,IF(BBlues!AF34>BReds!AF34,1,2),0)))","v":1},{"$f":"IF(Edit!$A$42=TRUE,Edit!AG34,IF(OR(AG34=1,AG34=2),CHOOSE(MIN(5,BBlues!AG34+BReds!AG34),0,0,AG34,AG34,0),IF(BBlues!AG34+BReds!AG34=3,IF(BBlues!AG34>BReds!AG34,1,2),0)))","v":1},{"$f":"IF(Edit!$A$42=TRUE,Edit!AH34,IF(OR(AH34=1,AH34=2),CHOOSE(MIN(5,BBlues!AH34+BReds!AH34),0,0,AH34,AH34,0),IF(BBlues!AH34+BReds!AH34=3,IF(BBlues!AH34>BReds!AH34,1,2),0)))","v":0},{"$f":"IF(Edit!$A$42=TRUE,Edit!AI34,IF(OR(AI34=1,AI34=2),CHOOSE(MIN(5,BBlues!AI34+BReds!AI34),0,0,AI34,AI34,0),IF(BBlues!AI34+BReds!AI34=3,IF(BBlues!AI34>BReds!AI34,1,2),0)))","v":0},{"$f":"IF(Edit!$A$42=TRUE,Edit!AJ34,IF(OR(AJ34=1,AJ34=2),CHOOSE(MIN(5,BBlues!AJ34+BReds!AJ34),0,0,AJ34,AJ34,0),IF(BBlues!AJ34+BReds!AJ34=3,IF(BBlues!AJ34>BReds!AJ34,1,2),0)))","v":0},{"$f":"IF(Edit!$A$42=TRUE,Edit!AK34,IF(OR(AK34=1,AK34=2),CHOOSE(MIN(5,BBlues!AK34+BReds!AK34),0,0,AK34,AK34,0),IF(BBlues!AK34+BReds!AK34=3,IF(BBlues!AK34>BReds!AK34,1,2),0)))","v":0},{"$f":"IF(Edit!$A$42=TRUE,Edit!AL34,IF(OR(AL34=1,AL34=2),CHOOSE(MIN(5,BBlues!AL34+BReds!AL34),0,0,AL34,AL34,0),IF(BBlues!AL34+BReds!AL34=3,IF(BBlues!AL34>BReds!AL34,1,2),0)))","v":0}]
[null,{"$f":"IF(Edit!$A$42=TRUE,Edit!B35,IF(OR(B35=1,B35=2),CHOOSE(MIN(5,BBlues!B35+BReds!B35),0,0,B35,B35,0),IF(BBlues!B35+BReds!B35=3,IF(BBlues!B35>BReds!B35,1,2),0)))","v":0},{"$f":"IF(Edit!$A$42=TRUE,Edit!C35,IF(OR(C35=1,C35=2),CHOOSE(MIN(5,BBlues!C35+BReds!C35),0,0,C35,C35,0),IF(BBlues!C35+BReds!C35=3,IF(BBlues!C35>BReds!C35,1,2),0)))","v":0},{"$f":"IF(Edit!$A$42=TRUE,Edit!D35,IF(OR(D35=1,D35=2),CHOOSE(MIN(5,BBlues!D35+BReds!D35),0,0,D35,D35,0),IF(BBlues!D35+BReds!D35=3,IF(BBlues!D35>BReds!D35,1,2),0)))","v":0},{"$f":"IF(Edit!$A$42=TRUE,Edit!E35,IF(OR(E35=1,E35=2),CHOOSE(MIN(5,BBlues!E35+BReds!E35),0,0,E35,E35,0),IF(BBlues!E35+BReds!E35=3,IF(BBlues!E35>BReds!E35,1,2),0)))","v":0},{"$f":"IF(Edit!$A$42=TRUE,Edit!F35,IF(OR(F35=1,F35=2),CHOOSE(MIN(5,BBlues!F35+BReds!F35),0,0,F35,F35,0),IF(BBlues!F35+BReds!F35=3,IF(BBlues!F35>BReds!F35,1,2),0)))","v":0},{"$f":"IF(Edit!$A$42=TRUE,Edit!G35,IF(OR(G35=1,G35=2),CHOOSE(MIN(5,BBlues!G35+BReds!G35),0,0,G35,G35,0),IF(BBlues!G35+BReds!G35=3,IF(BBlues!G35>BReds!G35,1,2),0)))","v":0},{"$f":"IF(Edit!$A$42=TRUE,Edit!H35,IF(OR(H35=1,H35=2),CHOOSE(MIN(5,BBlues!H35+BReds!H35),0,0,H35,H35,0),IF(BBlues!H35+BReds!H35=3,IF(BBlues!H35>BReds!H35,1,2),0)))","v":0},{"$f":"IF(Edit!$A$42=TRUE,Edit!I35,IF(OR(I35=1,I35=2),CHOOSE(MIN(5,BBlues!I35+BReds!I35),0,0,I35,I35,0),IF(BBlues!I35+BReds!I35=3,IF(BBlues!I35>BReds!I35,1,2),0)))","v":0},{"$f":"IF(Edit!$A$42=TRUE,Edit!J35,IF(OR(J35=1,J35=2),CHOOSE(MIN(5,BBlues!J35+BReds!J35),0,0,J35,J35,0),IF(BBlues!J35+BReds!J35=3,IF(BBlues!J35>BReds!J35,1,2),0)))","v":0},{"$f":"IF(Edit!$A$42=TRUE,Edit!K35,IF(OR(K35=1,K35=2),CHOOSE(MIN(5,BBlues!K35+BReds!K35),0,0,K35,K35,0),IF(BBlues!K35+BReds!K35=3,IF(BBlues!K35>BReds!K35,1,2),0)))","v":0},{"$f":"IF(Edit!$A$42=TRUE,Edit!L35,IF(OR(L35=1,L35=2),CHOOSE(MIN(5,BBlues!L35+BReds!L35),0,0,L35,L35,0),IF(BBlues!L35+BReds!L35=3,IF(BBlues!L35>BReds!L35,1,2),0)))","v":0},{"$f":"IF(Edit!$A$42=TRUE,Edit!M35,IF(OR(M35=1,M35=2),CHOOSE(MIN(5,BBlues!M35+BReds!M35),0,0,M35,M35,0),IF(BBlues!M35+BReds!M35=3,IF(BBlues!M35>BReds!M35,1,2),0)))","v":0},{"$f":"IF(Edit!$A$42=TRUE,Edit!N35,IF(OR(N35=1,N35=2),CHOOSE(MIN(5,BBlues!N35+BReds!N35),0,0,N35,N35,0),IF(BBlues!N35+BReds!N35=3,IF(BBlues!N35>BReds!N35,1,2),0)))","v":0},{"$f":"IF(Edit!$A$42=TRUE,Edit!O35,IF(OR(O35=1,O35=2),CHOOSE(MIN(5,BBlues!O35+BReds!O35),0,0,O35,O35,0),IF(BBlues!O35+BReds!O35=3,IF(BBlues!O35>BReds!O35,1,2),0)))","v":0},{"$f":"IF(Edit!$A$42=TRUE,Edit!P35,IF(OR(P35=1,P35=2),CHOOSE(MIN(5,BBlues!P35+BReds!P35),0,0,P35,P35,0),IF(BBlues!P35+BReds!P35=3,IF(BBlues!P35>BReds!P35,1,2),0)))","v":1},{"$f":"IF(Edit!$A$42=TRUE,Edit!Q35,IF(OR(Q35=1,Q35=2),CHOOSE(MIN(5,BBlues!Q35+BReds!Q35),0,0,Q35,Q35,0),IF(BBlues!Q35+BReds!Q35=3,IF(BBlues!Q35>BReds!Q35,1,2),0)))","v":1},{"$f":"IF(Edit!$A$42=TRUE,Edit!R35,IF(OR(R35=1,R35=2),CHOOSE(MIN(5,BBlues!R35+BReds!R35),0,0,R35,R35,0),IF(BBlues!R35+BReds!R35=3,IF(BBlues!R35>BReds!R35,1,2),0)))","v":0},{"$f":"IF(Edit!$A$42=TRUE,Edit!S35,IF(OR(S35=1,S35=2),CHOOSE(MIN(5,BBlues!S35+BReds!S35),0,0,S35,S35,0),IF(BBlues!S35+BReds!S35=3,IF(BBlues!S35>BReds!S35,1,2),0)))","v":0},{"$f":"IF(Edit!$A$42=TRUE,Edit!T35,IF(OR(T35=1,T35=2),CHOOSE(MIN(5,BBlues!T35+BReds!T35),0,0,T35,T35,0),IF(BBlues!T35+BReds!T35=3,IF(BBlues!T35>BReds!T35,1,2),0)))","v":0},{"$f":"IF(Edit!$A$42=TRUE,Edit!U35,IF(OR(U35=1,U35=2),CHOOSE(MIN(5,BBlues!U35+BReds!U35),0,0,U35,U35,0),IF(BBlues!U35+BReds!U35=3,IF(BBlues!U35>BReds!U35,1,2),0)))","v":0},{"$f":"IF(Edit!$A$42=TRUE,Edit!V35,IF(OR(V35=1,V35=2),CHOOSE(MIN(5,BBlues!V35+BReds!V35),0,0,V35,V35,0),IF(BBlues!V35+BReds!V35=3,IF(BBlues!V35>BReds!V35,1,2),0)))","v":0},{"$f":"IF(Edit!$A$42=TRUE,Edit!W35,IF(OR(W35=1,W35=2),CHOOSE(MIN(5,BBlues!W35+BReds!W35),0,0,W35,W35,0),IF(BBlues!W35+BReds!W35=3,IF(BBlues!W35>BReds!W35,1,2),0)))","v":0},{"$f":"IF(Edit!$A$42=TRUE,Edit!X35,IF(OR(X35=1,X35=2),CHOOSE(MIN(5,BBlues!X35+BReds!X35),0,0,X35,X35,0),IF(BBlues!X35+BReds!X35=3,IF(BBlues!X35>BReds!X35,1,2),0)))","v":1},{"$f":"IF(Edit!$A$42=TRUE,Edit!Y35,IF(OR(Y35=1,Y35=2),CHOOSE(MIN(5,BBlues!Y35+BReds!Y35),0,0,Y35,Y35,0),IF(BBlues!Y35+BReds!Y35=3,IF(BBlues!Y35>BReds!Y35,1,2),0)))","v":0},{"$f":"IF(Edit!$A$42=TRUE,Edit!Z35,IF(OR(Z35=1,Z35=2),CHOOSE(MIN(5,BBlues!Z35+BReds!Z35),0,0,Z35,Z35,0),IF(BBlues!Z35+BReds!Z35=3,IF(BBlues!Z35>BReds!Z35,1,2),0)))","v":1},{"$f":"IF(Edit!$A$42=TRUE,Edit!AA35,IF(OR(AA35=1,AA35=2),CHOOSE(MIN(5,BBlues!AA35+BReds!AA35),0,0,AA35,AA35,0),IF(BBlues!AA35+BReds!AA35=3,IF(BBlues!AA35>BReds!AA35,1,2),0)))","v":1},{"$f":"IF(Edit!$A$42=TRUE,Edit!AB35,IF(OR(AB35=1,AB35=2),CHOOSE(MIN(5,BBlues!AB35+BReds!AB35),0,0,AB35,AB35,0),IF(BBlues!AB35+BReds!AB35=3,IF(BBlues!AB35>BReds!AB35,1,2),0)))","v":1},{"$f":"IF(Edit!$A$42=TRUE,Edit!AC35,IF(OR(AC35=1,AC35=2),CHOOSE(MIN(5,BBlues!AC35+BReds!AC35),0,0,AC35,AC35,0),IF(BBlues!AC35+BReds!AC35=3,IF(BBlues!AC35>BReds!AC35,1,2),0)))","v":1},{"$f":"IF(Edit!$A$42=TRUE,Edit!AD35,IF(OR(AD35=1,AD35=2),CHOOSE(MIN(5,BBlues!AD35+BReds!AD35),0,0,AD35,AD35,0),IF(BBlues!AD35+BReds!AD35=3,IF(BBlues!AD35>BReds!AD35,1,2),0)))","v":1},{"$f":"IF(Edit!$A$42=TRUE,Edit!AE35,IF(OR(AE35=1,AE35=2),CHOOSE(MIN(5,BBlues!AE35+BReds!AE35),0,0,AE35,AE35,0),IF(BBlues!AE35+BReds!AE35=3,IF(BBlues!AE35>BReds!AE35,1,2),0)))","v":1},{"$f":"IF(Edit!$A$42=TRUE,Edit!AF35,IF(OR(AF35=1,AF35=2),CHOOSE(MIN(5,BBlues!AF35+BReds!AF35),0,0,AF35,AF35,0),IF(BBlues!AF35+BReds!AF35=3,IF(BBlues!AF35>BReds!AF35,1,2),0)))","v":1},{"$f":"IF(Edit!$A$42=TRUE,Edit!AG35,IF(OR(AG35=1,AG35=2),CHOOSE(MIN(5,BBlues!AG35+BReds!AG35),0,0,AG35,AG35,0),IF(BBlues!AG35+BReds!AG35=3,IF(BBlues!AG35>BReds!AG35,1,2),0)))","v":0},{"$f":"IF(Edit!$A$42=TRUE,Edit!AH35,IF(OR(AH35=1,AH35=2),CHOOSE(MIN(5,BBlues!AH35+BReds!AH35),0,0,AH35,AH35,0),IF(BBlues!AH35+BReds!AH35=3,IF(BBlues!AH35>BReds!AH35,1,2),0)))","v":1},{"$f":"IF(Edit!$A$42=TRUE,Edit!AI35,IF(OR(AI35=1,AI35=2),CHOOSE(MIN(5,BBlues!AI35+BReds!AI35),0,0,AI35,AI35,0),IF(BBlues!AI35+BReds!AI35=3,IF(BBlues!AI35>BReds!AI35,1,2),0)))","v":0},{"$f":"IF(Edit!$A$42=TRUE,Edit!AJ35,IF(OR(AJ35=1,AJ35=2),CHOOSE(MIN(5,BBlues!AJ35+BReds!AJ35),0,0,AJ35,AJ35,0),IF(BBlues!AJ35+BReds!AJ35=3,IF(BBlues!AJ35>BReds!AJ35,1,2),0)))","v":0},{"$f":"IF(Edit!$A$42=TRUE,Edit!AK35,IF(OR(AK35=1,AK35=2),CHOOSE(MIN(5,BBlues!AK35+BReds!AK35),0,0,AK35,AK35,0),IF(BBlues!AK35+BReds!AK35=3,IF(BBlues!AK35>BReds!AK35,1,2),0)))","v":1},{"$f":"IF(Edit!$A$42=TRUE,Edit!AL35,IF(OR(AL35=1,AL35=2),CHOOSE(MIN(5,BBlues!AL35+BReds!AL35),0,0,AL35,AL35,0),IF(BBlues!AL35+BReds!AL35=3,IF(BBlues!AL35>BReds!AL35,1,2),0)))","v":1}]
[null,{"$f":"IF(Edit!$A$42=TRUE,Edit!B36,IF(OR(B36=1,B36=2),CHOOSE(MIN(5,BBlues!B36+BReds!B36),0,0,B36,B36,0),IF(BBlues!B36+BReds!B36=3,IF(BBlues!B36>BReds!B36,1,2),0)))","v":0},{"$f":"IF(Edit!$A$42=TRUE,Edit!C36,IF(OR(C36=1,C36=2),CHOOSE(MIN(5,BBlues!C36+BReds!C36),0,0,C36,C36,0),IF(BBlues!C36+BReds!C36=3,IF(BBlues!C36>BReds!C36,1,2),0)))","v":0},{"$f":"IF(Edit!$A$42=TRUE,Edit!D36,IF(OR(D36=1,D36=2),CHOOSE(MIN(5,BBlues!D36+BReds!D36),0,0,D36,D36,0),IF(BBlues!D36+BReds!D36=3,IF(BBlues!D36>BReds!D36,1,2),0)))","v":0},{"$f":"IF(Edit!$A$42=TRUE,Edit!E36,IF(OR(E36=1,E36=2),CHOOSE(MIN(5,BBlues!E36+BReds!E36),0,0,E36,E36,0),IF(BBlues!E36+BReds!E36=3,IF(BBlues!E36>BReds!E36,1,2),0)))","v":0},{"$f":"IF(Edit!$A$42=TRUE,Edit!F36,IF(OR(F36=1,F36=2),CHOOSE(MIN(5,BBlues!F36+BReds!F36),0,0,F36,F36,0),IF(BBlues!F36+BReds!F36=3,IF(BBlues!F36>BReds!F36,1,2),0)))","v":0},{"$f":"IF(Edit!$A$42=TRUE,Edit!G36,IF(OR(G36=1,G36=2),CHOOSE(MIN(5,BBlues!G36+BReds!G36),0,0,G36,G36,0),IF(BBlues!G36+BReds!G36=3,IF(BBlues!G36>BReds!G36,1,2),0)))","v":0},{"$f":"IF(Edit!$A$42=TRUE,Edit!H36,IF(OR(H36=1,H36=2),CHOOSE(MIN(5,BBlues!H36+BReds!H36),0,0,H36,H36,0),IF(BBlues!H36+BReds!H36=3,IF(BBlues!H36>BReds!H36,1,2),0)))","v":0},{"$f":"IF(Edit!$A$42=TRUE,Edit!I36,IF(OR(I36=1,I36=2),CHOOSE(MIN(5,BBlues!I36+BReds!I36),0,0,I36,I36,0),IF(BBlues!I36+BReds!I36=3,IF(BBlues!I36>BReds!I36,1,2),0)))","v":0},{"$f":"IF(Edit!$A$42=TRUE,Edit!J36,IF(OR(J36=1,J36=2),CHOOSE(MIN(5,BBlues!J36+BReds!J36),0,0,J36,J36,0),IF(BBlues!J36+BReds!J36=3,IF(BBlues!J36>BReds!J36,1,2),0)))","v":0},{"$f":"IF(Edit!$A$42=TRUE,Edit!K36,IF(OR(K36=1,K36=2),CHOOSE(MIN(5,BBlues!K36+BReds!K36),0,0,K36,K36,0),IF(BBlues!K36+BReds!K36=3,IF(BBlues!K36>BReds!K36,1,2),0)))","v":0},{"$f":"IF(Edit!$A$42=TRUE,Edit!L36,IF(OR(L36=1,L36=2),CHOOSE(MIN(5,BBlues!L36+BReds!L36),0,0,L36,L36,0),IF(BBlues!L36+BReds!L36=3,IF(BBlues!L36>BReds!L36,1,2),0)))","v":0},{"$f":"IF(Edit!$A$42=TRUE,Edit!M36,IF(OR(M36=1,M36=2),CHOOSE(MIN(5,BBlues!M36+BReds!M36),0,0,M36,M36,0),IF(BBlues!M36+BReds!M36=3,IF(BBlues!M36>BReds!M36,1,2),0)))","v":0},{"$f":"IF(Edit!$A$42=TRUE,Edit!N36,IF(OR(N36=1,N36=2),CHOOSE(MIN(5,BBlues!N36+BReds!N36),0,0,N36,N36,0),IF(BBlues!N36+BReds!N36=3,IF(BBlues!N36>BReds!N36,1,2),0)))","v":0},{"$f":"IF(Edit!$A$42=TRUE,Edit!O36,IF(OR(O36=1,O36=2),CHOOSE(MIN(5,BBlues!O36+BReds!O36),0,0,O36,O36,0),IF(BBlues!O36+BReds!O36=3,IF(BBlues!O36>BReds!O36,1,2),0)))","v":0},{"$f":"IF(Edit!$A$42=TRUE,Edit!P36,IF(OR(P36=1,P36=2),CHOOSE(MIN(5,BBlues!P36+BReds!P36),0,0,P36,P36,0),IF(BBlues!P36+BReds!P36=3,IF(BBlues!P36>BReds!P36,1,2),0)))","v":0},{"$f":"IF(Edit!$A$42=TRUE,Edit!Q36,IF(OR(Q36=1,Q36=2),CHOOSE(MIN(5,BBlues!Q36+BReds!Q36),0,0,Q36,Q36,0),IF(BBlues!Q36+BReds!Q36=3,IF(BBlues!Q36>BReds!Q36,1,2),0)))","v":1},{"$f":"IF(Edit!$A$42=TRUE,Edit!R36,IF(OR(R36=1,R36=2),CHOOSE(MIN(5,BBlues!R36+BReds!R36),0,0,R36,R36,0),IF(BBlues!R36+BReds!R36=3,IF(BBlues!R36>BReds!R36,1,2),0)))","v":0},{"$f":"IF(Edit!$A$42=TRUE,Edit!S36,IF(OR(S36=1,S36=2),CHOOSE(MIN(5,BBlues!S36+BReds!S36),0,0,S36,S36,0),IF(BBlues!S36+BReds!S36=3,IF(BBlues!S36>BReds!S36,1,2),0)))","v":0},{"$f":"IF(Edit!$A$42=TRUE,Edit!T36,IF(OR(T36=1,T36=2),CHOOSE(MIN(5,BBlues!T36+BReds!T36),0,0,T36,T36,0),IF(BBlues!T36+BReds!T36=3,IF(BBlues!T36>BReds!T36,1,2),0)))","v":1},{"$f":"IF(Edit!$A$42=TRUE,Edit!U36,IF(OR(U36=1,U36=2),CHOOSE(MIN(5,BBlues!U36+BReds!U36),0,0,U36,U36,0),IF(BBlues!U36+BReds!U36=3,IF(BBlues!U36>BReds!U36,1,2),0)))","v":1},{"$f":"IF(Edit!$A$42=TRUE,Edit!V36,IF(OR(V36=1,V36=2),CHOOSE(MIN(5,BBlues!V36+BReds!V36),0,0,V36,V36,0),IF(BBlues!V36+BReds!V36=3,IF(BBlues!V36>BReds!V36,1,2),0)))","v":0},{"$f":"IF(Edit!$A$42=TRUE,Edit!W36,IF(OR(W36=1,W36=2),CHOOSE(MIN(5,BBlues!W36+BReds!W36),0,0,W36,W36,0),IF(BBlues!W36+BReds!W36=3,IF(BBlues!W36>BReds!W36,1,2),0)))","v":0},{"$f":"IF(Edit!$A$42=TRUE,Edit!X36,IF(OR(X36=1,X36=2),CHOOSE(MIN(5,BBlues!X36+BReds!X36),0,0,X36,X36,0),IF(BBlues!X36+BReds!X36=3,IF(BBlues!X36>BReds!X36,1,2),0)))","v":1},{"$f":"IF(Edit!$A$42=TRUE,Edit!Y36,IF(OR(Y36=1,Y36=2),CHOOSE(MIN(5,BBlues!Y36+BReds!Y36),0,0,Y36,Y36,0),IF(BBlues!Y36+BReds!Y36=3,IF(BBlues!Y36>BReds!Y36,1,2),0)))","v":0},{"$f":"IF(Edit!$A$42=TRUE,Edit!Z36,IF(OR(Z36=1,Z36=2),CHOOSE(MIN(5,BBlues!Z36+BReds!Z36),0,0,Z36,Z36,0),IF(BBlues!Z36+BReds!Z36=3,IF(BBlues!Z36>BReds!Z36,1,2),0)))","v":0},{"$f":"IF(Edit!$A$42=TRUE,Edit!AA36,IF(OR(AA36=1,AA36=2),CHOOSE(MIN(5,BBlues!AA36+BReds!AA36),0,0,AA36,AA36,0),IF(BBlues!AA36+BReds!AA36=3,IF(BBlues!AA36>BReds!AA36,1,2),0)))","v":1},{"$f":"IF(Edit!$A$42=TRUE,Edit!AB36,IF(OR(AB36=1,AB36=2),CHOOSE(MIN(5,BBlues!AB36+BReds!AB36),0,0,AB36,AB36,0),IF(BBlues!AB36+BReds!AB36=3,IF(BBlues!AB36>BReds!AB36,1,2),0)))","v":1},{"$f":"IF(Edit!$A$42=TRUE,Edit!AC36,IF(OR(AC36=1,AC36=2),CHOOSE(MIN(5,BBlues!AC36+BReds!AC36),0,0,AC36,AC36,0),IF(BBlues!AC36+BReds!AC36=3,IF(BBlues!AC36>BReds!AC36,1,2),0)))","v":1},{"$f":"IF(Edit!$A$42=TRUE,Edit!AD36,IF(OR(AD36=1,AD36=2),CHOOSE(MIN(5,BBlues!AD36+BReds!AD36),0,0,AD36,AD36,0),IF(BBlues!AD36+BReds!AD36=3,IF(BBlues!AD36>BReds!AD36,1,2),0)))","v":1},{"$f":"IF(Edit!$A$42=TRUE,Edit!AE36,IF(OR(AE36=1,AE36=2),CHOOSE(MIN(5,BBlues!AE36+BReds!AE36),0,0,AE36,AE36,0),IF(BBlues!AE36+BReds!AE36=3,IF(BBlues!AE36>BReds!AE36,1,2),0)))","v":1},{"$f":"IF(Edit!$A$42=TRUE,Edit!AF36,IF(OR(AF36=1,AF36=2),CHOOSE(MIN(5,BBlues!AF36+BReds!AF36),0,0,AF36,AF36,0),IF(BBlues!AF36+BReds!AF36=3,IF(BBlues!AF36>BReds!AF36,1,2),0)))","v":0},{"$f":"IF(Edit!$A$42=TRUE,Edit!AG36,IF(OR(AG36=1,AG36=2),CHOOSE(MIN(5,BBlues!AG36+BReds!AG36),0,0,AG36,AG36,0),IF(BBlues!AG36+BReds!AG36=3,IF(BBlues!AG36>BReds!AG36,1,2),0)))","v":0},{"$f":"IF(Edit!$A$42=TRUE,Edit!AH36,IF(OR(AH36=1,AH36=2),CHOOSE(MIN(5,BBlues!AH36+BReds!AH36),0,0,AH36,AH36,0),IF(BBlues!AH36+BReds!AH36=3,IF(BBlues!AH36>BReds!AH36,1,2),0)))","v":1},{"$f":"IF(Edit!$A$42=TRUE,Edit!AI36,IF(OR(AI36=1,AI36=2),CHOOSE(MIN(5,BBlues!AI36+BReds!AI36),0,0,AI36,AI36,0),IF(BBlues!AI36+BReds!AI36=3,IF(BBlues!AI36>BReds!AI36,1,2),0)))","v":0},{"$f":"IF(Edit!$A$42=TRUE,Edit!AJ36,IF(OR(AJ36=1,AJ36=2),CHOOSE(MIN(5,BBlues!AJ36+BReds!AJ36),0,0,AJ36,AJ36,0),IF(BBlues!AJ36+BReds!AJ36=3,IF(BBlues!AJ36>BReds!AJ36,1,2),0)))","v":0},{"$f":"IF(Edit!$A$42=TRUE,Edit!AK36,IF(OR(AK36=1,AK36=2),CHOOSE(MIN(5,BBlues!AK36+BReds!AK36),0,0,AK36,AK36,0),IF(BBlues!AK36+BReds!AK36=3,IF(BBlues!AK36>BReds!AK36,1,2),0)))","v":1},{"$f":"IF(Edit!$A$42=TRUE,Edit!AL36,IF(OR(AL36=1,AL36=2),CHOOSE(MIN(5,BBlues!AL36+BReds!AL36),0,0,AL36,AL36,0),IF(BBlues!AL36+BReds!AL36=3,IF(BBlues!AL36>BReds!AL36,1,2),0)))","v":1}]
[null,{"$f":"IF(Edit!$A$42=TRUE,Edit!B37,IF(OR(B37=1,B37=2),CHOOSE(MIN(5,BBlues!B37+BReds!B37),0,0,B37,B37,0),IF(BBlues!B37+BReds!B37=3,IF(BBlues!B37>BReds!B37,1,2),0)))","v":0},{"$f":"IF(Edit!$A$42=TRUE,Edit!C37,IF(OR(C37=1,C37=2),CHOOSE(MIN(5,BBlues!C37+BReds!C37),0,0,C37,C37,0),IF(BBlues!C37+BReds!C37=3,IF(BBlues!C37>BReds!C37,1,2),0)))","v":0},{"$f":"IF(Edit!$A$42=TRUE,Edit!D37,IF(OR(D37=1,D37=2),CHOOSE(MIN(5,BBlues!D37+BReds!D37),0,0,D37,D37,0),IF(BBlues!D37+BReds!D37=3,IF(BBlues!D37>BReds!D37,1,2),0)))","v":0},{"$f":"IF(Edit!$A$42=TRUE,Edit!E37,IF(OR(E37=1,E37=2),CHOOSE(MIN(5,BBlues!E37+BReds!E37),0,0,E37,E37,0),IF(BBlues!E37+BReds!E37=3,IF(BBlues!E37>BReds!E37,1,2),0)))","v":0},{"$f":"IF(Edit!$A$42=TRUE,Edit!F37,IF(OR(F37=1,F37=2),CHOOSE(MIN(5,BBlues!F37+BReds!F37),0,0,F37,F37,0),IF(BBlues!F37+BReds!F37=3,IF(BBlues!F37>BReds!F37,1,2),0)))","v":0},{"$f":"IF(Edit!$A$42=TRUE,Edit!G37,IF(OR(G37=1,G37=2),CHOOSE(MIN(5,BBlues!G37+BReds!G37),0,0,G37,G37,0),IF(BBlues!G37+BReds!G37=3,IF(BBlues!G37>BReds!G37,1,2),0)))","v":0},{"$f":"IF(Edit!$A$42=TRUE,Edit!H37,IF(OR(H37=1,H37=2),CHOOSE(MIN(5,BBlues!H37+BReds!H37),0,0,H37,H37,0),IF(BBlues!H37+BReds!H37=3,IF(BBlues!H37>BReds!H37,1,2),0)))","v":0},{"$f":"IF(Edit!$A$42=TRUE,Edit!I37,IF(OR(I37=1,I37=2),CHOOSE(MIN(5,BBlues!I37+BReds!I37),0,0,I37,I37,0),IF(BBlues!I37+BReds!I37=3,IF(BBlues!I37>BReds!I37,1,2),0)))","v":0},{"$f":"IF(Edit!$A$42=TRUE,Edit!J37,IF(OR(J37=1,J37=2),CHOOSE(MIN(5,BBlues!J37+BReds!J37),0,0,J37,J37,0),IF(BBlues!J37+BReds!J37=3,IF(BBlues!J37>BReds!J37,1,2),0)))","v":0},{"$f":"IF(Edit!$A$42=TRUE,Edit!K37,IF(OR(K37=1,K37=2),CHOOSE(MIN(5,BBlues!K37+BReds!K37),0,0,K37,K37,0),IF(BBlues!K37+BReds!K37=3,IF(BBlues!K37>BReds!K37,1,2),0)))","v":0},{"$f":"IF(Edit!$A$42=TRUE,Edit!L37,IF(OR(L37=1,L37=2),CHOOSE(MIN(5,BBlues!L37+BReds!L37),0,0,L37,L37,0),IF(BBlues!L37+BReds!L37=3,IF(BBlues!L37>BReds!L37,1,2),0)))","v":0},{"$f":"IF(Edit!$A$42=TRUE,Edit!M37,IF(OR(M37=1,M37=2),CHOOSE(MIN(5,BBlues!M37+BReds!M37),0,0,M37,M37,0),IF(BBlues!M37+BReds!M37=3,IF(BBlues!M37>BReds!M37,1,2),0)))","v":0},{"$f":"IF(Edit!$A$42=TRUE,Edit!N37,IF(OR(N37=1,N37=2),CHOOSE(MIN(5,BBlues!N37+BReds!N37),0,0,N37,N37,0),IF(BBlues!N37+BReds!N37=3,IF(BBlues!N37>BReds!N37,1,2),0)))","v":0},{"$f":"IF(Edit!$A$42=TRUE,Edit!O37,IF(OR(O37=1,O37=2),CHOOSE(MIN(5,BBlues!O37+BReds!O37),0,0,O37,O37,0),IF(BBlues!O37+BReds!O37=3,IF(BBlues!O37>BReds!O37,1,2),0)))","v":0},{"$f":"IF(Edit!$A$42=TRUE,Edit!P37,IF(OR(P37=1,P37=2),CHOOSE(MIN(5,BBlues!P37+BReds!P37),0,0,P37,P37,0),IF(BBlues!P37+BReds!P37=3,IF(BBlues!P37>BReds!P37,1,2),0)))","v":0},{"$f":"IF(Edit!$A$42=TRUE,Edit!Q37,IF(OR(Q37=1,Q37=2),CHOOSE(MIN(5,BBlues!Q37+BReds!Q37),0,0,Q37,Q37,0),IF(BBlues!Q37+BReds!Q37=3,IF(BBlues!Q37>BReds!Q37,1,2),0)))","v":0},{"$f":"IF(Edit!$A$42=TRUE,Edit!R37,IF(OR(R37=1,R37=2),CHOOSE(MIN(5,BBlues!R37+BReds!R37),0,0,R37,R37,0),IF(BBlues!R37+BReds!R37=3,IF(BBlues!R37>BReds!R37,1,2),0)))","v":1},{"$f":"IF(Edit!$A$42=TRUE,Edit!S37,IF(OR(S37=1,S37=2),CHOOSE(MIN(5,BBlues!S37+BReds!S37),0,0,S37,S37,0),IF(BBlues!S37+BReds!S37=3,IF(BBlues!S37>BReds!S37,1,2),0)))","v":0},{"$f":"IF(Edit!$A$42=TRUE,Edit!T37,IF(OR(T37=1,T37=2),CHOOSE(MIN(5,BBlues!T37+BReds!T37),0,0,T37,T37,0),IF(BBlues!T37+BReds!T37=3,IF(BBlues!T37>BReds!T37,1,2),0)))","v":0},{"$f":"IF(Edit!$A$42=TRUE,Edit!U37,IF(OR(U37=1,U37=2),CHOOSE(MIN(5,BBlues!U37+BReds!U37),0,0,U37,U37,0),IF(BBlues!U37+BReds!U37=3,IF(BBlues!U37>BReds!U37,1,2),0)))","v":1},{"$f":"IF(Edit!$A$42=TRUE,Edit!V37,IF(OR(V37=1,V37=2),CHOOSE(MIN(5,BBlues!V37+BReds!V37),0,0,V37,V37,0),IF(BBlues!V37+BReds!V37=3,IF(BBlues!V37>BReds!V37,1,2),0)))","v":0},{"$f":"IF(Edit!$A$42=TRUE,Edit!W37,IF(OR(W37=1,W37=2),CHOOSE(MIN(5,BBlues!W37+BReds!W37),0,0,W37,W37,0),IF(BBlues!W37+BReds!W37=3,IF(BBlues!W37>BReds!W37,1,2),0)))","v":0},{"$f":"IF(Edit!$A$42=TRUE,Edit!X37,IF(OR(X37=1,X37=2),CHOOSE(MIN(5,BBlues!X37+BReds!X37),0,0,X37,X37,0),IF(BBlues!X37+BReds!X37=3,IF(BBlues!X37>BReds!X37,1,2),0)))","v":0},{"$f":"IF(Edit!$A$42=TRUE,Edit!Y37,IF(OR(Y37=1,Y37=2),CHOOSE(MIN(5,BBlues!Y37+BReds!Y37),0,0,Y37,Y37,0),IF(BBlues!Y37+BReds!Y37=3,IF(BBlues!Y37>BReds!Y37,1,2),0)))","v":1},{"$f":"IF(Edit!$A$42=TRUE,Edit!Z37,IF(OR(Z37=1,Z37=2),CHOOSE(MIN(5,BBlues!Z37+BReds!Z37),0,0,Z37,Z37,0),IF(BBlues!Z37+BReds!Z37=3,IF(BBlues!Z37>BReds!Z37,1,2),0)))","v":0},{"$f":"IF(Edit!$A$42=TRUE,Edit!AA37,IF(OR(AA37=1,AA37=2),CHOOSE(MIN(5,BBlues!AA37+BReds!AA37),0,0,AA37,AA37,0),IF(BBlues!AA37+BReds!AA37=3,IF(BBlues!AA37>BReds!AA37,1,2),0)))","v":0},{"$f":"IF(Edit!$A$42=TRUE,Edit!AB37,IF(OR(AB37=1,AB37=2),CHOOSE(MIN(5,BBlues!AB37+BReds!AB37),0,0,AB37,AB37,0),IF(BBlues!AB37+BReds!AB37=3,IF(BBlues!AB37>BReds!AB37,1,2),0)))","v":0},{"$f":"IF(Edit!$A$42=TRUE,Edit!AC37,IF(OR(AC37=1,AC37=2),CHOOSE(MIN(5,BBlues!AC37+BReds!AC37),0,0,AC37,AC37,0),IF(BBlues!AC37+BReds!AC37=3,IF(BBlues!AC37>BReds!AC37,1,2),0)))","v":1},{"$f":"IF(Edit!$A$42=TRUE,Edit!AD37,IF(OR(AD37=1,AD37=2),CHOOSE(MIN(5,BBlues!AD37+BReds!AD37),0,0,AD37,AD37,0),IF(BBlues!AD37+BReds!AD37=3,IF(BBlues!AD37>BReds!AD37,1,2),0)))","v":0},{"$f":"IF(Edit!$A$42=TRUE,Edit!AE37,IF(OR(AE37=1,AE37=2),CHOOSE(MIN(5,BBlues!AE37+BReds!AE37),0,0,AE37,AE37,0),IF(BBlues!AE37+BReds!AE37=3,IF(BBlues!AE37>BReds!AE37,1,2),0)))","v":0},{"$f":"IF(Edit!$A$42=TRUE,Edit!AF37,IF(OR(AF37=1,AF37=2),CHOOSE(MIN(5,BBlues!AF37+BReds!AF37),0,0,AF37,AF37,0),IF(BBlues!AF37+BReds!AF37=3,IF(BBlues!AF37>BReds!AF37,1,2),0)))","v":0},{"$f":"IF(Edit!$A$42=TRUE,Edit!AG37,IF(OR(AG37=1,AG37=2),CHOOSE(MIN(5,BBlues!AG37+BReds!AG37),0,0,AG37,AG37,0),IF(BBlues!AG37+BReds!AG37=3,IF(BBlues!AG37>BReds!AG37,1,2),0)))","v":1},{"$f":"IF(Edit!$A$42=TRUE,Edit!AH37,IF(OR(AH37=1,AH37=2),CHOOSE(MIN(5,BBlues!AH37+BReds!AH37),0,0,AH37,AH37,0),IF(BBlues!AH37+BReds!AH37=3,IF(BBlues!AH37>BReds!AH37,1,2),0)))","v":0},{"$f":"IF(Edit!$A$42=TRUE,Edit!AI37,IF(OR(AI37=1,AI37=2),CHOOSE(MIN(5,BBlues!AI37+BReds!AI37),0,0,AI37,AI37,0),IF(BBlues!AI37+BReds!AI37=3,IF(BBlues!AI37>BReds!AI37,1,2),0)))","v":0},{"$f":"IF(Edit!$A$42=TRUE,Edit!AJ37,IF(OR(AJ37=1,AJ37=2),CHOOSE(MIN(5,BBlues!AJ37+BReds!AJ37),0,0,AJ37,AJ37,0),IF(BBlues!AJ37+BReds!AJ37=3,IF(BBlues!AJ37>BReds!AJ37,1,2),0)))","v":0},{"$f":"IF(Edit!$A$42=TRUE,Edit!AK37,IF(OR(AK37=1,AK37=2),CHOOSE(MIN(5,BBlues!AK37+BReds!AK37),0,0,AK37,AK37,0),IF(BBlues!AK37+BReds!AK37=3,IF(BBlues!AK37>BReds!AK37,1,2),0)))","v":0},{"$f":"IF(Edit!$A$42=TRUE,Edit!AL37,IF(OR(AL37=1,AL37=2),CHOOSE(MIN(5,BBlues!AL37+BReds!AL37),0,0,AL37,AL37,0),IF(BBlues!AL37+BReds!AL37=3,IF(BBlues!AL37>BReds!AL37,1,2),0)))","v":0}]
[null,{"$f":"IF(Edit!$A$42=TRUE,Edit!B38,IF(OR(B38=1,B38=2),CHOOSE(MIN(5,BBlues!B38+BReds!B38),0,0,B38,B38,0),IF(BBlues!B38+BReds!B38=3,IF(BBlues!B38>BReds!B38,1,2),0)))","v":0},{"$f":"IF(Edit!$A$42=TRUE,Edit!C38,IF(OR(C38=1,C38=2),CHOOSE(MIN(5,BBlues!C38+BReds!C38),0,0,C38,C38,0),IF(BBlues!C38+BReds!C38=3,IF(BBlues!C38>BReds!C38,1,2),0)))","v":0},{"$f":"IF(Edit!$A$42=TRUE,Edit!D38,IF(OR(D38=1,D38=2),CHOOSE(MIN(5,BBlues!D38+BReds!D38),0,0,D38,D38,0),IF(BBlues!D38+BReds!D38=3,IF(BBlues!D38>BReds!D38,1,2),0)))","v":0},{"$f":"IF(Edit!$A$42=TRUE,Edit!E38,IF(OR(E38=1,E38=2),CHOOSE(MIN(5,BBlues!E38+BReds!E38),0,0,E38,E38,0),IF(BBlues!E38+BReds!E38=3,IF(BBlues!E38>BReds!E38,1,2),0)))","v":0},{"$f":"IF(Edit!$A$42=TRUE,Edit!F38,IF(OR(F38=1,F38=2),CHOOSE(MIN(5,BBlues!F38+BReds!F38),0,0,F38,F38,0),IF(BBlues!F38+BReds!F38=3,IF(BBlues!F38>BReds!F38,1,2),0)))","v":0},{"$f":"IF(Edit!$A$42=TRUE,Edit!G38,IF(OR(G38=1,G38=2),CHOOSE(MIN(5,BBlues!G38+BReds!G38),0,0,G38,G38,0),IF(BBlues!G38+BReds!G38=3,IF(BBlues!G38>BReds!G38,1,2),0)))","v":0},{"$f":"IF(Edit!$A$42=TRUE,Edit!H38,IF(OR(H38=1,H38=2),CHOOSE(MIN(5,BBlues!H38+BReds!H38),0,0,H38,H38,0),IF(BBlues!H38+BReds!H38=3,IF(BBlues!H38>BReds!H38,1,2),0)))","v":0},{"$f":"IF(Edit!$A$42=TRUE,Edit!I38,IF(OR(I38=1,I38=2),CHOOSE(MIN(5,BBlues!I38+BReds!I38),0,0,I38,I38,0),IF(BBlues!I38+BReds!I38=3,IF(BBlues!I38>BReds!I38,1,2),0)))","v":0},{"$f":"IF(Edit!$A$42=TRUE,Edit!J38,IF(OR(J38=1,J38=2),CHOOSE(MIN(5,BBlues!J38+BReds!J38),0,0,J38,J38,0),IF(BBlues!J38+BReds!J38=3,IF(BBlues!J38>BReds!J38,1,2),0)))","v":0},{"$f":"IF(Edit!$A$42=TRUE,Edit!K38,IF(OR(K38=1,K38=2),CHOOSE(MIN(5,BBlues!K38+BReds!K38),0,0,K38,K38,0),IF(BBlues!K38+BReds!K38=3,IF(BBlues!K38>BReds!K38,1,2),0)))","v":0},{"$f":"IF(Edit!$A$42=TRUE,Edit!L38,IF(OR(L38=1,L38=2),CHOOSE(MIN(5,BBlues!L38+BReds!L38),0,0,L38,L38,0),IF(BBlues!L38+BReds!L38=3,IF(BBlues!L38>BReds!L38,1,2),0)))","v":0},{"$f":"IF(Edit!$A$42=TRUE,Edit!M38,IF(OR(M38=1,M38=2),CHOOSE(MIN(5,BBlues!M38+BReds!M38),0,0,M38,M38,0),IF(BBlues!M38+BReds!M38=3,IF(BBlues!M38>BReds!M38,1,2),0)))","v":0},{"$f":"IF(Edit!$A$42=TRUE,Edit!N38,IF(OR(N38=1,N38=2),CHOOSE(MIN(5,BBlues!N38+BReds!N38),0,0,N38,N38,0),IF(BBlues!N38+BReds!N38=3,IF(BBlues!N38>BReds!N38,1,2),0)))","v":0},{"$f":"IF(Edit!$A$42=TRUE,Edit!O38,IF(OR(O38=1,O38=2),CHOOSE(MIN(5,BBlues!O38+BReds!O38),0,0,O38,O38,0),IF(BBlues!O38+BReds!O38=3,IF(BBlues!O38>BReds!O38,1,2),0)))","v":0},{"$f":"IF(Edit!$A$42=TRUE,Edit!P38,IF(OR(P38=1,P38=2),CHOOSE(MIN(5,BBlues!P38+BReds!P38),0,0,P38,P38,0),IF(BBlues!P38+BReds!P38=3,IF(BBlues!P38>BReds!P38,1,2),0)))","v":0},{"$f":"IF(Edit!$A$42=TRUE,Edit!Q38,IF(OR(Q38=1,Q38=2),CHOOSE(MIN(5,BBlues!Q38+BReds!Q38),0,0,Q38,Q38,0),IF(BBlues!Q38+BReds!Q38=3,IF(BBlues!Q38>BReds!Q38,1,2),0)))","v":0},{"$f":"IF(Edit!$A$42=TRUE,Edit!R38,IF(OR(R38=1,R38=2),CHOOSE(MIN(5,BBlues!R38+BReds!R38),0,0,R38,R38,0),IF(BBlues!R38+BReds!R38=3,IF(BBlues!R38>BReds!R38,1,2),0)))","v":1},{"$f":"IF(Edit!$A$42=TRUE,Edit!S38,IF(OR(S38=1,S38=2),CHOOSE(MIN(5,BBlues!S38+BReds!S38),0,0,S38,S38,0),IF(BBlues!S38+BReds!S38=3,IF(BBlues!S38>BReds!S38,1,2),0)))","v":0},{"$f":"IF(Edit!$A$42=TRUE,Edit!T38,IF(OR(T38=1,T38=2),CHOOSE(MIN(5,BBlues!T38+BReds!T38),0,0,T38,T38,0),IF(BBlues!T38+BReds!T38=3,IF(BBlues!T38>BReds!T38,1,2),0)))","v":1},{"$f":"IF(Edit!$A$42=TRUE,Edit!U38,IF(OR(U38=1,U38=2),CHOOSE(MIN(5,BBlues!U38+BReds!U38),0,0,U38,U38,0),IF(BBlues!U38+BReds!U38=3,IF(BBlues!U38>BReds!U38,1,2),0)))","v":1},{"$f":"IF(Edit!$A$42=TRUE,Edit!V38,IF(OR(V38=1,V38=2),CHOOSE(MIN(5,BBlues!V38+BReds!V38),0,0,V38,V38,0),IF(BBlues!V38+BReds!V38=3,IF(BBlues!V38>BReds!V38,1,2),0)))","v":0},{"$f":"IF(Edit!$A$42=TRUE,Edit!W38,IF(OR(W38=1,W38=2),CHOOSE(MIN(5,BBlues!W38+BReds!W38),0,0,W38,W38,0),IF(BBlues!W38+BReds!W38=3,IF(BBlues!W38>BReds!W38,1,2),0)))","v":0},{"$f":"IF(Edit!$A$42=TRUE,Edit!X38,IF(OR(X38=1,X38=2),CHOOSE(MIN(5,BBlues!X38+BReds!X38),0,0,X38,X38,0),IF(BBlues!X38+BReds!X38=3,IF(BBlues!X38>BReds!X38,1,2),0)))","v":0},{"$f":"IF(Edit!$A$42=TRUE,Edit!Y38,IF(OR(Y38=1,Y38=2),CHOOSE(MIN(5,BBlues!Y38+BReds!Y38),0,0,Y38,Y38,0),IF(BBlues!Y38+BReds!Y38=3,IF(BBlues!Y38>BReds!Y38,1,2),0)))","v":0},{"$f":"IF(Edit!$A$42=TRUE,Edit!Z38,IF(OR(Z38=1,Z38=2),CHOOSE(MIN(5,BBlues!Z38+BReds!Z38),0,0,Z38,Z38,0),IF(BBlues!Z38+BReds!Z38=3,IF(BBlues!Z38>BReds!Z38,1,2),0)))","v":0},{"$f":"IF(Edit!$A$42=TRUE,Edit!AA38,IF(OR(AA38=1,AA38=2),CHOOSE(MIN(5,BBlues!AA38+BReds!AA38),0,0,AA38,AA38,0),IF(BBlues!AA38+BReds!AA38=3,IF(BBlues!AA38>BReds!AA38,1,2),0)))","v":0},{"$f":"IF(Edit!$A$42=TRUE,Edit!AB38,IF(OR(AB38=1,AB38=2),CHOOSE(MIN(5,BBlues!AB38+BReds!AB38),0,0,AB38,AB38,0),IF(BBlues!AB38+BReds!AB38=3,IF(BBlues!AB38>BReds!AB38,1,2),0)))","v":0},{"$f":"IF(Edit!$A$42=TRUE,Edit!AC38,IF(OR(AC38=1,AC38=2),CHOOSE(MIN(5,BBlues!AC38+BReds!AC38),0,0,AC38,AC38,0),IF(BBlues!AC38+BReds!AC38=3,IF(BBlues!AC38>BReds!AC38,1,2),0)))","v":0},{"$f":"IF(Edit!$A$42=TRUE,Edit!AD38,IF(OR(AD38=1,AD38=2),CHOOSE(MIN(5,BBlues!AD38+BReds!AD38),0,0,AD38,AD38,0),IF(BBlues!AD38+BReds!AD38=3,IF(BBlues!AD38>BReds!AD38,1,2),0)))","v":0},{"$f":"IF(Edit!$A$42=TRUE,Edit!AE38,IF(OR(AE38=1,AE38=2),CHOOSE(MIN(5,BBlues!AE38+BReds!AE38),0,0,AE38,AE38,0),IF(BBlues!AE38+BReds!AE38=3,IF(BBlues!AE38>BReds!AE38,1,2),0)))","v":0},{"$f":"IF(Edit!$A$42=TRUE,Edit!AF38,IF(OR(AF38=1,AF38=2),CHOOSE(MIN(5,BBlues!AF38+BReds!AF38),0,0,AF38,AF38,0),IF(BBlues!AF38+BReds!AF38=3,IF(BBlues!AF38>BReds!AF38,1,2),0)))","v":0},{"$f":"IF(Edit!$A$42=TRUE,Edit!AG38,IF(OR(AG38=1,AG38=2),CHOOSE(MIN(5,BBlues!AG38+BReds!AG38),0,0,AG38,AG38,0),IF(BBlues!AG38+BReds!AG38=3,IF(BBlues!AG38>BReds!AG38,1,2),0)))","v":0},{"$f":"IF(Edit!$A$42=TRUE,Edit!AH38,IF(OR(AH38=1,AH38=2),CHOOSE(MIN(5,BBlues!AH38+BReds!AH38),0,0,AH38,AH38,0),IF(BBlues!AH38+BReds!AH38=3,IF(BBlues!AH38>BReds!AH38,1,2),0)))","v":0},{"$f":"IF(Edit!$A$42=TRUE,Edit!AI38,IF(OR(AI38=1,AI38=2),CHOOSE(MIN(5,BBlues!AI38+BReds!AI38),0,0,AI38,AI38,0),IF(BBlues!AI38+BReds!AI38=3,IF(BBlues!AI38>BReds!AI38,1,2),0)))","v":0},{"$f":"IF(Edit!$A$42=TRUE,Edit!AJ38,IF(OR(AJ38=1,AJ38=2),CHOOSE(MIN(5,BBlues!AJ38+BReds!AJ38),0,0,AJ38,AJ38,0),IF(BBlues!AJ38+BReds!AJ38=3,IF(BBlues!AJ38>BReds!AJ38,1,2),0)))","v":0},{"$f":"IF(Edit!$A$42=TRUE,Edit!AK38,IF(OR(AK38=1,AK38=2),CHOOSE(MIN(5,BBlues!AK38+BReds!AK38),0,0,AK38,AK38,0),IF(BBlues!AK38+BReds!AK38=3,IF(BBlues!AK38>BReds!AK38,1,2),0)))","v":0},{"$f":"IF(Edit!$A$42=TRUE,Edit!AL38,IF(OR(AL38=1,AL38=2),CHOOSE(MIN(5,BBlues!AL38+BReds!AL38),0,0,AL38,AL38,0),IF(BBlues!AL38+BReds!AL38=3,IF(BBlues!AL38>BReds!AL38,1,2),0)))","v":0}]
[]
[]
[{"$nulls":19},"Click to add a blue cell."]

{"sheet":"BBlues","index":2,"n_rows":38,"n_cols":38,"rows_kept":38,"hidden":true}
[]
[null,{"$f":"COUNTIF(Game!A1:C3,1)","v":0},{"$f":"COUNTIF(Game!B1:D3,1)","v":0},{"$f":"COUNTIF(Game!C1:E3,1)","v":0},{"$f":"COUNTIF(Game!D1:F3,1)","v":0},{"$f":"COUNTIF(Game!E1:G3,1)","v":0},{"$f":"COUNTIF(Game!F1:H3,1)","v":0},{"$f":"COUNTIF(Game!G1:I3,1)","v":1},{"$f":"COUNTIF(Game!H1:J3,1)","v":3},{"$f":"COUNTIF(Game!I1:K3,1)","v":3},{"$f":"COUNTIF(Game!J1:L3,1)","v":2},{"$f":"COUNTIF(Game!K1:M3,1)","v":0},{"$f":"COUNTIF(Game!L1:N3,1)","v":0},{"$f":"COUNTIF(Game!M1:O3,1)","v":0},{"$f":"COUNTIF(Game!N1:P3,1)","v":0},{"$f":"COUNTIF(Game!O1:Q3,1)","v":0},{"$f":"COUNTIF(Game!P1:R3,1)","v":0},{"$f":"COUNTIF(Game!Q1:S3,1)","v":0},{"$f":"COUNTIF(Game!R1:T3,1)","v":0},{"$f":"COUNTIF(Game!S1:U3,1)","v":0},{"$f":"COUNTIF(Game!T1:V3,1)","v":0},{"$f":"COUNTIF(Game!U1:W3,1)","v":0},{"$f":"COUNTIF(Game!V1:X3,1)","v":0},{"$f":"COUNTIF(Game!W1:Y3,1)","v":0},{"$f":"COUNTIF(Game!X1:Z3,1)","v":0},{"$f":"COUNTIF(Game!Y1:AA3,1)","v":0},{"$f":"COUNTIF(Game!Z1:AB3,1)","v":0},{"$f":"COUNTIF(Game!AA1:AC3,1)","v":0},{"$f":"COUNTIF(Game!AB1:AD3,1)","v":0},{"$f":"COUNTIF(Game!AC1:AE3,1)","v":0},{"$f":"COUNTIF(Game!AD1:AF3,1)","v":0},{"$f":"COUNTIF(Game!AE1:AG3,1)","v":0},{"$f":"COUNTIF(Game!AF1:AH3,1)","v":0},{"$f":"COUNTIF(Game!AG1:AI3,1)","v":0},{"$f":"COUNTIF(Game!AH1:AJ3,1)","v":0},{"$f":"COUNTIF(Game!AI1:AK3,1)","v":0},{"$f":"COUNTIF(Game!AJ1:AL3,1)","v":0},{"$f":"COUNTIF(Game!AK1:AM3,1)","v":0}]
[null,{"$f":"COUNTIF(Game!A2:C4,1)","v":0},{"$f":"COUNTIF(Game!B2:D4,1)","v":0},{"$f":"COUNTIF(Game!C2:E4,1)","v":0},{"$f":"COUNTIF(Game!D2:F4,1)","v":0},{"$f":"COUNTIF(Game!E2:G4,1)","v":0},{"$f":"COUNTIF(Game!F2:H4,1)","v":0},{"$f":"COUNTIF(Game!G2:I4,1)","v":1},{"$f":"COUNTIF(Game!H2:J4,1)","v":3},{"$f":"COUNTIF(Game!I2:K4,1)","v":3},{"$f":"COUNTIF(Game!J2:L4,1)","v":2},{"$f":"COUNTIF(Game!K2:M4,1)","v":0},{"$f":"COUNTIF(Game!L2:N4,1)","v":0},{"$f":"COUNTIF(Game!M2:O4,1)","v":0},{"$f":"COUNTIF(Game!N2:P4,1)","v":0},{"$f":"COUNTIF(Game!O2:Q4,1)","v":0},{"$f":"COUNTIF(Game!P2:R4,1)","v":0},{"$f":"COUNTIF(Game!Q2:S4,1)","v":0},{"$f":"COUNTIF(Game!R2:T4,1)","v":0},{"$f":"COUNTIF(Game!S2:U4,1)","v":0},{"$f":"COUNTIF(Game!T2:V4,1)","v":0},{"$f":"COUNTIF(Game!U2:W4,1)","v":0},{"$f":"COUNTIF(Game!V2:X4,1)","v":0},{"$f":"COUNTIF(Game!W2:Y4,1)","v":0},{"$f":"COUNTIF(Game!X2:Z4,1)","v":0},{"$f":"COUNTIF(Game!Y2:AA4,1)","v":0},{"$f":"COUNTIF(Game!Z2:AB4,1)","v":0},{"$f":"COUNTIF(Game!AA2:AC4,1)","v":0},{"$f":"COUNTIF(Game!AB2:AD4,1)","v":0},{"$f":"COUNTIF(Game!AC2:AE4,1)","v":0},{"$f":"COUNTIF(Game!AD2:AF4,1)","v":0},{"$f":"COUNTIF(Game!AE2:AG4,1)","v":0},{"$f":"COUNTIF(Game!AF2:AH4,1)","v":0},{"$f":"COUNTIF(Game!AG2:AI4,1)","v":0},{"$f":"COUNTIF(Game!AH2:AJ4,1)","v":0},{"$f":"COUNTIF(Game!AI2:AK4,1)","v":0},{"$f":"COUNTIF(Game!AJ2:AL4,1)","v":0},{"$f":"COUNTIF(Game!AK2:AM4,1)","v":0}]
[null,{"$f":"COUNTIF(Game!A3:C5,1)","v":0},{"$f":"COUNTIF(Game!B3:D5,1)","v":0},{"$f":"COUNTIF(Game!C3:E5,1)","v":0},{"$f":"COUNTIF(Game!D3:F5,1)","v":0},{"$f":"COUNTIF(Game!E3:G5,1)","v":0},{"$f":"COUNTIF(Game!F3:H5,1)","v":0},{"$f":"COUNTIF(Game!G3:I5,1)","v":0},{"$f":"COUNTIF(Game!H3:J5,1)","v":1},{"$f":"COUNTIF(Game!I3:K5,1)","v":1},{"$f":"COUNTIF(Game!J3:L5,1)","v":1},{"$f":"COUNTIF(Game!K3:M5,1)","v":0},{"$f":"COUNTIF(Game!L3:N5,1)","v":0},{"$f":"COUNTIF(Game!M3:O5,1)","v":0},{"$f":"COUNTIF(Game!N3:P5,1)","v":0},{"$f":"COUNTIF(Game!O3:Q5,1)","v":0},{"$f":"COUNTIF(Game!P3:R5,1)","v":0},{"$f":"COUNTIF(Game!Q3:S5,1)","v":0},{"$f":"COUNTIF(Game!R3:T5,1)","v":0},{"$f":"COUNTIF(Game!S3:U5,1)","v":0},{"$f":"COUNTIF(Game!T3:V5,1)","v":0},{"$f":"COUNTIF(Game!U3:W5,1)","v":0},{"$f":"COUNTIF(Game!V3:X5,1)","v":0},{"$f":"COUNTIF(Game!W3:Y5,1)","v":1},{"$f":"COUNTIF(Game!X3:Z5,1)","v":2},{"$f":"COUNTIF(Game!Y3:AA5,1)","v":2},{"$f":"COUNTIF(Game!Z3:AB5,1)","v":1},{"$f":"COUNTIF(Game!AA3:AC5,1)","v":0},{"$f":"COUNTIF(Game!AB3:AD5,1)","v":0},{"$f":"COUNTIF(Game!AC3:AE5,1)","v":0},{"$f":"COUNTIF(Game!AD3:AF5,1)","v":0},{"$f":"COUNTIF(Game!AE3:AG5,1)","v":0},{"$f":"COUNTIF(Game!AF3:AH5,1)","v":0},{"$f":"COUNTIF(Game!AG3:AI5,1)","v":0},{"$f":"COUNTIF(Game!AH3:AJ5,1)","v":0},{"$f":"COUNTIF(Game!AI3:AK5,1)","v":0},{"$f":"COUNTIF(Game!AJ3:AL5,1)","v":0},{"$f":"COUNTIF(Game!AK3:AM5,1)","v":0}]
[null,{"$f":"COUNTIF(Game!A4:C6,1)","v":0},{"$f":"COUNTIF(Game!B4:D6,1)","v":0},{"$f":"COUNTIF(Game!C4:E6,1)","v":1},{"$f":"COUNTIF(Game!D4:F6,1)","v":1},{"$f":"COUNTIF(Game!E4:G6,1)","v":1},{"$f":"COUNTIF(Game!F4:H6,1)","v":0},{"$f":"COUNTIF(Game!G4:I6,1)","v":0},{"$f":"COUNTIF(Game!H4:J6,1)","v":0},{"$f":"COUNTIF(Game!I4:K6,1)","v":0},{"$f":"COUNTIF(Game!J4:L6,1)","v":0},{"$f":"COUNTIF(Game!K4:M6,1)","v":0},{"$f":"COUNTIF(Game!L4:N6,1)","v":0},{"$f":"COUNTIF(Game!M4:O6,1)","v":0},{"$f":"COUNTIF(Game!N4:P6,1)","v":0},{"$f":"COUNTIF(Game!O4:Q6,1)","v":0},{"$f":"COUNTIF(Game!P4:R6,1)","v":0},{"$f":"COUNTIF(Game!Q4:S6,1)","v":0},{"$f":"COUNTIF(Game!R4:T6,1)","v":0},{"$f":"COUNTIF(Game!S4:U6,1)","v":0},{"$f":"COUNTIF(Game!T4:V6,1)","v":0},{"$f":"COUNTIF(Game!U4:W6,1)","v":0},{"$f":"COUNTIF(Game!V4:X6,1)","v":1},{"$f":"COUNTIF(Game!W4:Y6,1)","v":2},{"$f":"COUNTIF(Game!X4:Z6,1)","v":3},{"$f":"COUNTIF(Game!Y4:AA6,1)","v":3},{"$f":"COUNTIF(Game!Z4:AB6,1)","v":2},{"$f":"COUNTIF(Game!AA4:AC6,1)","v":1},{"$f":"COUNTIF(Game!AB4:AD6,1)","v":0},{"$f":"COUNTIF(Game!AC4:AE6,1)","v":0},{"$f":"COUNTIF(Game!AD4:AF6,1)","v":0},{"$f":"COUNTIF(Game!AE4:AG6,1)","v":0},{"$f":"COUNTIF(Game!AF4:AH6,1)","v":0},{"$f":"COUNTIF(Game!AG4:AI6,1)","v":0},{"$f":"COUNTIF(Game!AH4:AJ6,1)","v":1},{"$f":"COUNTIF(Game!AI4:AK6,1)","v":2},{"$f":"COUNTIF(Game!AJ4:AL6,1)","v":2},{"$f":"COUNTIF(Game!AK4:AM6,1)","v":1}]
[null,{"$f":"COUNTIF(Game!A5:C7,1)","v":0},{"$f":"COUNTIF(Game!B5:D7,1)","v":1},{"$f":"COUNTIF(Game!C5:E7,1)","v":2},{"$f":"COUNTIF(Game!D5:F7,1)","v":3},{"$f":"COUNTIF(Game!E5:G7,1)","v":2},{"$f":"COUNTIF(Game!F5:H7,1)","v":1},{"$f":"COUNTIF(Game!G5:I7,1)","v":0},{"$f":"COUNTIF(Game!H5:J7,1)","v":0},{"$f":"COUNTIF(Game!I5:K7,1)","v":0},{"$f":"COUNTIF(Game!J5:L7,1)","v":0},{"$f":"COUNTIF(Game!K5:M7,1)","v":0},{"$f":"COUNTIF(Game!L5:N7,1)","v":0},{"$f":"COUNTIF(Game!M5:O7,1)","v":0},{"$f":"COUNTIF(Game!N5:P7,1)","v":0},{"$f":"COUNTIF(Game!O5:Q7,1)","v":0},{"$f":"COUNTIF(Game!P5:R7,1)","v":0},{"$f":"COUNTIF(Game!Q5:S7,1)","v":0},{"$f":"COUNTIF(Game!R5:T7,1)","v":0},{"$f":"COUNTIF(Game!S5:U7,1)","v":0},{"$f":"COUNTIF(Game!T5:V7,1)","v":0},{"$f":"COUNTIF(Game!U5:W7,1)","v":0},{"$f":"COUNTIF(Game!V5:X7,1)","v":1},{"$f":"COUNTIF(Game!W5:Y7,1)","v":3},{"$f":"COUNTIF(Game!X5:Z7,1)","v":5},{"$f":"COUNTIF(Game!Y5:AA7,1)","v":5},{"$f":"COUNTIF(Game!Z5:AB7,1)","v":3},{"$f":"COUNTIF(Game!AA5:AC7,1)","v":1},{"$f":"COUNTIF(Game!AB5:AD7,1)","v":0},{"$f":"COUNTIF(Game!AC5:AE7,1)","v":1},{"$f":"COUNTIF(Game!AD5:AF7,1)","v":2},{"$f":"COUNTIF(Game!AE5:AG7,1)","v":2},{"$f":"COUNTIF(Game!AF5:AH7,1)","v":1},{"$f":"COUNTIF(Game!AG5:AI7,1)","v":0},{"$f":"COUNTIF(Game!AH5:AJ7,1)","v":2},{"$f":"COUNTIF(Game!AI5:AK7,1)","v":4},{"$f":"COUNTIF(Game!AJ5:AL7,1)","v":4},{"$f":"COUNTIF(Game!AK5:AM7,1)","v":2}]
[null,{"$f":"COUNTIF(Game!A6:C8,1)","v":0},{"$f":"COUNTIF(Game!B6:D8,1)","v":1},{"$f":"COUNTIF(Game!C6:E8,1)","v":3},{"$f":"COUNTIF(Game!D6:F8,1)","v":5},{"$f":"COUNTIF(Game!E6:G8,1)","v":4},{"$f":"COUNTIF(Game!F6:H8,1)","v":2},{"$f":"COUNTIF(Game!G6:I8,1)","v":0},{"$f":"COUNTIF(Game!H6:J8,1)","v":0},{"$f":"COUNTIF(Game!I6:K8,1)","v":0},{"$f":"COUNTIF(Game!J6:L8,1)","v":0},{"$f":"COUNTIF(Game!K6:M8,1)","v":0},{"$f":"COUNTIF(Game!L6:N8,1)","v":0},{"$f":"COUNTIF(Game!M6:O8,1)","v":0},{"$f":"COUNTIF(Game!N6:P8,1)","v":0},{"$f":"COUNTIF(Game!O6:Q8,1)","v":0},{"$f":"COUNTIF(Game!P6:R8,1)","v":0},{"$f":"COUNTIF(Game!Q6:S8,1)","v":0},{"$f":"COUNTIF(Game!R6:T8,1)","v":0},{"$f":"COUNTIF(Game!S6:U8,1)","v":0},{"$f":"COUNTIF(Game!T6:V8,1)","v":0},{"$f":"COUNTIF(Game!U6:W8,1)","v":0},{"$f":"COUNTIF(Game!V6:X8,1)","v":1},{"$f":"COUNTIF(Game!W6:Y8,1)","v":2},{"$f":"COUNTIF(Game!X6:Z8,1)","v":3},{"$f":"COUNTIF(Game!Y6:AA8,1)","v":3},{"$f":"COUNTIF(Game!Z6:AB8,1)","v":2},{"$f":"COUNTIF(Game!AA6:AC8,1)","v":1},{"$f":"COUNTIF(Game!AB6:AD8,1)","v":0},{"$f":"COUNTIF(Game!AC6:AE8,1)","v":2},{"$f":"COUNTIF(Game!AD6:AF8,1)","v":4},{"$f":"COUNTIF(Game!AE6:AG8,1)","v":4},{"$f":"COUNTIF(Game!AF6:AH8,1)","v":2},{"$f":"COUNTIF(Game!AG6:AI8,1)","v":0},{"$f":"COUNTIF(Game!AH6:AJ8,1)","v":2},{"$f":"COUNTIF(Game!AI6:AK8,1)","v":4},{"$f":"COUNTIF(Game!AJ6:AL8,1)","v":4},{"$f":"COUNTIF(Game!AK6:AM8,1)","v":2}]
[null,{"$f":"COUNTIF(Game!A7:C9,1)","v":0},{"$f":"COUNTIF(Game!B7:D9,1)","v":1},{"$f":"COUNTIF(Game!C7:E9,1)","v":2},{"$f":"COUNTIF(Game!D7:F9,1)","v":4},{"$f":"COUNTIF(Game!E7:G9,1)","v":3},{"$f":"COUNTIF(Game!F7:H9,1)","v":2},{"$f":"COUNTIF(Game!G7:I9,1)","v":0},{"$f":"COUNTIF(Game!H7:J9,1)","v":0},{"$f":"COUNTIF(Game!I7:K9,1)","v":0},{"$f":"COUNTIF(Game!J7:L9,1)","v":0},{"$f":"COUNTIF(Game!K7:M9,1)","v":0},{"$f":"COUNTIF(Game!L7:N9,1)","v":0},{"$f":"COUNTIF(Game!M7:O9,1)","v":0},{"$f":"COUNTIF(Game!N7:P9,1)","v":0},{"$f":"COUNTIF(Game!O7:Q9,1)","v":0},{"$f":"COUNTIF(Game!P7:R9,1)","v":0},{"$f":"COUNTIF(Game!Q7:S9,1)","v":0},{"$f":"COUNTIF(Game!R7:T9,1)","v":1},{"$f":"COUNTIF(Game!S7:U9,1)","v":2},{"$f":"COUNTIF(Game!T7:V9,1)","v":2},{"$f":"COUNTIF(Game!U7:W9,1)","v":1},{"$f":"COUNTIF(Game!V7:X9,1)","v":0},{"$f":"COUNTIF(Game!W7:Y9,1)","v":1},{"$f":"COUNTIF(Game!X7:Z9,1)","v":2},{"$f":"COUNTIF(Game!Y7:AA9,1)","v":2},{"$f":"COUNTIF(Game!Z7:AB9,1)","v":1},{"$f":"COUNTIF(Game!AA7:AC9,1)","v":0},{"$f":"COUNTIF(Game!AB7:AD9,1)","v":0},{"$f":"COUNTIF(Game!AC7:AE9,1)","v":2},{"$f":"COUNTIF(Game!AD7:AF9,1)","v":4},{"$f":"COUNTIF(Game!AE7:AG9,1)","v":4},{"$f":"COUNTIF(Game!AF7:AH9,1)","v":2},{"$f":"COUNTIF(Game!AG7:AI9,1)","v":0},{"$f":"COUNTIF(Game!AH7:AJ9,1)","v":1},{"$f":"COUNTIF(Game!AI7:AK9,1)","v":2},{"$f":"COUNTIF(Game!AJ7:AL9,1)","v":2},{"$f":"COUNTIF(Game!AK7:AM9,1)","v":1}]
[null,{"$f":"COUNTIF(Game!A8:C10,1)","v":0},{"$f":"COUNTIF(Game!B8:D10,1)","v":0},{"$f":"COUNTIF(Game!C8:E10,1)","v":1},{"$f":"COUNTIF(Game!D8:F10,1)","v":2},{"$f":"COUNTIF(Game!E8:G10,1)","v":2},{"$f":"COUNTIF(Game!F8:H10,1)","v":1},{"$f":"COUNTIF(Game!G8:I10,1)","v":0},{"$f":"COUNTIF(Game!H8:J10,1)","v":0},{"$f":"COUNTIF(Game!I8:K10,1)","v":0},{"$f":"COUNTIF(Game!J8:L10,1)","v":0},{"$f":"COUNTIF(Game!K8:M10,1)","v":0},{"$f":"COUNTIF(Game!L8:N10,1)","v":0},{"$f":"COUNTIF(Game!M8:O10,1)","v":0},{"$f":"COUNTIF(Game!N8:P10,1)","v":0},{"$f":"COUNTIF(Game!O8:Q10,1)","v":0},{"$f":"COUNTIF(Game!P8:R10,1)","v":0},{"$f":"COUNTIF(Game!Q8:S10,1)","v":0},{"$f":"COUNTIF(Game!R8:T10,1)","v":2},{"$f":"COUNTIF(Game!S8:U10,1)","v":4},{"$f":"COUNTIF(Game!T8:V10,1)","v":4},{"$f":"COUNTIF(Game!U8:W10,1)","v":2},{"$f":"COUNTIF(Game!V8:X10,1)","v":0},{"$f":"COUNTIF(Game!W8:Y10,1)","v":0},{"$f":"COUNTIF(Game!X8:Z10,1)","v":0},{"$f":"COUNTIF(Game!Y8:AA10,1)","v":0},{"$f":"COUNTIF(Game!Z8:AB10,1)","v":0},{"$f":"COUNTIF(Game!AA8:AC10,1)","v":0},{"$f":"COUNTIF(Game!AB8:AD10,1)","v":0},{"$f":"COUNTIF(Game!AC8:AE10,1)","v":1},{"$f":"COUNTIF(Game!AD8:AF10,1)","v":2},{"$f":"COUNTIF(Game!AE8:AG10,1)","v":2},{"$f":"COUNTIF(Game!AF8:AH10,1)","v":1},{"$f":"COUNTIF(Game!AG8:AI10,1)","v":0},{"$f":"COUNTIF(Game!AH8:AJ10,1)","v":0},{"$f":"COUNTIF(Game!AI8:AK10,1)","v":0},{"$f":"COUNTIF(Game!AJ8:AL10,1)","v":0},{"$f":"COUNTIF(Game!AK8:AM10,1)","v":0}]
[null,{"$f":"COUNTIF(Game!A9:C11,1)","v":0},{"$f":"COUNTIF(Game!B9:D11,1)","v":0},{"$f":"COUNTIF(Game!C9:E11,1)","v":0},{"$f":"COUNTIF(Game!D9:F11,1)","v":0},{"$f":"COUNTIF(Game!E9:G11,1)","v":0},{"$f":"COUNTIF(Game!F9:H11,1)","v":0},{"$f":"COUNTIF(Game!G9:I11,1)","v":0},{"$f":"COUNTIF(Game!H9:J11,1)","v":0},{"$f":"COUNTIF(Game!I9:K11,1)","v":0},{"$f":"COUNTIF(Game!J9:L11,1)","v":0},{"$f":"COUNTIF(Game!K9:M11,1)","v":0},{"$f":"COUNTIF(Game!L9:N11,1)","v":0},{"$f":"COUNTIF(Game!M9:O11,1)","v":0},{"$f":"COUNTIF(Game!N9:P11,1)","v":0},{"$f":"COUNTIF(Game!O9:Q11,1)","v":0},{"$f":"COUNTIF(Game!P9:R11,1)","v":0},{"$f":"COUNTIF(Game!Q9:S11,1)","v":0},{"$f":"COUNTIF(Game!R9:T11,1)","v":2},{"$f":"COUNTIF(Game!S9:U11,1)","v":4},{"$f":"COUNTIF(Game!T9:V11,1)","v":4},{"$f":"COUNTIF(Game!U9:W11,1)","v":2},{"$f":"COUNTIF(Game!V9:X11,1)","v":0},{"$f":"COUNTIF(Game!W9:Y11,1)","v":0},{"$f":"COUNTIF(Game!X9:Z11,1)","v":0},{"$f":"COUNTIF(Game!Y9:AA11,1)","v":0},{"$f":"COUNTIF(Game!Z9:AB11,1)","v":0},{"$f":"COUNTIF(Game!AA9:AC11,1)","v":0},{"$f":"COUNTIF(Game!AB9:AD11,1)","v":0},{"$f":"COUNTIF(Game!AC9:AE11,1)","v":0},{"$f":"COUNTIF(Game!AD9:AF11,1)","v":0},{"$f":"COUNTIF(Game!AE9:AG11,1)","v":0},{"$f":"COUNTIF(Game!AF9:AH11,1)","v":0},{"$f":"COUNTIF(Game!AG9:AI11,1)","v":0},{"$f":"COUNTIF(Game!AH9:AJ11,1)","v":0},{"$f":"COUNTIF(Game!AI9:AK11,1)","v":0},{"$f":"COUNTIF(Game!AJ9:AL11,1)","v":0},{"$f":"COUNTIF(Game!AK9:AM11,1)","v":0}]
[null,{"$f":"COUNTIF(Game!A10:C12,1)","v":0},{"$f":"COUNTIF(Game!B10:D12,1)","v":0},{"$f":"COUNTIF(Game!C10:E12,1)","v":0},{"$f":"COUNTIF(Game!D10:F12,1)","v":0},{"$f":"COUNTIF(Game!E10:G12,1)","v":0},{"$f":"COUNTIF(Game!F10:H12,1)","v":0},{"$f":"COUNTIF(Game!G10:I12,1)","v":0},{"$f":"COUNTIF(Game!H10:J12,1)","v":0},{"$f":"COUNTIF(Game!I10:K12,1)","v":0},{"$f":"COUNTIF(Game!J10:L12,1)","v":0},{"$f":"COUNTIF(Game!K10:M12,1)","v":0},{"$f":"COUNTIF(Game!L10:N12,1)","v":0},{"$f":"COUNTIF(Game!M10:O12,1)","v":0},{"$f":"COUNTIF(Game!N10:P12,1)","v":0},{"$f":"COUNTIF(Game!O10:Q12,1)","v":0},{"$f":"COUNTIF(Game!P10:R12,1)","v":0},{"$f":"COUNTIF(Game!Q10:S12,1)","v":0},{"$f":"COUNTIF(Game!R10:T12,1)","v":1},{"$f":"COUNTIF(Game!S10:U12,1)","v":2},{"$f":"COUNTIF(Game!T10:V12,1)","v":2},{"$f":"COUNTIF(Game!U10:W12,1)","v":1},{"$f":"COUNTIF(Game!V10:X12,1)","v":0},{"$f":"COUNTIF(Game!W10:Y12,1)","v":0},{"$f":"COUNTIF(Game!X10:Z12,1)","v":0},{"$f":"COUNTIF(Game!Y10:AA12,1)","v":0},{"$f":"COUNTIF(Game!Z10:AB12,1)","v":0},{"$f":"COUNTIF(Game!AA10:AC12,1)","v":0},{"$f":"COUNTIF(Game!AB10:AD12,1)","v":0},{"$f":"COUNTIF(Game!AC10:AE12,1)","v":0},{"$f":"COUNTIF(Game!AD10:AF12,1)","v":0},{"$f":"COUNTIF(Game!AE10:AG12,1)","v":0},{"$f":"COUNTIF(Game!AF10:AH12,1)","v":0},{"$f":"COUNTIF(Game!AG10:AI12,1)","v":0},{"$f":"COUNTIF(Game!AH10:AJ12,1)","v":0},{"$f":"COUNTIF(Game!AI10:AK12,1)","v":0},{"$f":"COUNTIF(Game!AJ10:AL12,1)","v":0},{"$f":"COUNTIF(Game!AK10:AM12,1)","v":0}]
[null,{"$f":"COUNTIF(Game!A11:C13,1)","v":0},{"$f":"COUNTIF(Game!B11:D13,1)","v":0},{"$f":"COUNTIF(Game!C11:E13,1)","v":0},{"$f":"COUNTIF(Game!D11:F13,1)","v":0},{"$f":"COUNTIF(Game!E11:G13,1)","v":0},{"$f":"COUNTIF(Game!F11:H13,1)","v":0},{"$f":"COUNTIF(Game!G11:I13,1)","v":0},{"$f":"COUNTIF(Game!H11:J13,1)","v":0},{"$f":"COUNTIF(Game!I11:K13,1)","v":0},{"$f":"COUNTIF(Game!J11:L13,1)","v":0},{"$f":"COUNTIF(Game!K11:M13,1)","v":0},{"$f":"COUNTIF(Game!L11:N13,1)","v":0},{"$f":"COUNTIF(Game!M11:O13,1)","v":0},{"$f":"COUNTIF(Game!N11:P13,1)","v":0},{"$f":"COUNTIF(Game!O11:Q13,1)","v":0},{"$f":"COUNTIF(Game!P11:R13,1)","v":0},{"$f":"COUNTIF(Game!Q11:S13,1)","v":0},{"$f":"COUNTIF(Game!R11:T13,1)","v":0},{"$f":"COUNTIF(Game!S11:U13,1)","v":0},{"$f":"COUNTIF(Game!T11:V13,1)","v":0},{"$f":"COUNTIF(Game!U11:W13,1)","v":0},{"$f":"COUNTIF(Game!V11:X13,1)","v":0},{"$f":"COUNTIF(Game!W11:Y13,1)","v":0},{"$f":"COUNTIF(Game!X11:Z13,1)","v":0},{"$f":"COUNTIF(Game!Y11:AA13,1)","v":0},{"$f":"COUNTIF(Game!Z11:AB13,1)","v":0},{"$f":"COUNTIF(Game!AA11:AC13,1)","v":0},{"$f":"COUNTIF(Game!AB11:AD13,1)","v":0},{"$f":"COUNTIF(Game!AC11:AE13,1)","v":0},{"$f":"COUNTIF(Game!AD11:AF13,1)","v":0},{"$f":"COUNTIF(Game!AE11:AG13,1)","v":0},{"$f":"COUNTIF(Game!AF11:AH13,1)","v":0},{"$f":"COUNTIF(Game!AG11:AI13,1)","v":0},{"$f":"COUNTIF(Game!AH11:AJ13,1)","v":0},{"$f":"COUNTIF(Game!AI11:AK13,1)","v":0},{"$f":"COUNTIF(Game!AJ11:AL13,1)","v":0},{"$f":"COUNTIF(Game!AK11:AM13,1)","v":0}]
[null,{"$f":"COUNTIF(Game!A12:C14,1)","v":0},{"$f":"COUNTIF(Game!B12:D14,1)","v":0},{"$f":"COUNTIF(Game!C12:E14,1)","v":0},{"$f":"COUNTIF(Game!D12:F14,1)","v":0},{"$f":"COUNTIF(Game!E12:G14,1)","v":0},{"$f":"COUNTIF(Game!F12:H14,1)","v":0},{"$f":"COUNTIF(Game!G12:I14,1)","v":0},{"$f":"COUNTIF(Game!H12:J14,1)","v":0},{"$f":"COUNTIF(Game!I12:K14,1)","v":0},{"$f":"COUNTIF(Game!J12:L14,1)","v":0},{"$f":"COUNTIF(Game!K12:M14,1)","v":0},{"$f":"COUNTIF(Game!L12:N14,1)","v":0},{"$f":"COUNTIF(Game!M12:O14,1)","v":0},{"$f":"COUNTIF(Game!N12:P14,1)","v":0},{"$f":"COUNTIF(Game!O12:Q14,1)","v":0},{"$f":"COUNTIF(Game!P12:R14,1)","v":0},{"$f":"COUNTIF(Game!Q12:S14,1)","v":0},{"$f":"COUNTIF(Game!R12:T14,1)","v":0},{"$f":"COUNTIF(Game!S12:U14,1)","v":0},{"$f":"COUNTIF(Game!T12:V14,1)","v":0},{"$f":"COUNTIF(Game!U12:W14,1)","v":0},{"$f":"COUNTIF(Game!V12:X14,1)","v":0},{"$f":"COUNTIF(Game!W12:Y14,1)","v":0},{"$f":"COUNTIF(Game!X12:Z14,1)","v":0},{"$f":"COUNTIF(Game!Y12:AA14,1)","v":0},{"$f":"COUNTIF(Game!Z12:AB14,1)","v":0},{"$f":"COUNTIF(Game!AA12:AC14,1)","v":0},{"$f":"COUNTIF(Game!AB12:AD14,1)","v":0},{"$f":"COUNTIF(Game!AC12:AE14,1)","v":0},{"$f":"COUNTIF(Game!AD12:AF14,1)","v":0},{"$f":"COUNTIF(Game!AE12:AG14,1)","v":0},{"$f":"COUNTIF(Game!AF12:AH14,1)","v":0},{"$f":"COUNTIF(Game!AG12:AI14,1)","v":0},{"$f":"COUNTIF(Game!AH12:AJ14,1)","v":0},{"$f":"COUNTIF(Game!AI12:AK14,1)","v":0},{"$f":"COUNTIF(Game!AJ12:AL14,1)","v":0},{"$f":"COUNTIF(Game!AK12:AM14,1)","v":0}]
[null,{"$f":"COUNTIF(Game!A13:C15,1)","v":0},{"$f":"COUNTIF(Game!B13:D15,1)","v":0},{"$f":"COUNTIF(Game!C13:E15,1)","v":0},{"$f":"COUNTIF(Game!D13:F15,1)","v":0},{"$f":"COUNTIF(Game!E13:G15,1)","v":0},{"$f":"COUNTIF(Game!F13:H15,1)","v":0},{"$f":"COUNTIF(Game!G13:I15,1)","v":0},{"$f":"COUNTIF(Game!H13:J15,1)","v":0},{"$f":"COUNTIF(Game!I13:K15,1)","v":0},{"$f":"COUNTIF(Game!J13:L15,1)","v":0},{"$f":"COUNTIF(Game!K13:M15,1)","v":0},{"$f":"COUNTIF(Game!L13:N15,1)","v":0},{"$f":"COUNTIF(Game!M13:O15,1)","v":0},{"$f":"COUNTIF(Game!N13:P15,1)","v":0},{"$f":"COUNTIF(Game!O13:Q15,1)","v":0},{"$f":"COUNTIF(Game!P13:R15,1)","v":0},{"$f":"COUNTIF(Game!Q13:S15,1)","v":0},{"$f":"COUNTIF(Game!R13:T15,1)","v":0},{"$f":"COUNTIF(Game!S13:U15,1)","v":0},{"$f":"COUNTIF(Game!T13:V15,1)","v":0},{"$f":"COUNTIF(Game!U13:W15,1)","v":0},{"$f":"COUNTIF(Game!V13:X15,1)","v":0},{"$f":"COUNTIF(Game!W13:Y15,1)","v":0},{"$f":"COUNTIF(Game!X13:Z15,1)","v":0},{"$f":"COUNTIF(Game!Y13:AA15,1)","v":0},{"$f":"COUNTIF(Game!Z13:AB15,1)","v":0},{"$f":"COUNTIF(Game!AA13:AC15,1)","v":0},{"$f":"COUNTIF(Game!AB13:AD15,1)","v":0},{"$f":"COUNTIF(Game!AC13:AE15,1)","v":0},{"$f":"COUNTIF(Game!AD13:AF15,1)","v":0},{"$f":"COUNTIF(Game!AE13:AG15,1)","v":0},{"$f":"COUNTIF(Game!AF13:AH15,1)","v":0},{"$f":"COUNTIF(Game!AG13:AI15,1)","v":0},{"$f":"COUNTIF(Game!AH13:AJ15,1)","v":0},{"$f":"COUNTIF(Game!AI13:AK15,1)","v":0},{"$f":"COUNTIF(Game!AJ13:AL15,1)","v":0},{"$f":"COUNTIF(Game!AK13:AM15,1)","v":0}]
[null,{"$f":"COUNTIF(Game!A14:C16,1)","v":0},{"$f":"COUNTIF(Game!B14:D16,1)","v":0},{"$f":"COUNTIF(Game!C14:E16,1)","v":0},{"$f":"COUNTIF(Game!D14:F16,1)","v":0},{"$f":"COUNTIF(Game!E14:G16,1)","v":0},{"$f":"COUNTIF(Game!F14:H16,1)","v":0},{"$f":"COUNTIF(Game!G14:I16,1)","v":0},{"$f":"COUNTIF(Game!H14:J16,1)","v":0},{"$f":"COUNTIF(Game!I14:K16,1)","v":1},{"$f":"COUNTIF(Game!J14:L16,1)","v":1},{"$f":"COUNTIF(Game!K14:M16,1)","v":1},{"$f":"COUNTIF(Game!L14:N16,1)","v":0},{"$f":"COUNTIF(Game!M14:O16,1)","v":0},{"$f":"COUNTIF(Game!N14:P16,1)","v":0},{"$f":"COUNTIF(Game!O14:Q16,1)","v":0},{"$f":"COUNTIF(Game!P14:R16,1)","v":0},{"$f":"COUNTIF(Game!Q14:S16,1)","v":0},{"$f":"COUNTIF(Game!R14:T16,1)","v":0},{"$f":"COUNTIF(Game!S14:U16,1)","v":0},{"$f":"COUNTIF(Game!T14:V16,1)","v":0},{"$f":"COUNTIF(Game!U14:W16,1)","v":0},{"$f":"COUNTIF(Game!V14:X16,1)","v":0},{"$f":"COUNTIF(Game!W14:Y16,1)","v":0},{"$f":"COUNTIF(Game!X14:Z16,1)","v":0},{"$f":"COUNTIF(Game!Y14:AA16,1)","v":0},{"$f":"COUNTIF(Game!Z14:AB16,1)","v":0},{"$f":"COUNTIF(Game!AA14:AC16,1)","v":0},{"$f":"COUNTIF(Game!AB14:AD16,1)","v":0},{"$f":"COUNTIF(Game!AC14:AE16,1)","v":0},{"$f":"COUNTIF(Game!AD14:AF16,1)","v":0},{"$f":"COUNTIF(Game!AE14:AG16,1)","v":0},{"$f":"COUNTIF(Game!AF14:AH16,1)","v":0},{"$f":"COUNTIF(Game!AG14:AI16,1)","v":0},{"$f":"COUNTIF(Game!AH14:AJ16,1)","v":0},{"$f":"COUNTIF(Game!AI14:AK16,1)","v":0},{"$f":"COUNTIF(Game!AJ14:AL16,1)","v":0},{"$f":"COUNTIF(Game!AK14:AM16,1)","v":0}]
[null,{"$f":"COUNTIF(Game!A15:C17,1)","v":0},{"$f":"COUNTIF(Game!B15:D17,1)","v":0},{"$f":"COUNTIF(Game!C15:E17,1)","v":0},{"$f":"COUNTIF(Game!D15:F17,1)","v":0},{"$f":"COUNTIF(Game!E15:G17,1)","v":0},{"$f":"COUNTIF(Game!F15:H17,1)","v":0},{"$f":"COUNTIF(Game!G15:I17,1)","v":0},{"$f":"COUNTIF(Game!H15:J17,1)","v":1},{"$f":"COUNTIF(Game!I15:K17,1)","v":3},{"$f":"COUNTIF(Game!J15:L17,1)","v":3},{"$f":"COUNTIF(Game!K15:M17,1)","v":2},{"$f":"COUNTIF(Game!L15:N17,1)","v":0},{"$f":"COUNTIF(Game!M15:O17,1)","v":0},{"$f":"COUNTIF(Game!N15:P17,1)","v":0},{"$f":"COUNTIF(Game!O15:Q17,1)","v":0},{"$f":"COUNTIF(Game!P15:R17,1)","v":0},{"$f":"COUNTIF(Game!Q15:S17,1)","v":0},{"$f":"COUNTIF(Game!R15:T17,1)","v":0},{"$f":"COUNTIF(Game!S15:U17,1)","v":0},{"$f":"COUNTIF(Game!T15:V17,1)","v":0},{"$f":"COUNTIF(Game!U15:W17,1)","v":0},{"$f":"COUNTIF(Game!V15:X17,1)","v":0},{"$f":"COUNTIF(Game!W15:Y17,1)","v":0},{"$f":"COUNTIF(Game!X15:Z17,1)","v":0},{"$f":"COUNTIF(Game!Y15:AA17,1)","v":0},{"$f":"COUNTIF(Game!Z15:AB17,1)","v":0},{"$f":"COUNTIF(Game!AA15:AC17,1)","v":0},{"$f":"COUNTIF(Game!AB15:AD17,1)","v":0},{"$f":"COUNTIF(Game!AC15:AE17,1)","v":0},{"$f":"COUNTIF(Game!AD15:AF17,1)","v":0},{"$f":"COUNTIF(Game!AE15:AG17,1)","v":0},{"$f":"COUNTIF(Game!AF15:AH17,1)","v":0},{"$f":"COUNTIF(Game!AG15:AI17,1)","v":0},{"$f":"COUNTIF(Game!AH15:AJ17,1)","v":0},{"$f":"COUNTIF(Game!AI15:AK17,1)","v":0},{"$f":"COUNTIF(Game!AJ15:AL17,1)","v":0},{"$f":"COUNTIF(Game!AK15:AM17,1)","v":0}]
[null,{"$f":"COUNTIF(Game!A16:C18,1)","v":0},{"$f":"COUNTIF(Game!B16:D18,1)","v":0},{"$f":"COUNTIF(Game!C16:E18,1)","v":0},{"$f":"COUNTIF(Game!D16:F18,1)","v":0},{"$f":"COUNTIF(Game!E16:G18,1)","v":0},{"$f":"COUNTIF(Game!F16:H18,1)","v":0},{"$f":"COUNTIF(Game!G16:I18,1)","v":0},{"$f":"COUNTIF(Game!H16:J18,1)","v":1},{"$f":"COUNTIF(Game!I16:K18,1)","v":3},{"$f":"COUNTIF(Game!J16:L18,1)","v":3},{"$f":"COUNTIF(Game!K16:M18,1)","v":2},{"$f":"COUNTIF(Game!L16:N18,1)","v":1},{"$f":"COUNTIF(Game!M16:O18,1)","v":2},{"$f":"COUNTIF(Game!N16:P18,1)","v":2},{"$f":"COUNTIF(Game!O16:Q18,1)","v":1},{"$f":"COUNTIF(Game!P16:R18,1)","v":0},{"$f":"COUNTIF(Game!Q16:S18,1)","v":0},{"$f":"COUNTIF(Game!R16:T18,1)","v":0},{"$f":"COUNTIF(Game!S16:U18,1)","v":0},{"$f":"COUNTIF(Game!T16:V18,1)","v":0},{"$f":"COUNTIF(Game!U16:W18,1)","v":0},{"$f":"COUNTIF(Game!V16:X18,1)","v":0},{"$f":"COUNTIF(Game!W16:Y18,1)","v":0},{"$f":"COUNTIF(Game!X16:Z18,1)","v":0},{"$f":"COUNTIF(Game!Y16:AA18,1)","v":0},{"$f":"COUNTIF(Game!Z16:AB18,1)","v":0},{"$f":"COUNTIF(Game!AA16:AC18,1)","v":0},{"$f":"COUNTIF(Game!AB16:AD18,1)","v":0},{"$f":"COUNTIF(Game!AC16:AE18,1)","v":0},{"$f":"COUNTIF(Game!AD16:AF18,1)","v":0},{"$f":"COUNTIF(Game!AE16:AG18,1)","v":0},{"$f":"COUNTIF(Game!AF16:AH18,1)","v":0},{"$f":"COUNTIF(Game!AG16:AI18,1)","v":0},{"$f":"COUNTIF(Game!AH16:AJ18,1)","v":0},{"$f":"COUNTIF(Game!AI16:AK18,1)","v":0},{"$f":"COUNTIF(Game!AJ16:AL18,1)","v":0},{"$f":"COUNTIF(Game!AK16:AM18,1)","v":0}]
[null,{"$f":"COUNTIF(Game!A17:C19,1)","v":0},{"$f":"COUNTIF(Game!B17:D19,1)","v":0},{"$f":"COUNTIF(Game!C17:E19,1)","v":0},{"$f":"COUNTIF(Game!D17:F19,1)","v":0},{"$f":"COUNTIF(Game!E17:G19,1)","v":0},{"$f":"COUNTIF(Game!F17:H19,1)","v":0},{"$f":"COUNTIF(Game!G17:I19,1)","v":0},{"$f":"COUNTIF(Game!H17:J19,1)","v":1},{"$f":"COUNTIF(Game!I17:K19,1)","v":2},{"$f":"COUNTIF(Game!J17:L19,1)","v":3},{"$f":"COUNTIF(Game!K17:M19,1)","v":2},{"$f":"COUNTIF(Game!L17:N19,1)","v":2},{"$f":"COUNTIF(Game!M17:O19,1)","v":3},{"$f":"COUNTIF(Game!N17:P19,1)","v":4},{"$f":"COUNTIF(Game!O17:Q19,1)","v":3},{"$f":"COUNTIF(Game!P17:R19,1)","v":1},{"$f":"COUNTIF(Game!Q17:S19,1)","v":0},{"$f":"COUNTIF(Game!R17:T19,1)","v":0},{"$f":"COUNTIF(Game!S17:U19,1)","v":0},{"$f":"COUNTIF(Game!T17:V19,1)","v":0},{"$f":"COUNTIF(Game!U17:W19,1)","v":0},{"$f":"COUNTIF(Game!V17:X19,1)","v":0},{"$f":"COUNTIF(Game!W17:Y19,1)","v":0},{"$f":"COUNTIF(Game!X17:Z19,1)","v":0},{"$f":"COUNTIF(Game!Y17:AA19,1)","v":0},{"$f":"COUNTIF(Game!Z17:AB19,1)","v":0},{"$f":"COUNTIF(Game!AA17:AC19,1)","v":0},{"$f":"COUNTIF(Game!AB17:AD19,1)","v":0},{"$f":"COUNTIF(Game!AC17:AE19,1)","v":0},{"$f":"COUNTIF(Game!AD17:AF19,1)","v":0},{"$f":"COUNTIF(Game!AE17:AG19,1)","v":0},{"$f":"COUNTIF(Game!AF17:AH19,1)","v":0},{"$f":"COUNTIF(Game!AG17:AI19,1)","v":1},{"$f":"COUNTIF(Game!AH17:AJ19,1)","v":1},{"$f":"COUNTIF(Game!AI17:AK19,1)","v":1},{"$f":"COUNTIF(Game!AJ17:AL19,1)","v":0},{"$f":"COUNTIF(Game!AK17:AM19,1)","v":0}]
[null,{"$f":"COUNTIF(Game!A18:C20,1)","v":0},{"$f":"COUNTIF(Game!B18:D20,1)","v":0},{"$f":"COUNTIF(Game!C18:E20,1)","v":0},{"$f":"COUNTIF(Game!D18:F20,1)","v":0},{"$f":"COUNTIF(Game!E18:G20,1)","v":0},{"$f":"COUNTIF(Game!F18:H20,1)","v":0},{"$f":"COUNTIF(Game!G18:I20,1)","v":0},{"$f":"COUNTIF(Game!H18:J20,1)","v":0},{"$f":"COUNTIF(Game!I18:K20,1)","v":1},{"$f":"COUNTIF(Game!J18:L20,1)","v":2},{"$f":"COUNTIF(Game!K18:M20,1)","v":2},{"$f":"COUNTIF(Game!L18:N20,1)","v":2},{"$f":"COUNTIF(Game!M18:O20,1)","v":3},{"$f":"COUNTIF(Game!N18:P20,1)","v":4},{"$f":"COUNTIF(Game!O18:Q20,1)","v":3},{"$f":"COUNTIF(Game!P18:R20,1)","v":1},{"$f":"COUNTIF(Game!Q18:S20,1)","v":0},{"$f":"COUNTIF(Game!R18:T20,1)","v":0},{"$f":"COUNTIF(Game!S18:U20,1)","v":0},{"$f":"COUNTIF(Game!T18:V20,1)","v":0},{"$f":"COUNTIF(Game!U18:W20,1)","v":0},{"$f":"COUNTIF(Game!V18:X20,1)","v":0},{"$f":"COUNTIF(Game!W18:Y20,1)","v":0},{"$f":"COUNTIF(Game!X18:Z20,1)","v":0},{"$f":"COUNTIF(Game!Y18:AA20,1)","v":0},{"$f":"COUNTIF(Game!Z18:AB20,1)","v":0},{"$f":"COUNTIF(Game!AA18:AC20,1)","v":0},{"$f":"COUNTIF(Game!AB18:AD20,1)","v":0},{"$f":"COUNTIF(Game!AC18:AE20,1)","v":0},{"$f":"COUNTIF(Game!AD18:AF20,1)","v":0},{"$f":"COUNTIF(Game!AE18:AG20,1)","v":0},{"$f":"COUNTIF(Game!AF18:AH20,1)","v":0},{"$f":"COUNTIF(Game!AG18:AI20,1)","v":2},{"$f":"COUNTIF(Game!AH18:AJ20,1)","v":2},{"$f":"COUNTIF(Game!AI18:AK20,1)","v":2},{"$f":"COUNTIF(Game!AJ18:AL20,1)","v":0},{"$f":"COUNTIF(Game!AK18:AM20,1)","v":0}]
[null,{"$f":"COUNTIF(Game!A19:C21,1)","v":0},{"$f":"COUNTIF(Game!B19:D21,1)","v":0},{"$f":"COUNTIF(Game!C19:E21,1)","v":0},{"$f":"COUNTIF(Game!D19:F21,1)","v":0},{"$f":"COUNTIF(Game!E19:G21,1)","v":0},{"$f":"COUNTIF(Game!F19:H21,1)","v":0},{"$f":"COUNTIF(Game!G19:I21,1)","v":0},{"$f":"COUNTIF(Game!H19:J21,1)","v":0},{"$f":"COUNTIF(Game!I19:K21,1)","v":1},{"$f":"COUNTIF(Game!J19:L21,1)","v":2},{"$f":"COUNTIF(Game!K19:M21,1)","v":2},{"$f":"COUNTIF(Game!L19:N21,1)","v":1},{"$f":"COUNTIF(Game!M19:O21,1)","v":1},{"$f":"COUNTIF(Game!N19:P21,1)","v":2},{"$f":"COUNTIF(Game!O19:Q21,1)","v":2},{"$f":"COUNTIF(Game!P19:R21,1)","v":1},{"$f":"COUNTIF(Game!Q19:S21,1)","v":0},{"$f":"COUNTIF(Game!R19:T21,1)","v":0},{"$f":"COUNTIF(Game!S19:U21,1)","v":0},{"$f":"COUNTIF(Game!T19:V21,1)","v":0},{"$f":"COUNTIF(Game!U19:W21,1)","v":0},{"$f":"COUNTIF(Game!V19:X21,1)","v":0},{"$f":"COUNTIF(Game!W19:Y21,1)","v":0},{"$f":"COUNTIF(Game!X19:Z21,1)","v":0},{"$f":"COUNTIF(Game!Y19:AA21,1)","v":1},{"$f":"COUNTIF(Game!Z19:AB21,1)","v":1},{"$f":"COUNTIF(Game!AA19:AC21,1)","v":1},{"$f":"COUNTIF(Game!AB19:AD21,1)","v":0},{"$f":"COUNTIF(Game!AC19:AE21,1)","v":0},{"$f":"COUNTIF(Game!AD19:AF21,1)","v":1},{"$f":"COUNTIF(Game!AE19:AG21,1)","v":1},{"$f":"COUNTIF(Game!AF19:AH21,1)","v":2},{"$f":"COUNTIF(Game!AG19:AI21,1)","v":4},{"$f":"COUNTIF(Game!AH19:AJ21,1)","v":4},{"$f":"COUNTIF(Game!AI19:AK21,1)","v":3},{"$f":"COUNTIF(Game!AJ19:AL21,1)","v":0},{"$f":"COUNTIF(Game!AK19:AM21,1)","v":0}]
[null,{"$f":"COUNTIF(Game!A20:C22,1)","v":0},{"$f":"COUNTIF(Game!B20:D22,1)","v":0},{"$f":"COUNTIF(Game!C20:E22,1)","v":0},{"$f":"COUNTIF(Game!D20:F22,1)","v":0},{"$f":"COUNTIF(Game!E20:G22,1)","v":0},{"$f":"COUNTIF(Game!F20:H22,1)","v":0},{"$f":"COUNTIF(Game!G20:I22,1)","v":0},{"$f":"COUNTIF(Game!H20:J22,1)","v":0},{"$f":"COUNTIF(Game!I20:K22,1)","v":1},{"$f":"COUNTIF(Game!J20:L22,1)","v":1},{"$f":"COUNTIF(Game!K20:M22,1)","v":1},{"$f":"COUNTIF(Game!L20:N22,1)","v":0},{"$f":"COUNTIF(Game!M20:O22,1)","v":0},{"$f":"COUNTIF(Game!N20:P22,1)","v":0},{"$f":"COUNTIF(Game!O20:Q22,1)","v":0},{"$f":"COUNTIF(Game!P20:R22,1)","v":0},{"$f":"COUNTIF(Game!Q20:S22,1)","v":0},{"$f":"COUNTIF(Game!R20:T22,1)","v":0},{"$f":"COUNTIF(Game!S20:U22,1)","v":0},{"$f":"COUNTIF(Game!T20:V22,1)","v":0},{"$f":"COUNTIF(Game!U20:W22,1)","v":0},{"$f":"COUNTIF(Game!V20:X22,1)","v":0},{"$f":"COUNTIF(Game!W20:Y22,1)","v":0},{"$f":"COUNTIF(Game!X20:Z22,1)","v":0},{"$f":"COUNTIF(Game!Y20:AA22,1)","v":2},{"$f":"COUNTIF(Game!Z20:AB22,1)","v":2},{"$f":"COUNTIF(Game!AA20:AC22,1)","v":2},{"$f":"COUNTIF(Game!AB20:AD22,1)","v":0},{"$f":"COUNTIF(Game!AC20:AE22,1)","v":1},{"$f":"COUNTIF(Game!AD20:AF22,1)","v":3},{"$f":"COUNTIF(Game!AE20:AG22,1)","v":4},{"$f":"COUNTIF(Game!AF20:AH22,1)","v":4},{"$f":"COUNTIF(Game!AG20:AI22,1)","v":4},{"$f":"COUNTIF(Game!AH20:AJ22,1)","v":3},{"$f":"COUNTIF(Game!AI20:AK22,1)","v":2},{"$f":"COUNTIF(Game!AJ20:AL22,1)","v":0},{"$f":"COUNTIF(Game!AK20:AM22,1)","v":0}]
[null,{"$f":"COUNTIF(Game!A21:C23,1)","v":0},{"$f":"COUNTIF(Game!B21:D23,1)","v":0},{"$f":"COUNTIF(Game!C21:E23,1)","v":0},{"$f":"COUNTIF(Game!D21:F23,1)","v":0},{"$f":"COUNTIF(Game!E21:G23,1)","v":0},{"$f":"COUNTIF(Game!F21:H23,1)","v":0},{"$f":"COUNTIF(Game!G21:I23,1)","v":0},{"$f":"COUNTIF(Game!H21:J23,1)","v":0},{"$f":"COUNTIF(Game!I21:K23,1)","v":0},{"$f":"COUNTIF(Game!J21:L23,1)","v":0},{"$f":"COUNTIF(Game!K21:M23,1)","v":0},{"$f":"COUNTIF(Game!L21:N23,1)","v":0},{"$f":"COUNTIF(Game!M21:O23,1)","v":0},{"$f":"COUNTIF(Game!N21:P23,1)","v":0},{"$f":"COUNTIF(Game!O21:Q23,1)","v":0},{"$f":"COUNTIF(Game!P21:R23,1)","v":0},{"$f":"COUNTIF(Game!Q21:S23,1)","v":0},{"$f":"COUNTIF(Game!R21:T23,1)","v":0},{"$f":"COUNTIF(Game!S21:U23,1)","v":0},{"$f":"COUNTIF(Game!T21:V23,1)","v":0},{"$f":"COUNTIF(Game!U21:W23,1)","v":0},{"$f":"COUNTIF(Game!V21:X23,1)","v":0},{"$f":"COUNTIF(Game!W21:Y23,1)","v":0},{"$f":"COUNTIF(Game!X21:Z23,1)","v":0},{"$f":"COUNTIF(Game!Y21:AA23,1)","v":2},{"$f":"COUNTIF(Game!Z21:AB23,1)","v":2},{"$f":"COUNTIF(Game!AA21:AC23,1)","v":2},{"$f":"COUNTIF(Game!AB21:AD23,1)","v":1},{"$f":"COUNTIF(Game!AC21:AE23,1)","v":2},{"$f":"COUNTIF(Game!AD21:AF23,1)","v":4},{"$f":"COUNTIF(Game!AE21:AG23,1)","v":4},{"$f":"COUNTIF(Game!AF21:AH23,1)","v":4},{"$f":"COUNTIF(Game!AG21:AI23,1)","v":3},{"$f":"COUNTIF(Game!AH21:AJ23,1)","v":2},{"$f":"COUNTIF(Game!AI21:AK23,1)","v":1},{"$f":"COUNTIF(Game!AJ21:AL23,1)","v":0},{"$f":"COUNTIF(Game!AK21:AM23,1)","v":0}]
[null,{"$f":"COUNTIF(Game!A22:C24,1)","v":0},{"$f":"COUNTIF(Game!B22:D24,1)","v":0},{"$f":"COUNTIF(Game!C22:E24,1)","v":0},{"$f":"COUNTIF(Game!D22:F24,1)","v":0},{"$f":"COUNTIF(Game!E22:G24,1)","v":0},{"$f":"COUNTIF(Game!F22:H24,1)","v":0},{"$f":"COUNTIF(Game!G22:I24,1)","v":0},{"$f":"COUNTIF(Game!H22:J24,1)","v":0},{"$f":"COUNTIF(Game!I22:K24,1)","v":0},{"$f":"COUNTIF(Game!J22:L24,1)","v":0},{"$f":"COUNTIF(Game!K22:M24,1)","v":0},{"$f":"COUNTIF(Game!L22:N24,1)","v":0},{"$f":"COUNTIF(Game!M22:O24,1)","v":0},{"$f":"COUNTIF(Game!N22:P24,1)","v":0},{"$f":"COUNTIF(Game!O22:Q24,1)","v":0},{"$f":"COUNTIF(Game!P22:R24,1)","v":0},{"$f":"COUNTIF(Game!Q22:S24,1)","v":0},{"$f":"COUNTIF(Game!R22:T24,1)","v":0},{"$f":"COUNTIF(Game!S22:U24,1)","v":0},{"$f":"COUNTIF(Game!T22:V24,1)","v":0},{"$f":"COUNTIF(Game!U22:W24,1)","v":0},{"$f":"COUNTIF(Game!V22:X24,1)","v":0},{"$f":"COUNTIF(Game!W22:Y24,1)","v":0},{"$f":"COUNTIF(Game!X22:Z24,1)","v":0},{"$f":"COUNTIF(Game!Y22:AA24,1)","v":1},{"$f":"COUNTIF(Game!Z22:AB24,1)","v":1},{"$f":"COUNTIF(Game!AA22:AC24,1)","v":1},{"$f":"COUNTIF(Game!AB22:AD24,1)","v":1},{"$f":"COUNTIF(Game!AC22:AE24,1)","v":3},{"$f":"COUNTIF(Game!AD22:AF24,1)","v":4},{"$f":"COUNTIF(Game!AE22:AG24,1)","v":4},{"$f":"COUNTIF(Game!AF22:AH24,1)","v":2},{"$f":"COUNTIF(Game!AG22:AI24,1)","v":1},{"$f":"COUNTIF(Game!AH22:AJ24,1)","v":0},{"$f":"COUNTIF(Game!AI22:AK24,1)","v":1},{"$f":"COUNTIF(Game!AJ22:AL24,1)","v":2},{"$f":"COUNTIF(Game!AK22:AM24,1)","v":2}]
[null,{"$f":"COUNTIF(Game!A23:C25,1)","v":0},{"$f":"COUNTIF(Game!B23:D25,1)","v":0},{"$f":"COUNTIF(Game!C23:E25,1)","v":0},{"$f":"COUNTIF(Game!D23:F25,1)","v":0},{"$f":"COUNTIF(Game!E23:G25,1)","v":0},{"$f":"COUNTIF(Game!F23:H25,1)","v":0},{"$f":"COUNTIF(Game!G23:I25,1)","v":0},{"$f":"COUNTIF(Game!H23:J25,1)","v":0},{"$f":"COUNTIF(Game!I23:K25,1)","v":0},{"$f":"COUNTIF(Game!J23:L25,1)","v":0},{"$f":"COUNTIF(Game!K23:M25,1)","v":0},{"$f":"COUNTIF(Game!L23:N25,1)","v":0},{"$f":"COUNTIF(Game!M23:O25,1)","v":0},{"$f":"COUNTIF(Game!N23:P25,1)","v":0},{"$f":"COUNTIF(Game!O23:Q25,1)","v":0},{"$f":"COUNTIF(Game!P23:R25,1)","v":0},{"$f":"COUNTIF(Game!Q23:S25,1)","v":0},{"$f":"COUNTIF(Game!R23:T25,1)","v":0},{"$f":"COUNTIF(Game!S23:U25,1)","v":0},{"$f":"COUNTIF(Game!T23:V25,1)","v":0},{"$f":"COUNTIF(Game!U23:W25,1)","v":0},{"$f":"COUNTIF(Game!V23:X25,1)","v":0},{"$f":"COUNTIF(Game!W23:Y25,1)","v":0},{"$f":"COUNTIF(Game!X23:Z25,1)","v":0},{"$f":"COUNTIF(Game!Y23:AA25,1)","v":0},{"$f":"COUNTIF(Game!Z23:AB25,1)","v":0},{"$f":"COUNTIF(Game!AA23:AC25,1)","v":0},{"$f":"COUNTIF(Game!AB23:AD25,1)","v":1},{"$f":"COUNTIF(Game!AC23:AE25,1)","v":2},{"$f":"COUNTIF(Game!AD23:AF25,1)","v":2},{"$f":"COUNTIF(Game!AE23:AG25,1)","v":1},{"$f":"COUNTIF(Game!AF23:AH25,1)","v":0},{"$f":"COUNTIF(Game!AG23:AI25,1)","v":0},{"$f":"COUNTIF(Game!AH23:AJ25,1)","v":0},{"$f":"COUNTIF(Game!AI23:AK25,1)","v":1},{"$f":"COUNTIF(Game!AJ23:AL25,1)","v":3},{"$f":"COUNTIF(Game!AK23:AM25,1)","v":3}]
[null,{"$f":"COUNTIF(Game!A24:C26,1)","v":2},{"$f":"COUNTIF(Game!B24:D26,1)","v":3},{"$f":"COUNTIF(Game!C24:E26,1)","v":2},{"$f":"COUNTIF(Game!D24:F26,1)","v":2},{"$f":"COUNTIF(Game!E24:G26,1)","v":1},{"$f":"COUNTIF(Game!F24:H26,1)","v":1},{"$f":"COUNTIF(Game!G24:I26,1)","v":0},{"$f":"COUNTIF(Game!H24:J26,1)","v":0},{"$f":"COUNTIF(Game!I24:K26,1)","v":0},{"$f":"COUNTIF(Game!J24:L26,1)","v":0},{"$f":"COUNTIF(Game!K24:M26,1)","v":0},{"$f":"COUNTIF(Game!L24:N26,1)","v":0},{"$f":"COUNTIF(Game!M24:O26,1)","v":0},{"$f":"COUNTIF(Game!N24:P26,1)","v":0},{"$f":"COUNTIF(Game!O24:Q26,1)","v":0},{"$f":"COUNTIF(Game!P24:R26,1)","v":0},{"$f":"COUNTIF(Game!Q24:S26,1)","v":0},{"$f":"COUNTIF(Game!R24:T26,1)","v":0},{"$f":"COUNTIF(Game!S24:U26,1)","v":0},{"$f":"COUNTIF(Game!T24:V26,1)","v":0},{"$f":"COUNTIF(Game!U24:W26,1)","v":0},{"$f":"COUNTIF(Game!V24:X26,1)","v":0},{"$f":"COUNTIF(Game!W24:Y26,1)","v":0},{"$f":"COUNTIF(Game!X24:Z26,1)","v":0},{"$f":"COUNTIF(Game!Y24:AA26,1)","v":0},{"$f":"COUNTIF(Game!Z24:AB26,1)","v":0},{"$f":"COUNTIF(Game!AA24:AC26,1)","v":0},{"$f":"COUNTIF(Game!AB24:AD26,1)","v":0},{"$f":"COUNTIF(Game!AC24:AE26,1)","v":1},{"$f":"COUNTIF(Game!AD24:AF26,1)","v":1},{"$f":"COUNTIF(Game!AE24:AG26,1)","v":1},{"$f":"COUNTIF(Game!AF24:AH26,1)","v":0},{"$f":"COUNTIF(Game!AG24:AI26,1)","v":0},{"$f":"COUNTIF(Game!AH24:AJ26,1)","v":0},{"$f":"COUNTIF(Game!AI24:AK26,1)","v":2},{"$f":"COUNTIF(Game!AJ24:AL26,1)","v":5},{"$f":"COUNTIF(Game!AK24:AM26,1)","v":5}]
[null,{"$f":"COUNTIF(Game!A25:C27,1)","v":4},{"$f":"COUNTIF(Game!B25:D27,1)","v":6},{"$f":"COUNTIF(Game!C25:E27,1)","v":4},{"$f":"COUNTIF(Game!D25:F27,1)","v":4},{"$f":"COUNTIF(Game!E25:G27,1)","v":2},{"$f":"COUNTIF(Game!F25:H27,1)","v":2},{"$f":"COUNTIF(Game!G25:I27,1)","v":1},{"$f":"COUNTIF(Game!H25:J27,1)","v":1},{"$f":"COUNTIF(Game!I25:K27,1)","v":1},{"$f":"COUNTIF(Game!J25:L27,1)","v":0},{"$f":"COUNTIF(Game!K25:M27,1)","v":0},{"$f":"COUNTIF(Game!L25:N27,1)","v":0},{"$f":"COUNTIF(Game!M25:O27,1)","v":0},{"$f":"COUNTIF(Game!N25:P27,1)","v":0},{"$f":"COUNTIF(Game!O25:Q27,1)","v":0},{"$f":"COUNTIF(Game!P25:R27,1)","v":0},{"$f":"COUNTIF(Game!Q25:S27,1)","v":0},{"$f":"COUNTIF(Game!R25:T27,1)","v":0},{"$f":"COUNTIF(Game!S25:U27,1)","v":0},{"$f":"COUNTIF(Game!T25:V27,1)","v":0},{"$f":"COUNTIF(Game!U25:W27,1)","v":0},{"$f":"COUNTIF(Game!V25:X27,1)","v":0},{"$f":"COUNTIF(Game!W25:Y27,1)","v":0},{"$f":"COUNTIF(Game!X25:Z27,1)","v":0},{"$f":"COUNTIF(Game!Y25:AA27,1)","v":0},{"$f":"COUNTIF(Game!Z25:AB27,1)","v":0},{"$f":"COUNTIF(Game!AA25:AC27,1)","v":0},{"$f":"COUNTIF(Game!AB25:AD27,1)","v":1},{"$f":"COUNTIF(Game!AC25:AE27,1)","v":2},{"$f":"COUNTIF(Game!AD25:AF27,1)","v":2},{"$f":"COUNTIF(Game!AE25:AG27,1)","v":2},{"$f":"COUNTIF(Game!AF25:AH27,1)","v":2},{"$f":"COUNTIF(Game!AG25:AI27,1)","v":2},{"$f":"COUNTIF(Game!AH25:AJ27,1)","v":1},{"$f":"COUNTIF(Game!AI25:AK27,1)","v":2},{"$f":"COUNTIF(Game!AJ25:AL27,1)","v":4},{"$f":"COUNTIF(Game!AK25:AM27,1)","v":4}]
[null,{"$f":"COUNTIF(Game!A26:C28,1)","v":5},{"$f":"COUNTIF(Game!B26:D28,1)","v":8},{"$f":"COUNTIF(Game!C26:E28,1)","v":6},{"$f":"COUNTIF(Game!D26:F28,1)","v":5},{"$f":"COUNTIF(Game!E26:G28,1)","v":2},{"$f":"COUNTIF(Game!F26:H28,1)","v":2},{"$f":"COUNTIF(Game!G26:I28,1)","v":1},{"$f":"COUNTIF(Game!H26:J28,1)","v":2},{"$f":"COUNTIF(Game!I26:K28,1)","v":2},{"$f":"COUNTIF(Game!J26:L28,1)","v":1},{"$f":"COUNTIF(Game!K26:M28,1)","v":0},{"$f":"COUNTIF(Game!L26:N28,1)","v":0},{"$f":"COUNTIF(Game!M26:O28,1)","v":0},{"$f":"COUNTIF(Game!N26:P28,1)","v":0},{"$f":"COUNTIF(Game!O26:Q28,1)","v":0},{"$f":"COUNTIF(Game!P26:R28,1)","v":0},{"$f":"COUNTIF(Game!Q26:S28,1)","v":0},{"$f":"COUNTIF(Game!R26:T28,1)","v":0},{"$f":"COUNTIF(Game!S26:U28,1)","v":0},{"$f":"COUNTIF(Game!T26:V28,1)","v":0},{"$f":"COUNTIF(Game!U26:W28,1)","v":0},{"$f":"COUNTIF(Game!V26:X28,1)","v":0},{"$f":"COUNTIF(Game!W26:Y28,1)","v":0},{"$f":"COUNTIF(Game!X26:Z28,1)","v":0},{"$f":"COUNTIF(Game!Y26:AA28,1)","v":0},{"$f":"COUNTIF(Game!Z26:AB28,1)","v":0},{"$f":"COUNTIF(Game!AA26:AC28,1)","v":1},{"$f":"COUNTIF(Game!AB26:AD28,1)","v":2},{"$f":"COUNTIF(Game!AC26:AE28,1)","v":4},{"$f":"COUNTIF(Game!AD26:AF28,1)","v":3},{"$f":"COUNTIF(Game!AE26:AG28,1)","v":4},{"$f":"COUNTIF(Game!AF26:AH28,1)","v":4},{"$f":"COUNTIF(Game!AG26:AI28,1)","v":4},{"$f":"COUNTIF(Game!AH26:AJ28,1)","v":3},{"$f":"COUNTIF(Game!AI26:AK28,1)","v":3},{"$f":"COUNTIF(Game!AJ26:AL28,1)","v":4},{"$f":"COUNTIF(Game!AK26:AM28,1)","v":3}]
[null,{"$f":"COUNTIF(Game!A27:C29,1)","v":3},{"$f":"COUNTIF(Game!B27:D29,1)","v":6},{"$f":"COUNTIF(Game!C27:E29,1)","v":6},{"$f":"COUNTIF(Game!D27:F29,1)","v":5},{"$f":"COUNTIF(Game!E27:G29,1)","v":2},{"$f":"COUNTIF(Game!F27:H29,1)","v":1},{"$f":"COUNTIF(Game!G27:I29,1)","v":1},{"$f":"COUNTIF(Game!H27:J29,1)","v":3},{"$f":"COUNTIF(Game!I27:K29,1)","v":3},{"$f":"COUNTIF(Game!J27:L29,1)","v":2},{"$f":"COUNTIF(Game!K27:M29,1)","v":0},{"$f":"COUNTIF(Game!L27:N29,1)","v":1},{"$f":"COUNTIF(Game!M27:O29,1)","v":2},{"$f":"COUNTIF(Game!N27:P29,1)","v":3},{"$f":"COUNTIF(Game!O27:Q29,1)","v":2},{"$f":"COUNTIF(Game!P27:R29,1)","v":1},{"$f":"COUNTIF(Game!Q27:S29,1)","v":0},{"$f":"COUNTIF(Game!R27:T29,1)","v":0},{"$f":"COUNTIF(Game!S27:U29,1)","v":0},{"$f":"COUNTIF(Game!T27:V29,1)","v":0},{"$f":"COUNTIF(Game!U27:W29,1)","v":0},{"$f":"COUNTIF(Game!V27:X29,1)","v":0},{"$f":"COUNTIF(Game!W27:Y29,1)","v":0},{"$f":"COUNTIF(Game!X27:Z29,1)","v":0},{"$f":"COUNTIF(Game!Y27:AA29,1)","v":0},{"$f":"COUNTIF(Game!Z27:AB29,1)","v":0},{"$f":"COUNTIF(Game!AA27:AC29,1)","v":1},{"$f":"COUNTIF(Game!AB27:AD29,1)","v":3},{"$f":"COUNTIF(Game!AC27:AE29,1)","v":5},{"$f":"COUNTIF(Game!AD27:AF29,1)","v":4},{"$f":"COUNTIF(Game!AE27:AG29,1)","v":5},{"$f":"COUNTIF(Game!AF27:AH29,1)","v":6},{"$f":"COUNTIF(Game!AG27:AI29,1)","v":7},{"$f":"COUNTIF(Game!AH27:AJ29,1)","v":6},{"$f":"COUNTIF(Game!AI27:AK29,1)","v":4},{"$f":"COUNTIF(Game!AJ27:AL29,1)","v":3},{"$f":"COUNTIF(Game!AK27:AM29,1)","v":1}]
[null,{"$f":"COUNTIF(Game!A28:C30,1)","v":3},{"$f":"COUNTIF(Game!B28:D30,1)","v":5},{"$f":"COUNTIF(Game!C28:E30,1)","v":6},{"$f":"COUNTIF(Game!D28:F30,1)","v":4},{"$f":"COUNTIF(Game!E28:G30,1)","v":3},{"$f":"COUNTIF(Game!F28:H30,1)","v":2},{"$f":"COUNTIF(Game!G28:I30,1)","v":3},{"$f":"COUNTIF(Game!H28:J30,1)","v":5},{"$f":"COUNTIF(Game!I28:K30,1)","v":4},{"$f":"COUNTIF(Game!J28:L30,1)","v":3},{"$f":"COUNTIF(Game!K28:M30,1)","v":0},{"$f":"COUNTIF(Game!L28:N30,1)","v":1},{"$f":"COUNTIF(Game!M28:O30,1)","v":2},{"$f":"COUNTIF(Game!N28:P30,1)","v":3},{"$f":"COUNTIF(Game!O28:Q30,1)","v":2},{"$f":"COUNTIF(Game!P28:R30,1)","v":1},{"$f":"COUNTIF(Game!Q28:S30,1)","v":0},{"$f":"COUNTIF(Game!R28:T30,1)","v":0},{"$f":"COUNTIF(Game!S28:U30,1)","v":0},{"$f":"COUNTIF(Game!T28:V30,1)","v":0},{"$f":"COUNTIF(Game!U28:W30,1)","v":0},{"$f":"COUNTIF(Game!V28:X30,1)","v":0},{"$f":"COUNTIF(Game!W28:Y30,1)","v":0},{"$f":"COUNTIF(Game!X28:Z30,1)","v":0},{"$f":"COUNTIF(Game!Y28:AA30,1)","v":0},{"$f":"COUNTIF(Game!Z28:AB30,1)","v":0},{"$f":"COUNTIF(Game!AA28:AC30,1)","v":1},{"$f":"COUNTIF(Game!AB28:AD30,1)","v":2},{"$f":"COUNTIF(Game!AC28:AE30,1)","v":3},{"$f":"COUNTIF(Game!AD28:AF30,1)","v":2},{"$f":"COUNTIF(Game!AE28:AG30,1)","v":4},{"$f":"COUNTIF(Game!AF28:AH30,1)","v":5},{"$f":"COUNTIF(Game!AG28:AI30,1)","v":6},{"$f":"COUNTIF(Game!AH28:AJ30,1)","v":5},{"$f":"COUNTIF(Game!AI28:AK30,1)","v":4},{"$f":"COUNTIF(Game!AJ28:AL30,1)","v":3},{"$f":"COUNTIF(Game!AK28:AM30,1)","v":1}]
[null,{"$f":"COUNTIF(Game!A29:C31,1)","v":4},{"$f":"COUNTIF(Game!B29:D31,1)","v":5},{"$f":"COUNTIF(Game!C29:E31,1)","v":5},{"$f":"COUNTIF(Game!D29:F31,1)","v":3},{"$f":"COUNTIF(Game!E29:G31,1)","v":4},{"$f":"COUNTIF(Game!F29:H31,1)","v":3},{"$f":"COUNTIF(Game!G29:I31,1)","v":4},{"$f":"COUNTIF(Game!H29:J31,1)","v":4},{"$f":"COUNTIF(Game!I29:K31,1)","v":3},{"$f":"COUNTIF(Game!J29:L31,1)","v":2},{"$f":"COUNTIF(Game!K29:M31,1)","v":0},{"$f":"COUNTIF(Game!L29:N31,1)","v":1},{"$f":"COUNTIF(Game!M29:O31,1)","v":2},{"$f":"COUNTIF(Game!N29:P31,1)","v":3},{"$f":"COUNTIF(Game!O29:Q31,1)","v":2},{"$f":"COUNTIF(Game!P29:R31,1)","v":2},{"$f":"COUNTIF(Game!Q29:S31,1)","v":2},{"$f":"COUNTIF(Game!R29:T31,1)","v":3},{"$f":"COUNTIF(Game!S29:U31,1)","v":2},{"$f":"COUNTIF(Game!T29:V31,1)","v":1},{"$f":"COUNTIF(Game!U29:W31,1)","v":0},{"$f":"COUNTIF(Game!V29:X31,1)","v":0},{"$f":"COUNTIF(Game!W29:Y31,1)","v":0},{"$f":"COUNTIF(Game!X29:Z31,1)","v":0},{"$f":"COUNTIF(Game!Y29:AA31,1)","v":0},{"$f":"COUNTIF(Game!Z29:AB31,1)","v":0},{"$f":"COUNTIF(Game!AA29:AC31,1)","v":1},{"$f":"COUNTIF(Game!AB29:AD31,1)","v":2},{"$f":"COUNTIF(Game!AC29:AE31,1)","v":2},{"$f":"COUNTIF(Game!AD29:AF31,1)","v":1},{"$f":"COUNTIF(Game!AE29:AG31,1)","v":3},{"$f":"COUNTIF(Game!AF29:AH31,1)","v":5},{"$f":"COUNTIF(Game!AG29:AI31,1)","v":6},{"$f":"COUNTIF(Game!AH29:AJ31,1)","v":5},{"$f":"COUNTIF(Game!AI29:AK31,1)","v":5},{"$f":"COUNTIF(Game!AJ29:AL31,1)","v":4},{"$f":"COUNTIF(Game!AK29:AM31,1)","v":2}]
[null,{"$f":"COUNTIF(Game!A30:C32,1)","v":4},{"$f":"COUNTIF(Game!B30:D32,1)","v":5},{"$f":"COUNTIF(Game!C30:E32,1)","v":5},{"$f":"COUNTIF(Game!D30:F32,1)","v":4},{"$f":"COUNTIF(Game!E30:G32,1)","v":5},{"$f":"COUNTIF(Game!F30:H32,1)","v":4},{"$f":"COUNTIF(Game!G30:I32,1)","v":4},{"$f":"COUNTIF(Game!H30:J32,1)","v":3},{"$f":"COUNTIF(Game!I30:K32,1)","v":2},{"$f":"COUNTIF(Game!J30:L32,1)","v":1},{"$f":"COUNTIF(Game!K30:M32,1)","v":0},{"$f":"COUNTIF(Game!L30:N32,1)","v":0},{"$f":"COUNTIF(Game!M30:O32,1)","v":0},{"$f":"COUNTIF(Game!N30:P32,1)","v":0},{"$f":"COUNTIF(Game!O30:Q32,1)","v":0},{"$f":"COUNTIF(Game!P30:R32,1)","v":1},{"$f":"COUNTIF(Game!Q30:S32,1)","v":2},{"$f":"COUNTIF(Game!R30:T32,1)","v":3},{"$f":"COUNTIF(Game!S30:U32,1)","v":2},{"$f":"COUNTIF(Game!T30:V32,1)","v":1},{"$f":"COUNTIF(Game!U30:W32,1)","v":0},{"$f":"COUNTIF(Game!V30:X32,1)","v":0},{"$f":"COUNTIF(Game!W30:Y32,1)","v":0},{"$f":"COUNTIF(Game!X30:Z32,1)","v":0},{"$f":"COUNTIF(Game!Y30:AA32,1)","v":0},{"$f":"COUNTIF(Game!Z30:AB32,1)","v":1},{"$f":"COUNTIF(Game!AA30:AC32,1)","v":3},{"$f":"COUNTIF(Game!AB30:AD32,1)","v":4},{"$f":"COUNTIF(Game!AC30:AE32,1)","v":3},{"$f":"COUNTIF(Game!AD30:AF32,1)","v":1},{"$f":"COUNTIF(Game!AE30:AG32,1)","v":2},{"$f":"COUNTIF(Game!AF30:AH32,1)","v":3},{"$f":"COUNTIF(Game!AG30:AI32,1)","v":3},{"$f":"COUNTIF(Game!AH30:AJ32,1)","v":2},{"$f":"COUNTIF(Game!AI30:AK32,1)","v":3},{"$f":"COUNTIF(Game!AJ30:AL32,1)","v":3},{"$f":"COUNTIF(Game!AK30:AM32,1)","v":2}]
[null,{"$f":"COUNTIF(Game!A31:C33,1)","v":2},{"$f":"COUNTIF(Game!B31:D33,1)","v":4},{"$f":"COUNTIF(Game!C31:E33,1)","v":5},{"$f":"COUNTIF(Game!D31:F33,1)","v":6},{"$f":"COUNTIF(Game!E31:G33,1)","v":5},{"$f":"COUNTIF(Game!F31:H33,1)","v":3},{"$f":"COUNTIF(Game!G31:I33,1)","v":1},{"$f":"COUNTIF(Game!H31:J33,1)","v":0},{"$f":"COUNTIF(Game!I31:K33,1)","v":0},{"$f":"COUNTIF(Game!J31:L33,1)","v":0},{"$f":"COUNTIF(Game!K31:M33,1)","v":0},{"$f":"COUNTIF(Game!L31:N33,1)","v":0},{"$f":"COUNTIF(Game!M31:O33,1)","v":0},{"$f":"COUNTIF(Game!N31:P33,1)","v":1},{"$f":"COUNTIF(Game!O31:Q33,1)","v":2},{"$f":"COUNTIF(Game!P31:R33,1)","v":3},{"$f":"COUNTIF(Game!Q31:S33,1)","v":3},{"$f":"COUNTIF(Game!R31:T33,1)","v":3},{"$f":"COUNTIF(Game!S31:U33,1)","v":2},{"$f":"COUNTIF(Game!T31:V33,1)","v":1},{"$f":"COUNTIF(Game!U31:W33,1)","v":0},{"$f":"COUNTIF(Game!V31:X33,1)","v":0},{"$f":"COUNTIF(Game!W31:Y33,1)","v":0},{"$f":"COUNTIF(Game!X31:Z33,1)","v":0},{"$f":"COUNTIF(Game!Y31:AA33,1)","v":1},{"$f":"COUNTIF(Game!Z31:AB33,1)","v":3},{"$f":"COUNTIF(Game!AA31:AC33,1)","v":6},{"$f":"COUNTIF(Game!AB31:AD33,1)","v":7},{"$f":"COUNTIF(Game!AC31:AE33,1)","v":6},{"$f":"COUNTIF(Game!AD31:AF33,1)","v":3},{"$f":"COUNTIF(Game!AE31:AG33,1)","v":2},{"$f":"COUNTIF(Game!AF31:AH33,1)","v":2},{"$f":"COUNTIF(Game!AG31:AI33,1)","v":2},{"$f":"COUNTIF(Game!AH31:AJ33,1)","v":2},{"$f":"COUNTIF(Game!AI31:AK33,1)","v":2},{"$f":"COUNTIF(Game!AJ31:AL33,1)","v":2},{"$f":"COUNTIF(Game!AK31:AM33,1)","v":1}]
[null,{"$f":"COUNTIF(Game!A32:C34,1)","v":0},{"$f":"COUNTIF(Game!B32:D34,1)","v":2},{"$f":"COUNTIF(Game!C32:E34,1)","v":4},{"$f":"COUNTIF(Game!D32:F34,1)","v":6},{"$f":"COUNTIF(Game!E32:G34,1)","v":4},{"$f":"COUNTIF(Game!F32:H34,1)","v":2},{"$f":"COUNTIF(Game!G32:I34,1)","v":0},{"$f":"COUNTIF(Game!H32:J34,1)","v":0},{"$f":"COUNTIF(Game!I32:K34,1)","v":0},{"$f":"COUNTIF(Game!J32:L34,1)","v":0},{"$f":"COUNTIF(Game!K32:M34,1)","v":0},{"$f":"COUNTIF(Game!L32:N34,1)","v":0},{"$f":"COUNTIF(Game!M32:O34,1)","v":0},{"$f":"COUNTIF(Game!N32:P34,1)","v":2},{"$f":"COUNTIF(Game!O32:Q34,1)","v":4},{"$f":"COUNTIF(Game!P32:R34,1)","v":4},{"$f":"COUNTIF(Game!Q32:S34,1)","v":2},{"$f":"COUNTIF(Game!R32:T34,1)","v":1},{"$f":"COUNTIF(Game!S32:U34,1)","v":1},{"$f":"COUNTIF(Game!T32:V34,1)","v":1},{"$f":"COUNTIF(Game!U32:W34,1)","v":0},{"$f":"COUNTIF(Game!V32:X34,1)","v":0},{"$f":"COUNTIF(Game!W32:Y34,1)","v":0},{"$f":"COUNTIF(Game!X32:Z34,1)","v":1},{"$f":"COUNTIF(Game!Y32:AA34,1)","v":2},{"$f":"COUNTIF(Game!Z32:AB34,1)","v":4},{"$f":"COUNTIF(Game!AA32:AC34,1)","v":5},{"$f":"COUNTIF(Game!AB32:AD34,1)","v":6},{"$f":"COUNTIF(Game!AC32:AE34,1)","v":5},{"$f":"COUNTIF(Game!AD32:AF34,1)","v":4},{"$f":"COUNTIF(Game!AE32:AG34,1)","v":2},{"$f":"COUNTIF(Game!AF32:AH34,1)","v":1},{"$f":"COUNTIF(Game!AG32:AI34,1)","v":0},{"$f":"COUNTIF(Game!AH32:AJ34,1)","v":0},{"$f":"COUNTIF(Game!AI32:AK34,1)","v":0},{"$f":"COUNTIF(Game!AJ32:AL34,1)","v":0},{"$f":"COUNTIF(Game!AK32:AM34,1)","v":0}]
[null,{"$f":"COUNTIF(Game!A33:C35,1)","v":0},{"$f":"COUNTIF(Game!B33:D35,1)","v":1},{"$f":"COUNTIF(Game!C33:E35,1)","v":2},{"$f":"COUNTIF(Game!D33:F35,1)","v":3},{"$f":"COUNTIF(Game!E33:G35,1)","v":2},{"$f":"COUNTIF(Game!F33:H35,1)","v":1},{"$f":"COUNTIF(Game!G33:I35,1)","v":0},{"$f":"COUNTIF(Game!H33:J35,1)","v":0},{"$f":"COUNTIF(Game!I33:K35,1)","v":0},{"$f":"COUNTIF(Game!J33:L35,1)","v":0},{"$f":"COUNTIF(Game!K33:M35,1)","v":0},{"$f":"COUNTIF(Game!L33:N35,1)","v":0},{"$f":"COUNTIF(Game!M33:O35,1)","v":0},{"$f":"COUNTIF(Game!N33:P35,1)","v":3},{"$f":"COUNTIF(Game!O33:Q35,1)","v":6},{"$f":"COUNTIF(Game!P33:R35,1)","v":6},{"$f":"COUNTIF(Game!Q33:S35,1)","v":3},{"$f":"COUNTIF(Game!R33:T35,1)","v":1},{"$f":"COUNTIF(Game!S33:U35,1)","v":1},{"$f":"COUNTIF(Game!T33:V35,1)","v":1},{"$f":"COUNTIF(Game!U33:W35,1)","v":0},{"$f":"COUNTIF(Game!V33:X35,1)","v":0},{"$f":"COUNTIF(Game!W33:Y35,1)","v":1},{"$f":"COUNTIF(Game!X33:Z35,1)","v":3},{"$f":"COUNTIF(Game!Y33:AA35,1)","v":4},{"$f":"COUNTIF(Game!Z33:AB35,1)","v":4},{"$f":"COUNTIF(Game!AA33:AC35,1)","v":4},{"$f":"COUNTIF(Game!AB33:AD35,1)","v":4},{"$f":"COUNTIF(Game!AC33:AE35,1)","v":4},{"$f":"COUNTIF(Game!AD33:AF35,1)","v":4},{"$f":"COUNTIF(Game!AE33:AG35,1)","v":4},{"$f":"COUNTIF(Game!AF33:AH35,1)","v":3},{"$f":"COUNTIF(Game!AG33:AI35,1)","v":1},{"$f":"COUNTIF(Game!AH33:AJ35,1)","v":0},{"$f":"COUNTIF(Game!AI33:AK35,1)","v":1},{"$f":"COUNTIF(Game!AJ33:AL35,1)","v":2},{"$f":"COUNTIF(Game!AK33:AM35,1)","v":2}]
[null,{"$f":"COUNTIF(Game!A34:C36,1)","v":0},{"$f":"COUNTIF(Game!B34:D36,1)","v":0},{"$f":"COUNTIF(Game!C34:E36,1)","v":0},{"$f":"COUNTIF(Game!D34:F36,1)","v":0},{"$f":"COUNTIF(Game!E34:G36,1)","v":0},{"$f":"COUNTIF(Game!F34:H36,1)","v":0},{"$f":"COUNTIF(Game!G34:I36,1)","v":0},{"$f":"COUNTIF(Game!H34:J36,1)","v":0},{"$f":"COUNTIF(Game!I34:K36,1)","v":0},{"$f":"COUNTIF(Game!J34:L36,1)","v":0},{"$f":"COUNTIF(Game!K34:M36,1)","v":0},{"$f":"COUNTIF(Game!L34:N36,1)","v":0},{"$f":"COUNTIF(Game!M34:O36,1)","v":0},{"$f":"COUNTIF(Game!N34:P36,1)","v":2},{"$f":"COUNTIF(Game!O34:Q36,1)","v":4},{"$f":"COUNTIF(Game!P34:R36,1)","v":4},{"$f":"COUNTIF(Game!Q34:S36,1)","v":2},{"$f":"COUNTIF(Game!R34:T36,1)","v":1},{"$f":"COUNTIF(Game!S34:U36,1)","v":2},{"$f":"COUNTIF(Game!T34:V36,1)","v":2},{"$f":"COUNTIF(Game!U34:W36,1)","v":1},{"$f":"COUNTIF(Game!V34:X36,1)","v":1},{"$f":"COUNTIF(Game!W34:Y36,1)","v":3},{"$f":"COUNTIF(Game!X34:Z36,1)","v":5},{"$f":"COUNTIF(Game!Y34:AA36,1)","v":4},{"$f":"COUNTIF(Game!Z34:AB36,1)","v":3},{"$f":"COUNTIF(Game!AA34:AC36,1)","v":3},{"$f":"COUNTIF(Game!AB34:AD36,1)","v":4},{"$f":"COUNTIF(Game!AC34:AE36,1)","v":3},{"$f":"COUNTIF(Game!AD34:AF36,1)","v":3},{"$f":"COUNTIF(Game!AE34:AG36,1)","v":4},{"$f":"COUNTIF(Game!AF34:AH36,1)","v":5},{"$f":"COUNTIF(Game!AG34:AI36,1)","v":3},{"$f":"COUNTIF(Game!AH34:AJ36,1)","v":1},{"$f":"COUNTIF(Game!AI34:AK36,1)","v":2},{"$f":"COUNTIF(Game!AJ34:AL36,1)","v":4},{"$f":"COUNTIF(Game!AK34:AM36,1)","v":4}]
[null,{"$f":"COUNTIF(Game!A35:C37,1)","v":0},{"$f":"COUNTIF(Game!B35:D37,1)","v":0},{"$f":"COUNTIF(Game!C35:E37,1)","v":0},{"$f":"COUNTIF(Game!D35:F37,1)","v":0},{"$f":"COUNTIF(Game!E35:G37,1)","v":0},{"$f":"COUNTIF(Game!F35:H37,1)","v":0},{"$f":"COUNTIF(Game!G35:I37,1)","v":0},{"$f":"COUNTIF(Game!H35:J37,1)","v":0},{"$f":"COUNTIF(Game!I35:K37,1)","v":0},{"$f":"COUNTIF(Game!J35:L37,1)","v":0},{"$f":"COUNTIF(Game!K35:M37,1)","v":0},{"$f":"COUNTIF(Game!L35:N37,1)","v":0},{"$f":"COUNTIF(Game!M35:O37,1)","v":0},{"$f":"COUNTIF(Game!N35:P37,1)","v":1},{"$f":"COUNTIF(Game!O35:Q37,1)","v":2},{"$f":"COUNTIF(Game!P35:R37,1)","v":3},{"$f":"COUNTIF(Game!Q35:S37,1)","v":2},{"$f":"COUNTIF(Game!R35:T37,1)","v":2},{"$f":"COUNTIF(Game!S35:U37,1)","v":3},{"$f":"COUNTIF(Game!T35:V37,1)","v":3},{"$f":"COUNTIF(Game!U35:W37,1)","v":2},{"$f":"COUNTIF(Game!V35:X37,1)","v":1},{"$f":"COUNTIF(Game!W35:Y37,1)","v":3},{"$f":"COUNTIF(Game!X35:Z37,1)","v":5},{"$f":"COUNTIF(Game!Y35:AA37,1)","v":4},{"$f":"COUNTIF(Game!Z35:AB37,1)","v":3},{"$f":"COUNTIF(Game!AA35:AC37,1)","v":3},{"$f":"COUNTIF(Game!AB35:AD37,1)","v":4},{"$f":"COUNTIF(Game!AC35:AE37,1)","v":3},{"$f":"COUNTIF(Game!AD35:AF37,1)","v":3},{"$f":"COUNTIF(Game!AE35:AG37,1)","v":4},{"$f":"COUNTIF(Game!AF35:AH37,1)","v":5},{"$f":"COUNTIF(Game!AG35:AI37,1)","v":3},{"$f":"COUNTIF(Game!AH35:AJ37,1)","v":1},{"$f":"COUNTIF(Game!AI35:AK37,1)","v":2},{"$f":"COUNTIF(Game!AJ35:AL37,1)","v":4},{"$f":"COUNTIF(Game!AK35:AM37,1)","v":4}]
[null,{"$f":"COUNTIF(Game!A36:C38,1)","v":0},{"$f":"COUNTIF(Game!B36:D38,1)","v":0},{"$f":"COUNTIF(Game!C36:E38,1)","v":0},{"$f":"COUNTIF(Game!D36:F38,1)","v":0},{"$f":"COUNTIF(Game!E36:G38,1)","v":0},{"$f":"COUNTIF(Game!F36:H38,1)","v":0},{"$f":"COUNTIF(Game!G36:I38,1)","v":0},{"$f":"COUNTIF(Game!H36:J38,1)","v":0},{"$f":"COUNTIF(Game!I36:K38,1)","v":0},{"$f":"COUNTIF(Game!J36:L38,1)","v":0},{"$f":"COUNTIF(Game!K36:M38,1)","v":0},{"$f":"COUNTIF(Game!L36:N38,1)","v":0},{"$f":"COUNTIF(Game!M36:O38,1)","v":0},{"$f":"COUNTIF(Game!N36:P38,1)","v":0},{"$f":"COUNTIF(Game!O36:Q38,1)","v":0},{"$f":"COUNTIF(Game!P36:R38,1)","v":2},{"$f":"COUNTIF(Game!Q36:S38,1)","v":3},{"$f":"COUNTIF(Game!R36:T38,1)","v":5},{"$f":"COUNTIF(Game!S36:U38,1)","v":5},{"$f":"COUNTIF(Game!T36:V38,1)","v":4},{"$f":"COUNTIF(Game!U36:W38,1)","v":2},{"$f":"COUNTIF(Game!V36:X38,1)","v":1},{"$f":"COUNTIF(Game!W36:Y38,1)","v":2},{"$f":"COUNTIF(Game!X36:Z38,1)","v":3},{"$f":"COUNTIF(Game!Y36:AA38,1)","v":2},{"$f":"COUNTIF(Game!Z36:AB38,1)","v":2},{"$f":"COUNTIF(Game!AA36:AC38,1)","v":2},{"$f":"COUNTIF(Game!AB36:AD38,1)","v":3},{"$f":"COUNTIF(Game!AC36:AE38,1)","v":2},{"$f":"COUNTIF(Game!AD36:AF38,1)","v":2},{"$f":"COUNTIF(Game!AE36:AG38,1)","v":2},{"$f":"COUNTIF(Game!AF36:AH38,1)","v":3},{"$f":"COUNTIF(Game!AG36:AI38,1)","v":2},{"$f":"COUNTIF(Game!AH36:AJ38,1)","v":1},{"$f":"COUNTIF(Game!AI36:AK38,1)","v":1},{"$f":"COUNTIF(Game!AJ36:AL38,1)","v":2},{"$f":"COUNTIF(Game!AK36:AM38,1)","v":2}]
[null,{"$f":"COUNTIF(Game!A37:C39,1)","v":0},{"$f":"COUNTIF(Game!B37:D39,1)","v":0},{"$f":"COUNTIF(Game!C37:E39,1)","v":0},{"$f":"COUNTIF(Game!D37:F39,1)","v":0},{"$f":"COUNTIF(Game!E37:G39,1)","v":0},{"$f":"COUNTIF(Game!F37:H39,1)","v":0},{"$f":"COUNTIF(Game!G37:I39,1)","v":0},{"$f":"COUNTIF(Game!H37:J39,1)","v":0},{"$f":"COUNTIF(Game!I37:K39,1)","v":0},{"$f":"COUNTIF(Game!J37:L39,1)","v":0},{"$f":"COUNTIF(Game!K37:M39,1)","v":0},{"$f":"COUNTIF(Game!L37:N39,1)","v":0},{"$f":"COUNTIF(Game!M37:O39,1)","v":0},{"$f":"COUNTIF(Game!N37:P39,1)","v":0},{"$f":"COUNTIF(Game!O37:Q39,1)","v":0},{"$f":"COUNTIF(Game!P37:R39,1)","v":2},{"$f":"COUNTIF(Game!Q37:S39,1)","v":3},{"$f":"COUNTIF(Game!R37:T39,1)","v":5},{"$f":"COUNTIF(Game!S37:U39,1)","v":4},{"$f":"COUNTIF(Game!T37:V39,1)","v":3},{"$f":"COUNTIF(Game!U37:W39,1)","v":1},{"$f":"COUNTIF(Game!V37:X39,1)","v":0},{"$f":"COUNTIF(Game!W37:Y39,1)","v":0},{"$f":"COUNTIF(Game!X37:Z39,1)","v":1},{"$f":"COUNTIF(Game!Y37:AA39,1)","v":1},{"$f":"COUNTIF(Game!Z37:AB39,1)","v":1},{"$f":"COUNTIF(Game!AA37:AC39,1)","v":0},{"$f":"COUNTIF(Game!AB37:AD39,1)","v":0},{"$f":"COUNTIF(Game!AC37:AE39,1)","v":0},{"$f":"COUNTIF(Game!AD37:AF39,1)","v":1},{"$f":"COUNTIF(Game!AE37:AG39,1)","v":1},{"$f":"COUNTIF(Game!AF37:AH39,1)","v":1},{"$f":"COUNTIF(Game!AG37:AI39,1)","v":0},{"$f":"COUNTIF(Game!AH37:AJ39,1)","v":0},{"$f":"COUNTIF(Game!AI37:AK39,1)","v":0},{"$f":"COUNTIF(Game!AJ37:AL39,1)","v":0},{"$f":"COUNTIF(Game!AK37:AM39,1)","v":0}]

{"sheet":"BReds","index":3,"n_rows":38,"n_cols":38,"rows_kept":38,"hidden":true}
[]
[null,{"$f":"COUNTIF(Game!A1:C3,2)","v":0},{"$f":"COUNTIF(Game!B1:D3,2)","v":0},{"$f":"COUNTIF(Game!C1:E3,2)","v":0},{"$f":"COUNTIF(Game!D1:F3,2)","v":0},{"$f":"COUNTIF(Game!E1:G3,2)","v":0},{"$f":"COUNTIF(Game!F1:H3,2)","v":0},{"$f":"COUNTIF(Game!G1:I3,2)","v":1},{"$f":"COUNTIF(Game!H1:J3,2)","v":1},{"$f":"COUNTIF(Game!I1:K3,2)","v":1},{"$f":"COUNTIF(Game!J1:L3,2)","v":0},{"$f":"COUNTIF(Game!K1:M3,2)","v":0},{"$f":"COUNTIF(Game!L1:N3,2)","v":0},{"$f":"COUNTIF(Game!M1:O3,2)","v":0},{"$f":"COUNTIF(Game!N1:P3,2)","v":0},{"$f":"COUNTIF(Game!O1:Q3,2)","v":0},{"$f":"COUNTIF(Game!P1:R3,2)","v":0},{"$f":"COUNTIF(Game!Q1:S3,2)","v":0},{"$f":"COUNTIF(Game!R1:T3,2)","v":0},{"$f":"COUNTIF(Game!S1:U3,2)","v":0},{"$f":"COUNTIF(Game!T1:V3,2)","v":0},{"$f":"COUNTIF(Game!U1:W3,2)","v":0},{"$f":"COUNTIF(Game!V1:X3,2)","v":0},{"$f":"COUNTIF(Game!W1:Y3,2)","v":0},{"$f":"COUNTIF(Game!X1:Z3,2)","v":0},{"$f":"COUNTIF(Game!Y1:AA3,2)","v":0},{"$f":"COUNTIF(Game!Z1:AB3,2)","v":0},{"$f":"COUNTIF(Game!AA1:AC3,2)","v":0},{"$f":"COUNTIF(Game!AB1:AD3,2)","v":0},{"$f":"COUNTIF(Game!AC1:AE3,2)","v":0},{"$f":"COUNTIF(Game!AD1:AF3,2)","v":0},{"$f":"COUNTIF(Game!AE1:AG3,2)","v":0},{"$f":"COUNTIF(Game!AF1:AH3,2)","v":0},{"$f":"COUNTIF(Game!AG1:AI3,2)","v":0},{"$f":"COUNTIF(Game!AH1:AJ3,2)","v":0},{"$f":"COUNTIF(Game!AI1:AK3,2)","v":0},{"$f":"COUNTIF(Game!AJ1:AL3,2)","v":0},{"$f":"COUNTIF(Game!AK1:AM3,2)","v":0}]
[null,{"$f":"COUNTIF(Game!A2:C4,2)","v":0},{"$f":"COUNTIF(Game!B2:D4,2)","v":0},{"$f":"COUNTIF(Game!C2:E4,2)","v":0},{"$f":"COUNTIF(Game!D2:F4,2)","v":0},{"$f":"COUNTIF(Game!E2:G4,2)","v":0},{"$f":"COUNTIF(Game!F2:H4,2)","v":0},{"$f":"COUNTIF(Game!G2:I4,2)","v":1},{"$f":"COUNTIF(Game!H2:J4,2)","v":1},{"$f":"COUNTIF(Game!I2:K4,2)","v":1},{"$f":"COUNTIF(Game!J2:L4,2)","v":0},{"$f":"COUNTIF(Game!K2:M4,2)","v":0},{"$f":"COUNTIF(Game!L2:N4,2)","v":0},{"$f":"COUNTIF(Game!M2:O4,2)","v":0},{"$f":"COUNTIF(Game!N2:P4,2)","v":0},{"$f":"COUNTIF(Game!O2:Q4,2)","v":0},{"$f":"COUNTIF(Game!P2:R4,2)","v":0},{"$f":"COUNTIF(Game!Q2:S4,2)","v":0},{"$f":"COUNTIF(Game!R2:T4,2)","v":0},{"$f":"COUNTIF(Game!S2:U4,2)","v":0},{"$f":"COUNTIF(Game!T2:V4,2)","v":0},{"$f":"COUNTIF(Game!U2:W4,2)","v":0},{"$f":"COUNTIF(Game!V2:X4,2)","v":0},{"$f":"COUNTIF(Game!W2:Y4,2)","v":0},{"$f":"COUNTIF(Game!X2:Z4,2)","v":0},{"$f":"COUNTIF(Game!Y2:AA4,2)","v":0},{"$f":"COUNTIF(Game!Z2:AB4,2)","v":0},{"$f":"COUNTIF(Game!AA2:AC4,2)","v":0},{"$f":"COUNTIF(Game!AB2:AD4,2)","v":0},{"$f":"COUNTIF(Game!AC2:AE4,2)","v":0},{"$f":"COUNTIF(Game!AD2:AF4,2)","v":0},{"$f":"COUNTIF(Game!AE2:AG4,2)","v":0},{"$f":"COUNTIF(Game!AF2:AH4,2)","v":0},{"$f":"COUNTIF(Game!AG2:AI4,2)","v":0},{"$f":"COUNTIF(Game!AH2:AJ4,2)","v":0},{"$f":"COUNTIF(Game!AI2:AK4,2)","v":0},{"$f":"COUNTIF(Game!AJ2:AL4,2)","v":0},{"$f":"COUNTIF(Game!AK2:AM4,2)","v":0}]
[null,{"$f":"COUNTIF(Game!A3:C5,2)","v":0},{"$f":"COUNTIF(Game!B3:D5,2)","v":0},{"$f":"COUNTIF(Game!C3:E5,2)","v":0},{"$f":"COUNTIF(Game!D3:F5,2)","v":0},{"$f":"COUNTIF(Game!E3:G5,2)","v":0},{"$f":"COUNTIF(Game!F3:H5,2)","v":0},{"$f":"COUNTIF(Game!G3:I5,2)","v":1},{"$f":"COUNTIF(Game!H3:J5,2)","v":1},{"$f":"COUNTIF(Game!I3:K5,2)","v":1},{"$f":"COUNTIF(Game!J3:L5,2)","v":0},{"$f":"COUNTIF(Game!K3:M5,2)","v":0},{"$f":"COUNTIF(Game!L3:N5,2)","v":0},{"$f":"COUNTIF(Game!M3:O5,2)","v":0},{"$f":"COUNTIF(Game!N3:P5,2)","v":0},{"$f":"COUNTIF(Game!O3:Q5,2)","v":0},{"$f":"COUNTIF(Game!P3:R5,2)","v":0},{"$f":"COUNTIF(Game!Q3:S5,2)","v":0},{"$f":"COUNTIF(Game!R3:T5,2)","v":0},{"$f":"COUNTIF(Game!S3:U5,2)","v":0},{"$f":"COUNTIF(Game!T3:V5,2)","v":0},{"$f":"COUNTIF(Game!U3:W5,2)","v":0},{"$f":"COUNTIF(Game!V3:X5,2)","v":0},{"$f":"COUNTIF(Game!W3:Y5,2)","v":0},{"$f":"COUNTIF(Game!X3:Z5,2)","v":0},{"$f":"COUNTIF(Game!Y3:AA5,2)","v":0},{"$f":"COUNTIF(Game!Z3:AB5,2)","v":0},{"$f":"COUNTIF(Game!AA3:AC5,2)","v":0},{"$f":"COUNTIF(Game!AB3:AD5,2)","v":0},{"$f":"COUNTIF(Game!AC3:AE5,2)","v":0},{"$f":"COUNTIF(Game!AD3:AF5,2)","v":0},{"$f":"COUNTIF(Game!AE3:AG5,2)","v":0},{"$f":"COUNTIF(Game!AF3:AH5,2)","v":0},{"$f":"COUNTIF(Game!AG3:AI5,2)","v":0},{"$f":"COUNTIF(Game!AH3:AJ5,2)","v":0},{"$f":"COUNTIF(Game!AI3:AK5,2)","v":0},{"$f":"COUNTIF(Game!AJ3:AL5,2)","v":0},{"$f":"COUNTIF(Game!AK3:AM5,2)","v":0}]
[null,{"$f":"COUNTIF(Game!A4:C6,2)","v":0},{"$f":"COUNTIF(Game!B4:D6,2)","v":0},{"$f":"COUNTIF(Game!C4:E6,2)","v":0},{"$f":"COUNTIF(Game!D4:F6,2)","v":0},{"$f":"COUNTIF(Game!E4:G6,2)","v":0},{"$f":"COUNTIF(Game!F4:H6,2)","v":0},{"$f":"COUNTIF(Game!G4:I6,2)","v":0},{"$f":"COUNTIF(Game!H4:J6,2)","v":0},{"$f":"COUNTIF(Game!I4:K6,2)","v":0},{"$f":"COUNTIF(Game!J4:L6,2)","v":0},{"$f":"COUNTIF(Game!K4:M6,2)","v":0},{"$f":"COUNTIF(Game!L4:N6,2)","v":0},{"$f":"COUNTIF(Game!M4:O6,2)","v":0},{"$f":"COUNTIF(Game!N4:P6,2)","v":0},{"$f":"COUNTIF(Game!O4:Q6,2)","v":0},{"$f":"COUNTIF(Game!P4:R6,2)","v":0},{"$f":"COUNTIF(Game!Q4:S6,2)","v":0},{"$f":"COUNTIF(Game!R4:T6,2)","v":0},{"$f":"COUNTIF(Game!S4:U6,2)","v":0},{"$f":"COUNTIF(Game!T4:V6,2)","v":0},{"$f":"COUNTIF(Game!U4:W6,2)","v":0},{"$f":"COUNTIF(Game!V4:X6,2)","v":0},{"$f":"COUNTIF(Game!W4:Y6,2)","v":0},{"$f":"COUNTIF(Game!X4:Z6,2)","v":0},{"$f":"COUNTIF(Game!Y4:AA6,2)","v":0},{"$f":"COUNTIF(Game!Z4:AB6,2)","v":0},{"$f":"COUNTIF(Game!AA4:AC6,2)","v":0},{"$f":"COUNTIF(Game!AB4:AD6,2)","v":0},{"$f":"COUNTIF(Game!AC4:AE6,2)","v":0},{"$f":"COUNTIF(Game!AD4:AF6,2)","v":0},{"$f":"COUNTIF(Game!AE4:AG6,2)","v":0},{"$f":"COUNTIF(Game!AF4:AH6,2)","v":0},{"$f":"COUNTIF(Game!AG4:AI6,2)","v":0},{"$f":"COUNTIF(Game!AH4:AJ6,2)","v":0},{"$f":"COUNTIF(Game!AI4:AK6,2)","v":0},{"$f":"COUNTIF(Game!AJ4:AL6,2)","v":0},{"$f":"COUNTIF(Game!AK4:AM6,2)","v":0}]
[null,{"$f":"COUNTIF(Game!A5:C7,2)","v":0},{"$f":"COUNTIF(Game!B5:D7,2)","v":0},{"$f":"COUNTIF(Game!C5:E7,2)","v":0},{"$f":"COUNTIF(Game!D5:F7,2)","v":0},{"$f":"COUNTIF(Game!E5:G7,2)","v":0},{"$f":"COUNTIF(Game!F5:H7,2)","v":0},{"$f":"COUNTIF(Game!G5:I7,2)","v":0},{"$f":"COUNTIF(Game!H5:J7,2)","v":0},{"$f":"COUNTIF(Game!I5:K7,2)","v":0},{"$f":"COUNTIF(Game!J5:L7,2)","v":0},{"$f":"COUNTIF(Game!K5:M7,2)","v":0},{"$f":"COUNTIF(Game!L5:N7,2)","v":0},{"$f":"COUNTIF(Game!M5:O7,2)","v":0},{"$f":"COUNTIF(Game!N5:P7,2)","v":0},{"$f":"COUNTIF(Game!O5:Q7,2)","v":0},{"$f":"COUNTIF(Game!P5:R7,2)","v":0},{"$f":"COUNTIF(Game!Q5:S7,2)","v":0},{"$f":"COUNTIF(Game!R5:T7,2)","v":0},{"$f":"COUNTIF(Game!S5:U7,2)","v":0},{"$f":"COUNTIF(Game!T5:V7,2)","v":0},{"$f":"COUNTIF(Game!U5:W7,2)","v":0},{"$f":"COUNTIF(Game!V5:X7,2)","v":0},{"$f":"COUNTIF(Game!W5:Y7,2)","v":0},{"$f":"COUNTIF(Game!X5:Z7,2)","v":0},{"$f":"COUNTIF(Game!Y5:AA7,2)","v":0},{"$f":"COUNTIF(Game!Z5:AB7,2)","v":0},{"$f":"COUNTIF(Game!AA5:AC7,2)","v":0},{"$f":"COUNTIF(Game!AB5:AD7,2)","v":0},{"$f":"COUNTIF(Game!AC5:AE7,2)","v":0},{"$f":"COUNTIF(Game!AD5:AF7,2)","v":0},{"$f":"COUNTIF(Game!AE5:AG7,2)","v":0},{"$f":"COUNTIF(Game!AF5:AH7,2)","v":0},{"$f":"COUNTIF(Game!AG5:AI7,2)","v":0},{"$f":"COUNTIF(Game!AH5:AJ7,2)","v":0},{"$f":"COUNTIF(Game!AI5:AK7,2)","v":0},{"$f":"COUNTIF(Game!AJ5:AL7,2)","v":0},{"$f":"COUNTIF(Game!AK5:AM7,2)","v":0}]
[null,{"$f":"COUNTIF(Game!A6:C8,2)","v":0},{"$f":"COUNTIF(Game!B6:D8,2)","v":0},{"$f":"COUNTIF(Game!C6:E8,2)","v":0},{"$f":"COUNTIF(Game!D6:F8,2)","v":0},{"$f":"COUNTIF(Game!E6:G8,2)","v":0},{"$f":"COUNTIF(Game!F6:H8,2)","v":0},{"$f":"COUNTIF(Game!G6:I8,2)","v":0},{"$f":"COUNTIF(Game!H6:J8,2)","v":0},{"$f":"COUNTIF(Game!I6:K8,2)","v":0},{"$f":"COUNTIF(Game!J6:L8,2)","v":0},{"$f":"COUNTIF(Game!K6:M8,2)","v":0},{"$f":"COUNTIF(Game!L6:N8,2)","v":0},{"$f":"COUNTIF(Game!M6:O8,2)","v":0},{"$f":"COUNTIF(Game!N6:P8,2)","v":0},{"$f":"COUNTIF(Game!O6:Q8,2)","v":0},{"$f":"COUNTIF(Game!P6:R8,2)","v":0},{"$f":"COUNTIF(Game!Q6:S8,2)","v":0},{"$f":"COUNTIF(Game!R6:T8,2)","v":0},{"$f":"COUNTIF(Game!S6:U8,2)","v":0},{"$f":"COUNTIF(Game!T6:V8,2)","v":0},{"$f":"COUNTIF(Game!U6:W8,2)","v":0},{"$f":"COUNTIF(Game!V6:X8,2)","v":0},{"$f":"COUNTIF(Game!W6:Y8,2)","v":0},{"$f":"COUNTIF(Game!X6:Z8,2)","v":0},{"$f":"COUNTIF(Game!Y6:AA8,2)","v":0},{"$f":"COUNTIF(Game!Z6:AB8,2)","v":0},{"$f":"COUNTIF(Game!AA6:AC8,2)","v":0},{"$f":"COUNTIF(Game!AB6:AD8,2)","v":0},{"$f":"COUNTIF(Game!AC6:AE8,2)","v":0},{"$f":"COUNTIF(Game!AD6:AF8,2)","v":0},{"$f":"COUNTIF(Game!AE6:AG8,2)","v":0},{"$f":"COUNTIF(Game!AF6:AH8,2)","v":0},{"$f":"COUNTIF(Game!AG6:AI8,2)","v":0},{"$f":"COUNTIF(Game!AH6:AJ8,2)","v":0},{"$f":"COUNTIF(Game!AI6:AK8,2)","v":0},{"$f":"COUNTIF(Game!AJ6:AL8,2)","v":0},{"$f":"COUNTIF(Game!AK6:AM8,2)","v":0}]
[null,{"$f":"COUNTIF(Game!A7:C9,2)","v":0},{"$f":"COUNTIF(Game!B7:D9,2)","v":0},{"$f":"COUNTIF(Game!C7:E9,2)","v":0},{"$f":"COUNTIF(Game!D7:F9,2)","v":0},{"$f":"COUNTIF(Game!E7:G9,2)","v":0},{"$f":"COUNTIF(Game!F7:H9,2)","v":0},{"$f":"COUNTIF(Game!G7:I9,2)","v":0},{"$f":"COUNTIF(Game!H7:J9,2)","v":0},{"$f":"COUNTIF(Game!I7:K9,2)","v":0},{"$f":"COUNTIF(Game!J7:L9,2)","v":0},{"$f":"COUNTIF(Game!K7:M9,2)","v":0},{"$f":"COUNTIF(Game!L7:N9,2)","v":0},{"$f":"COUNTIF(Game!M7:O9,2)","v":0},{"$f":"COUNTIF(Game!N7:P9,2)","v":0},{"$f":"COUNTIF(Game!O7:Q9,2)","v":0},{"$f":"COUNTIF(Game!P7:R9,2)","v":0},{"$f":"COUNTIF(Game!Q7:S9,2)","v":0},{"$f":"COUNTIF(Game!R7:T9,2)","v":0},{"$f":"COUNTIF(Game!S7:U9,2)","v":0},{"$f":"COUNTIF(Game!T7:V9,2)","v":0},{"$f":"COUNTIF(Game!U7:W9,2)","v":0},{"$f":"COUNTIF(Game!V7:X9,2)","v":0},{"$f":"COUNTIF(Game!W7:Y9,2)","v":0},{"$f":"COUNTIF(Game!X7:Z9,2)","v":0},{"$f":"COUNTIF(Game!Y7:AA9,2)","v":0},{"$f":"COUNTIF(Game!Z7:AB9,2)","v":0},{"$f":"COUNTIF(Game!AA7:AC9,2)","v":0},{"$f":"COUNTIF(Game!AB7:AD9,2)","v":0},{"$f":"COUNTIF(Game!AC7:AE9,2)","v":0},{"$f":"COUNTIF(Game!AD7:AF9,2)","v":0},{"$f":"COUNTIF(Game!AE7:AG9,2)","v":0},{"$f":"COUNTIF(Game!AF7:AH9,2)","v":0},{"$f":"COUNTIF(Game!AG7:AI9,2)","v":0},{"$f":"COUNTIF(Game!AH7:AJ9,2)","v":0},{"$f":"COUNTIF(Game!AI7:AK9,2)","v":0},{"$f":"COUNTIF(Game!AJ7:AL9,2)","v":0},{"$f":"COUNTIF(Game!AK7:AM9,2)","v":0}]
[null,{"$f":"COUNTIF(Game!A8:C10,2)","v":0},{"$f":"COUNTIF(Game!B8:D10,2)","v":0},{"$f":"COUNTIF(Game!C8:E10,2)","v":0},{"$f":"COUNTIF(Game!D8:F10,2)","v":0},{"$f":"COUNTIF(Game!E8:G10,2)","v":0},{"$f":"COUNTIF(Game!F8:H10,2)","v":0},{"$f":"COUNTIF(Game!G8:I10,2)","v":0},{"$f":"COUNTIF(Game!H8:J10,2)","v":0},{"$f":"COUNTIF(Game!I8:K10,2)","v":0},{"$f":"COUNTIF(Game!J8:L10,2)","v":0},{"$f":"COUNTIF(Game!K8:M10,2)","v":0},{"$f":"COUNTIF(Game!L8:N10,2)","v":0},{"$f":"COUNTIF(Game!M8:O10,2)","v":0},{"$f":"COUNTIF(Game!N8:P10,2)","v":0},{"$f":"COUNTIF(Game!O8:Q10,2)","v":0},{"$f":"COUNTIF(Game!P8:R10,2)","v":0},{"$f":"COUNTIF(Game!Q8:S10,2)","v":0},{"$f":"COUNTIF(Game!R8:T10,2)","v":0},{"$f":"COUNTIF(Game!S8:U10,2)","v":0},{"$f":"COUNTIF(Game!T8:V10,2)","v":0},{"$f":"COUNTIF(Game!U8:W10,2)","v":0},{"$f":"COUNTIF(Game!V8:X10,2)","v":0},{"$f":"COUNTIF(Game!W8:Y10,2)","v":0},{"$f":"COUNTIF(Game!X8:Z10,2)","v":0},{"$f":"COUNTIF(Game!Y8:AA10,2)","v":0},{"$f":"COUNTIF(Game!Z8:AB10,2)","v":0},{"$f":"COUNTIF(Game!AA8:AC10,2)","v":0},{"$f":"COUNTIF(Game!AB8:AD10,2)","v":0},{"$f":"COUNTIF(Game!AC8:AE10,2)","v":0},{"$f":"COUNTIF(Game!AD8:AF10,2)","v":0},{"$f":"COUNTIF(Game!AE8:AG10,2)","v":0},{"$f":"COUNTIF(Game!AF8:AH10,2)","v":0},{"$f":"COUNTIF(Game!AG8:AI10,2)","v":0},{"$f":"COUNTIF(Game!AH8:AJ10,2)","v":0},{"$f":"COUNTIF(Game!AI8:AK10,2)","v":0},{"$f":"COUNTIF(Game!AJ8:AL10,2)","v":0},{"$f":"COUNTIF(Game!AK8:AM10,2)","v":0}]
[null,{"$f":"COUNTIF(Game!A9:C11,2)","v":0},{"$f":"COUNTIF(Game!B9:D11,2)","v":0},{"$f":"COUNTIF(Game!C9:E11,2)","v":0},{"$f":"COUNTIF(Game!D9:F11,2)","v":0},{"$f":"COUNTIF(Game!E9:G11,2)","v":0},{"$f":"COUNTIF(Game!F9:H11,2)","v":0},{"$f":"COUNTIF(Game!G9:I11,2)","v":0},{"$f":"COUNTIF(Game!H9:J11,2)","v":0},{"$f":"COUNTIF(Game!I9:K11,2)","v":0},{"$f":"COUNTIF(Game!J9:L11,2)","v":0},{"$f":"COUNTIF(Game!K9:M11,2)","v":0},{"$f":"COUNTIF(Game!L9:N11,2)","v":0},{"$f":"COUNTIF(Game!M9:O11,2)","v":0},{"$f":"COUNTIF(Game!N9:P11,2)","v":0},{"$f":"COUNTIF(Game!O9:Q11,2)","v":0},{"$f":"COUNTIF(Game!P9:R11,2)","v":0},{"$f":"COUNTIF(Game!Q9:S11,2)","v":0},{"$f":"COUNTIF(Game!R9:T11,2)","v":0},{"$f":"COUNTIF(Game!S9:U11,2)","v":0},{"$f":"COUNTIF(Game!T9:V11,2)","v":0},{"$f":"COUNTIF(Game!U9:W11,2)","v":0},{"$f":"COUNTIF(Game!V9:X11,2)","v":0},{"$f":"COUNTIF(Game!W9:Y11,2)","v":0},{"$f":"COUNTIF(Game!X9:Z11,2)","v":0},{"$f":"COUNTIF(Game!Y9:AA11,2)","v":0},{"$f":"COUNTIF(Game!Z9:AB11,2)","v":0},{"$f":"COUNTIF(Game!AA9:AC11,2)","v":0},{"$f":"COUNTIF(Game!AB9:AD11,2)","v":0},{"$f":"COUNTIF(Game!AC9:AE11,2)","v":0},{"$f":"COUNTIF(Game!AD9:AF11,2)","v":0},{"$f":"COUNTIF(Game!AE9:AG11,2)","v":0},{"$f":"COUNTIF(Game!AF9:AH11,2)","v":0},{"$f":"COUNTIF(Game!AG9:AI11,2)","v":0},{"$f":"COUNTIF(Game!AH9:AJ11,2)","v":0},{"$f":"COUNTIF(Game!AI9:AK11,2)","v":0},{"$f":"COUNTIF(Game!AJ9:AL11,2)","v":0},{"$f":"COUNTIF(Game!AK9:AM11,2)","v":0}]
[null,{"$f":"COUNTIF(Game!A10:C12,2)","v":0},{"$f":"COUNTIF(Game!B10:D12,2)","v":0},{"$f":"COUNTIF(Game!C10:E12,2)","v":0},{"$f":"COUNTIF(Game!D10:F12,2)","v":0},{"$f":"COUNTIF(Game!E10:G12,2)","v":0},{"$f":"COUNTIF(Game!F10:H12,2)","v":0},{"$f":"COUNTIF(Game!G10:I12,2)","v":0},{"$f":"COUNTIF(Game!H10:J12,2)","v":0},{"$f":"COUNTIF(Game!I10:K12,2)","v":0},{"$f":"COUNTIF(Game!J10:L12,2)","v":0},{"$f":"COUNTIF(Game!K10:M12,2)","v":0},{"$f":"COUNTIF(Game!L10:N12,2)","v":0},{"$f":"COUNTIF(Game!M10:O12,2)","v":0},{"$f":"COUNTIF(Game!N10:P12,2)","v":0},{"$f":"COUNTIF(Game!O10:Q12,2)","v":0},{"$f":"COUNTIF(Game!P10:R12,2)","v":0},{"$f":"COUNTIF(Game!Q10:S12,2)","v":0},{"$f":"COUNTIF(Game!R10:T12,2)","v":0},{"$f":"COUNTIF(Game!S10:U12,2)","v":0},{"$f":"COUNTIF(Game!T10:V12,2)","v":0},{"$f":"COUNTIF(Game!U10:W12,2)","v":0},{"$f":"COUNTIF(Game!V10:X12,2)","v":0},{"$f":"COUNTIF(Game!W10:Y12,2)","v":0},{"$f":"COUNTIF(Game!X10:Z12,2)","v":0},{"$f":"COUNTIF(Game!Y10:AA12,2)","v":0},{"$f":"COUNTIF(Game!Z10:AB12,2)","v":0},{"$f":"COUNTIF(Game!AA10:AC12,2)","v":0},{"$f":"COUNTIF(Game!AB10:AD12,2)","v":0},{"$f":"COUNTIF(Game!AC10:AE12,2)","v":0},{"$f":"COUNTIF(Game!AD10:AF12,2)","v":0},{"$f":"COUNTIF(Game!AE10:AG12,2)","v":0},{"$f":"COUNTIF(Game!AF10:AH12,2)","v":0},{"$f":"COUNTIF(Game!AG10:AI12,2)","v":0},{"$f":"COUNTIF(Game!AH10:AJ12,2)","v":0},{"$f":"COUNTIF(Game!AI10:AK12,2)","v":0},{"$f":"COUNTIF(Game!AJ10:AL12,2)","v":0},{"$f":"COUNTIF(Game!AK10:AM12,2)","v":0}]
[null,{"$f":"COUNTIF(Game!A11:C13,2)","v":0},{"$f":"COUNTIF(Game!B11:D13,2)","v":0},{"$f":"COUNTIF(Game!C11:E13,2)","v":0},{"$f":"COUNTIF(Game!D11:F13,2)","v":0},{"$f":"COUNTIF(Game!E11:G13,2)","v":0},{"$f":"COUNTIF(Game!F11:H13,2)","v":0},{"$f":"COUNTIF(Game!G11:I13,2)","v":0},{"$f":"COUNTIF(Game!H11:J13,2)","v":0},{"$f":"COUNTIF(Game!I11:K13,2)","v":0},{"$f":"COUNTIF(Game!J11:L13,2)","v":0},{"$f":"COUNTIF(Game!K11:M13,2)","v":0},{"$f":"COUNTIF(Game!L11:N13,2)","v":0},{"$f":"COUNTIF(Game!M11:O13,2)","v":0},{"$f":"COUNTIF(Game!N11:P13,2)","v":0},{"$f":"COUNTIF(Game!O11:Q13,2)","v":0},{"$f":"COUNTIF(Game!P11:R13,2)","v":0},{"$f":"COUNTIF(Game!Q11:S13,2)","v":0},{"$f":"COUNTIF(Game!R11:T13,2)","v":0},{"$f":"COUNTIF(Game!S11:U13,2)","v":0},{"$f":"COUNTIF(Game!T11:V13,2)","v":0},{"$f":"COUNTIF(Game!U11:W13,2)","v":0},{"$f":"COUNTIF(Game!V11:X13,2)","v":0},{"$f":"COUNTIF(Game!W11:Y13,2)","v":0},{"$f":"COUNTIF(Game!X11:Z13,2)","v":0},{"$f":"COUNTIF(Game!Y11:AA13,2)","v":0},{"$f":"COUNTIF(Game!Z11:AB13,2)","v":0},{"$f":"COUNTIF(Game!AA11:AC13,2)","v":0},{"$f":"COUNTIF(Game!AB11:AD13,2)","v":0},{"$f":"COUNTIF(Game!AC11:AE13,2)","v":0},{"$f":"COUNTIF(Game!AD11:AF13,2)","v":0},{"$f":"COUNTIF(Game!AE11:AG13,2)","v":0},{"$f":"COUNTIF(Game!AF11:AH13,2)","v":0},{"$f":"COUNTIF(Game!AG11:AI13,2)","v":0},{"$f":"COUNTIF(Game!AH11:AJ13,2)","v":0},{"$f":"COUNTIF(Game!AI11:AK13,2)","v":0},{"$f":"COUNTIF(Game!AJ11:AL13,2)","v":0},{"$f":"COUNTIF(Game!AK11:AM13,2)","v":0}]
[null,{"$f":"COUNTIF(Game!A12:C14,2)","v":0},{"$f":"COUNTIF(Game!B12:D14,2)","v":0},{"$f":"COUNTIF(Game!C12:E14,2)","v":0},{"$f":"COUNTIF(Game!D12:F14,2)","v":0},{"$f":"COUNTIF(Game!E12:G14,2)","v":0},{"$f":"COUNTIF(Game!F12:H14,2)","v":0},{"$f":"COUNTIF(Game!G12:I14,2)","v":0},{"$f":"COUNTIF(Game!H12:J14,2)","v":0},{"$f":"COUNTIF(Game!I12:K14,2)","v":0},{"$f":"COUNTIF(Game!J12:L14,2)","v":0},{"$f":"COUNTIF(Game!K12:M14,2)","v":0},{"$f":"COUNTIF(Game!L12:N14,2)","v":0},{"$f":"COUNTIF(Game!M12:O14,2)","v":0},{"$f":"COUNTIF(Game!N12:P14,2)","v":0},{"$f":"COUNTIF(Game!O12:Q14,2)","v":0},{"$f":"COUNTIF(Game!P12:R14,2)","v":0},{"$f":"COUNTIF(Game!Q12:S14,2)","v":0},{"$f":"COUNTIF(Game!R12:T14,2)","v":0},{"$f":"COUNTIF(Game!S12:U14,2)","v":0},{"$f":"COUNTIF(Game!T12:V14,2)","v":0},{"$f":"COUNTIF(Game!U12:W14,2)","v":0},{"$f":"COUNTIF(Game!V12:X14,2)","v":0},{"$f":"COUNTIF(Game!W12:Y14,2)","v":0},{"$f":"COUNTIF(Game!X12:Z14,2)","v":0},{"$f":"COUNTIF(Game!Y12:AA14,2)","v":0},{"$f":"COUNTIF(Game!Z12:AB14,2)","v":0},{"$f":"COUNTIF(Game!AA12:AC14,2)","v":0},{"$f":"COUNTIF(Game!AB12:AD14,2)","v":0},{"$f":"COUNTIF(Game!AC12:AE14,2)","v":0},{"$f":"COUNTIF(Game!AD12:AF14,2)","v":0},{"$f":"COUNTIF(Game!AE12:AG14,2)","v":0},{"$f":"COUNTIF(Game!AF12:AH14,2)","v":0},{"$f":"COUNTIF(Game!AG12:AI14,2)","v":0},{"$f":"COUNTIF(Game!AH12:AJ14,2)","v":0},{"$f":"COUNTIF(Game!AI12:AK14,2)","v":0},{"$f":"COUNTIF(Game!AJ12:AL14,2)","v":0},{"$f":"COUNTIF(Game!AK12:AM14,2)","v":0}]
[null,{"$f":"COUNTIF(Game!A13:C15,2)","v":0},{"$f":"COUNTIF(Game!B13:D15,2)","v":0},{"$f":"COUNTIF(Game!C13:E15,2)","v":0},{"$f":"COUNTIF(Game!D13:F15,2)","v":0},{"$f":"COUNTIF(Game!E13:G15,2)","v":0},{"$f":"COUNTIF(Game!F13:H15,2)","v":0},{"$f":"COUNTIF(Game!G13:I15,2)","v":0},{"$f":"COUNTIF(Game!H13:J15,2)","v":0},{"$f":"COUNTIF(Game!I13:K15,2)","v":0},{"$f":"COUNTIF(Game!J13:L15,2)","v":0},{"$f":"COUNTIF(Game!K13:M15,2)","v":0},{"$f":"COUNTIF(Game!L13:N15,2)","v":0},{"$f":"COUNTIF(Game!M13:O15,2)","v":0},{"$f":"COUNTIF(Game!N13:P15,2)","v":0},{"$f":"COUNTIF(Game!O13:Q15,2)","v":0},{"$f":"COUNTIF(Game!P13:R15,2)","v":0},{"$f":"COUNTIF(Game!Q13:S15,2)","v":0},{"$f":"COUNTIF(Game!R13:T15,2)","v":0},{"$f":"COUNTIF(Game!S13:U15,2)","v":0},{"$f":"COUNTIF(Game!T13:V15,2)","v":0},{"$f":"COUNTIF(Game!U13:W15,2)","v":0},{"$f":"COUNTIF(Game!V13:X15,2)","v":0},{"$f":"COUNTIF(Game!W13:Y15,2)","v":0},{"$f":"COUNTIF(Game!X13:Z15,2)","v":0},{"$f":"COUNTIF(Game!Y13:AA15,2)","v":0},{"$f":"COUNTIF(Game!Z13:AB15,2)","v":0},{"$f":"COUNTIF(Game!AA13:AC15,2)","v":0},{"$f":"COUNTIF(Game!AB13:AD15,2)","v":0},{"$f":"COUNTIF(Game!AC13:AE15,2)","v":0},{"$f":"COUNTIF(Game!AD13:AF15,2)","v":0},{"$f":"COUNTIF(Game!AE13:AG15,2)","v":0},{"$f":"COUNTIF(Game!AF13:AH15,2)","v":0},{"$f":"COUNTIF(Game!AG13:AI15,2)","v":0},{"$f":"COUNTIF(Game!AH13:AJ15,2)","v":0},{"$f":"COUNTIF(Game!AI13:AK15,2)","v":0},{"$f":"COUNTIF(Game!AJ13:AL15,2)","v":0},{"$f":"COUNTIF(Game!AK13:AM15,2)","v":0}]
[null,{"$f":"COUNTIF(Game!A14:C16,2)","v":0},{"$f":"COUNTIF(Game!B14:D16,2)","v":0},{"$f":"COUNTIF(Game!C14:E16,2)","v":0},{"$f":"COUNTIF(Game!D14:F16,2)","v":0},{"$f":"COUNTIF(Game!E14:G16,2)","v":0},{"$f":"COUNTIF(Game!F14:H16,2)","v":0},{"$f":"COUNTIF(Game!G14:I16,2)","v":0},{"$f":"COUNTIF(Game!H14:J16,2)","v":0},{"$f":"COUNTIF(Game!I14:K16,2)","v":0},{"$f":"COUNTIF(Game!J14:L16,2)","v":0},{"$f":"COUNTIF(Game!K14:M16,2)","v":0},{"$f":"COUNTIF(Game!L14:N16,2)","v":0},{"$f":"COUNTIF(Game!M14:O16,2)","v":0},{"$f":"COUNTIF(Game!N14:P16,2)","v":0},{"$f":"COUNTIF(Game!O14:Q16,2)","v":0},{"$f":"COUNTIF(Game!P14:R16,2)","v":0},{"$f":"COUNTIF(Game!Q14:S16,2)","v":0},{"$f":"COUNTIF(Game!R14:T16,2)","v":0},{"$f":"COUNTIF(Game!S14:U16,2)","v":0},{"$f":"COUNTIF(Game!T14:V16,2)","v":0},{"$f":"COUNTIF(Game!U14:W16,2)","v":0},{"$f":"COUNTIF(Game!V14:X16,2)","v":0},{"$f":"COUNTIF(Game!W14:Y16,2)","v":0},{"$f":"COUNTIF(Game!X14:Z16,2)","v":0},{"$f":"COUNTIF(Game!Y14:AA16,2)","v":0},{"$f":"COUNTIF(Game!Z14:AB16,2)","v":0},{"$f":"COUNTIF(Game!AA14:AC16,2)","v":0},{"$f":"COUNTIF(Game!AB14:AD16,2)","v":0},{"$f":"COUNTIF(Game!AC14:AE16,2)","v":0},{"$f":"COUNTIF(Game!AD14:AF16,2)","v":0},{"$f":"COUNTIF(Game!AE14:AG16,2)","v":0},{"$f":"COUNTIF(Game!AF14:AH16,2)","v":0},{"$f":"COUNTIF(Game!AG14:AI16,2)","v":0},{"$f":"COUNTIF(Game!AH14:AJ16,2)","v":0},{"$f":"COUNTIF(Game!AI14:AK16,2)","v":0},{"$f":"COUNTIF(Game!AJ14:AL16,2)","v":0},{"$f":"COUNTIF(Game!AK14:AM16,2)","v":0}]
[null,{"$f":"COUNTIF(Game!A15:C17,2)","v":0},{"$f":"COUNTIF(Game!B15:D17,2)","v":0},{"$f":"COUNTIF(Game!C15:E17,2)","v":0},{"$f":"COUNTIF(Game!D15:F17,2)","v":0},{"$f":"COUNTIF(Game!E15:G17,2)","v":0},{"$f":"COUNTIF(Game!F15:H17,2)","v":0},{"$f":"COUNTIF(Game!G15:I17,2)","v":1},{"$f":"COUNTIF(Game!H15:J17,2)","v":1},{"$f":"COUNTIF(Game!I15:K17,2)","v":1},{"$f":"COUNTIF(Game!J15:L17,2)","v":0},{"$f":"COUNTIF(Game!K15:M17,2)","v":0},{"$f":"COUNTIF(Game!L15:N17,2)","v":0},{"$f":"COUNTIF(Game!M15:O17,2)","v":0},{"$f":"COUNTIF(Game!N15:P17,2)","v":0},{"$f":"COUNTIF(Game!O15:Q17,2)","v":0},{"$f":"COUNTIF(Game!P15:R17,2)","v":0},{"$f":"COUNTIF(Game!Q15:S17,2)","v":0},{"$f":"COUNTIF(Game!R15:T17,2)","v":0},{"$f":"COUNTIF(Game!S15:U17,2)","v":0},{"$f":"COUNTIF(Game!T15:V17,2)","v":0},{"$f":"COUNTIF(Game!U15:W17,2)","v":0},{"$f":"COUNTIF(Game!V15:X17,2)","v":0},{"$f":"COUNTIF(Game!W15:Y17,2)","v":0},{"$f":"COUNTIF(Game!X15:Z17,2)","v":0},{"$f":"COUNTIF(Game!Y15:AA17,2)","v":0},{"$f":"COUNTIF(Game!Z15:AB17,2)","v":0},{"$f":"COUNTIF(Game!AA15:AC17,2)","v":0},{"$f":"COUNTIF(Game!AB15:AD17,2)","v":0},{"$f":"COUNTIF(Game!AC15:AE17,2)","v":0},{"$f":"COUNTIF(Game!AD15:AF17,2)","v":0},{"$f":"COUNTIF(Game!AE15:AG17,2)","v":0},{"$f":"COUNTIF(Game!AF15:AH17,2)","v":0},{"$f":"COUNTIF(Game!AG15:AI17,2)","v":0},{"$f":"COUNTIF(Game!AH15:AJ17,2)","v":0},{"$f":"COUNTIF(Game!AI15:AK17,2)","v":0},{"$f":"COUNTIF(Game!AJ15:AL17,2)","v":0},{"$f":"COUNTIF(Game!AK15:AM17,2)","v":0}]
[null,{"$f":"COUNTIF(Game!A16:C18,2)","v":0},{"$f":"COUNTIF(Game!B16:D18,2)","v":0},{"$f":"COUNTIF(Game!C16:E18,2)","v":0},{"$f":"COUNTIF(Game!D16:F18,2)","v":0},{"$f":"COUNTIF(Game!E16:G18,2)","v":0},{"$f":"COUNTIF(Game!F16:H18,2)","v":1},{"$f":"COUNTIF(Game!G16:I18,2)","v":2},{"$f":"COUNTIF(Game!H16:J18,2)","v":2},{"$f":"COUNTIF(Game!I16:K18,2)","v":1},{"$f":"COUNTIF(Game!J16:L18,2)","v":0},{"$f":"COUNTIF(Game!K16:M18,2)","v":0},{"$f":"COUNTIF(Game!L16:N18,2)","v":0},{"$f":"COUNTIF(Game!M16:O18,2)","v":0},{"$f":"COUNTIF(Game!N16:P18,2)","v":0},{"$f":"COUNTIF(Game!O16:Q18,2)","v":0},{"$f":"COUNTIF(Game!P16:R18,2)","v":0},{"$f":"COUNTIF(Game!Q16:S18,2)","v":0},{"$f":"COUNTIF(Game!R16:T18,2)","v":0},{"$f":"COUNTIF(Game!S16:U18,2)","v":0},{"$f":"COUNTIF(Game!T16:V18,2)","v":0},{"$f":"COUNTIF(Game!U16:W18,2)","v":0},{"$f":"COUNTIF(Game!V16:X18,2)","v":0},{"$f":"COUNTIF(Game!W16:Y18,2)","v":0},{"$f":"COUNTIF(Game!X16:Z18,2)","v":0},{"$f":"COUNTIF(Game!Y16:AA18,2)","v":0},{"$f":"COUNTIF(Game!Z16:AB18,2)","v":0},{"$f":"COUNTIF(Game!AA16:AC18,2)","v":0},{"$f":"COUNTIF(Game!AB16:AD18,2)","v":0},{"$f":"COUNTIF(Game!AC16:AE18,2)","v":0},{"$f":"COUNTIF(Game!AD16:AF18,2)","v":0},{"$f":"COUNTIF(Game!AE16:AG18,2)","v":0},{"$f":"COUNTIF(Game!AF16:AH18,2)","v":0},{"$f":"COUNTIF(Game!AG16:AI18,2)","v":0},{"$f":"COUNTIF(Game!AH16:AJ18,2)","v":0},{"$f":"COUNTIF(Game!AI16:AK18,2)","v":0},{"$f":"COUNTIF(Game!AJ16:AL18,2)","v":0},{"$f":"COUNTIF(Game!AK16:AM18,2)","v":0}]
[null,{"$f":"COUNTIF(Game!A17:C19,2)","v":0},{"$f":"COUNTIF(Game!B17:D19,2)","v":0},{"$f":"COUNTIF(Game!C17:E19,2)","v":1},{"$f":"COUNTIF(Game!D17:F19,2)","v":2},{"$f":"COUNTIF(Game!E17:G19,2)","v":2},{"$f":"COUNTIF(Game!F17:H19,2)","v":3},{"$f":"COUNTIF(Game!G17:I19,2)","v":4},{"$f":"COUNTIF(Game!H17:J19,2)","v":5},{"$f":"COUNTIF(Game!I17:K19,2)","v":3},{"$f":"COUNTIF(Game!J17:L19,2)","v":1},{"$f":"COUNTIF(Game!K17:M19,2)","v":0},{"$f":"COUNTIF(Game!L17:N19,2)","v":0},{"$f":"COUNTIF(Game!M17:O19,2)","v":0},{"$f":"COUNTIF(Game!N17:P19,2)","v":0},{"$f":"COUNTIF(Game!O17:Q19,2)","v":0},{"$f":"COUNTIF(Game!P17:R19,2)","v":0},{"$f":"COUNTIF(Game!Q17:S19,2)","v":0},{"$f":"COUNTIF(Game!R17:T19,2)","v":0},{"$f":"COUNTIF(Game!S17:U19,2)","v":0},{"$f":"COUNTIF(Game!T17:V19,2)","v":0},{"$f":"COUNTIF(Game!U17:W19,2)","v":0},{"$f":"COUNTIF(Game!V17:X19,2)","v":0},{"$f":"COUNTIF(Game!W17:Y19,2)","v":0},{"$f":"COUNTIF(Game!X17:Z19,2)","v":0},{"$f":"COUNTIF(Game!Y17:AA19,2)","v":0},{"$f":"COUNTIF(Game!Z17:AB19,2)","v":0},{"$f":"COUNTIF(Game!AA17:AC19,2)","v":0},{"$f":"COUNTIF(Game!AB17:AD19,2)","v":0},{"$f":"COUNTIF(Game!AC17:AE19,2)","v":0},{"$f":"COUNTIF(Game!AD17:AF19,2)","v":0},{"$f":"COUNTIF(Game!AE17:AG19,2)","v":0},{"$f":"COUNTIF(Game!AF17:AH19,2)","v":0},{"$f":"COUNTIF(Game!AG17:AI19,2)","v":0},{"$f":"COUNTIF(Game!AH17:AJ19,2)","v":0},{"$f":"COUNTIF(Game!AI17:AK19,2)","v":0},{"$f":"COUNTIF(Game!AJ17:AL19,2)","v":0},{"$f":"COUNTIF(Game!AK17:AM19,2)","v":0}]
[null,{"$f":"COUNTIF(Game!A18:C20,2)","v":1},{"$f":"COUNTIF(Game!B18:D20,2)","v":2},{"$f":"COUNTIF(Game!C18:E20,2)","v":3},{"$f":"COUNTIF(Game!D18:F20,2)","v":3},{"$f":"COUNTIF(Game!E18:G20,2)","v":2},{"$f":"COUNTIF(Game!F18:H20,2)","v":3},{"$f":"COUNTIF(Game!G18:I20,2)","v":3},{"$f":"COUNTIF(Game!H18:J20,2)","v":4},{"$f":"COUNTIF(Game!I18:K20,2)","v":2},{"$f":"COUNTIF(Game!J18:L20,2)","v":1},{"$f":"COUNTIF(Game!K18:M20,2)","v":1},{"$f":"COUNTIF(Game!L18:N20,2)","v":1},{"$f":"COUNTIF(Game!M18:O20,2)","v":1},{"$f":"COUNTIF(Game!N18:P20,2)","v":0},{"$f":"COUNTIF(Game!O18:Q20,2)","v":0},{"$f":"COUNTIF(Game!P18:R20,2)","v":0},{"$f":"COUNTIF(Game!Q18:S20,2)","v":0},{"$f":"COUNTIF(Game!R18:T20,2)","v":0},{"$f":"COUNTIF(Game!S18:U20,2)","v":0},{"$f":"COUNTIF(Game!T18:V20,2)","v":0},{"$f":"COUNTIF(Game!U18:W20,2)","v":0},{"$f":"COUNTIF(Game!V18:X20,2)","v":0},{"$f":"COUNTIF(Game!W18:Y20,2)","v":0},{"$f":"COUNTIF(Game!X18:Z20,2)","v":0},{"$f":"COUNTIF(Game!Y18:AA20,2)","v":0},{"$f":"COUNTIF(Game!Z18:AB20,2)","v":0},{"$f":"COUNTIF(Game!AA18:AC20,2)","v":0},{"$f":"COUNTIF(Game!AB18:AD20,2)","v":0},{"$f":"COUNTIF(Game!AC18:AE20,2)","v":0},{"$f":"COUNTIF(Game!AD18:AF20,2)","v":0},{"$f":"COUNTIF(Game!AE18:AG20,2)","v":0},{"$f":"COUNTIF(Game!AF18:AH20,2)","v":0},{"$f":"COUNTIF(Game!AG18:AI20,2)","v":0},{"$f":"COUNTIF(Game!AH18:AJ20,2)","v":0},{"$f":"COUNTIF(Game!AI18:AK20,2)","v":0},{"$f":"COUNTIF(Game!AJ18:AL20,2)","v":0},{"$f":"COUNTIF(Game!AK18:AM20,2)","v":0}]
[null,{"$f":"COUNTIF(Game!A19:C21,2)","v":3},{"$f":"COUNTIF(Game!B19:D21,2)","v":4},{"$f":"COUNTIF(Game!C19:E21,2)","v":4},{"$f":"COUNTIF(Game!D19:F21,2)","v":3},{"$f":"COUNTIF(Game!E19:G21,2)","v":3},{"$f":"COUNTIF(Game!F19:H21,2)","v":3},{"$f":"COUNTIF(Game!G19:I21,2)","v":3},{"$f":"COUNTIF(Game!H19:J21,2)","v":3},{"$f":"COUNTIF(Game!I19:K21,2)","v":3},{"$f":"COUNTIF(Game!J19:L21,2)","v":2},{"$f":"COUNTIF(Game!K19:M21,2)","v":2},{"$f":"COUNTIF(Game!L19:N21,2)","v":2},{"$f":"COUNTIF(Game!M19:O21,2)","v":2},{"$f":"COUNTIF(Game!N19:P21,2)","v":1},{"$f":"COUNTIF(Game!O19:Q21,2)","v":0},{"$f":"COUNTIF(Game!P19:R21,2)","v":0},{"$f":"COUNTIF(Game!Q19:S21,2)","v":0},{"$f":"COUNTIF(Game!R19:T21,2)","v":0},{"$f":"COUNTIF(Game!S19:U21,2)","v":0},{"$f":"COUNTIF(Game!T19:V21,2)","v":0},{"$f":"COUNTIF(Game!U19:W21,2)","v":0},{"$f":"COUNTIF(Game!V19:X21,2)","v":0},{"$f":"COUNTIF(Game!W19:Y21,2)","v":0},{"$f":"COUNTIF(Game!X19:Z21,2)","v":0},{"$f":"COUNTIF(Game!Y19:AA21,2)","v":0},{"$f":"COUNTIF(Game!Z19:AB21,2)","v":0},{"$f":"COUNTIF(Game!AA19:AC21,2)","v":0},{"$f":"COUNTIF(Game!AB19:AD21,2)","v":0},{"$f":"COUNTIF(Game!AC19:AE21,2)","v":0},{"$f":"COUNTIF(Game!AD19:AF21,2)","v":0},{"$f":"COUNTIF(Game!AE19:AG21,2)","v":0},{"$f":"COUNTIF(Game!AF19:AH21,2)","v":0},{"$f":"COUNTIF(Game!AG19:AI21,2)","v":0},{"$f":"COUNTIF(Game!AH19:AJ21,2)","v":0},{"$f":"COUNTIF(Game!AI19:AK21,2)","v":0},{"$f":"COUNTIF(Game!AJ19:AL21,2)","v":0},{"$f":"COUNTIF(Game!AK19:AM21,2)","v":0}]
[null,{"$f":"COUNTIF(Game!A20:C22,2)","v":3},{"$f":"COUNTIF(Game!B20:D22,2)","v":4},{"$f":"COUNTIF(Game!C20:E22,2)","v":4},{"$f":"COUNTIF(Game!D20:F22,2)","v":2},{"$f":"COUNTIF(Game!E20:G22,2)","v":3},{"$f":"COUNTIF(Game!F20:H22,2)","v":3},{"$f":"COUNTIF(Game!G20:I22,2)","v":3},{"$f":"COUNTIF(Game!H20:J22,2)","v":2},{"$f":"COUNTIF(Game!I20:K22,2)","v":2},{"$f":"COUNTIF(Game!J20:L22,2)","v":2},{"$f":"COUNTIF(Game!K20:M22,2)","v":2},{"$f":"COUNTIF(Game!L20:N22,2)","v":2},{"$f":"COUNTIF(Game!M20:O22,2)","v":2},{"$f":"COUNTIF(Game!N20:P22,2)","v":1},{"$f":"COUNTIF(Game!O20:Q22,2)","v":0},{"$f":"COUNTIF(Game!P20:R22,2)","v":0},{"$f":"COUNTIF(Game!Q20:S22,2)","v":0},{"$f":"COUNTIF(Game!R20:T22,2)","v":0},{"$f":"COUNTIF(Game!S20:U22,2)","v":0},{"$f":"COUNTIF(Game!T20:V22,2)","v":0},{"$f":"COUNTIF(Game!U20:W22,2)","v":0},{"$f":"COUNTIF(Game!V20:X22,2)","v":0},{"$f":"COUNTIF(Game!W20:Y22,2)","v":0},{"$f":"COUNTIF(Game!X20:Z22,2)","v":0},{"$f":"COUNTIF(Game!Y20:AA22,2)","v":0},{"$f":"COUNTIF(Game!Z20:AB22,2)","v":0},{"$f":"COUNTIF(Game!AA20:AC22,2)","v":0},{"$f":"COUNTIF(Game!AB20:AD22,2)","v":0},{"$f":"COUNTIF(Game!AC20:AE22,2)","v":0},{"$f":"COUNTIF(Game!AD20:AF22,2)","v":0},{"$f":"COUNTIF(Game!AE20:AG22,2)","v":0},{"$f":"COUNTIF(Game!AF20:AH22,2)","v":0},{"$f":"COUNTIF(Game!AG20:AI22,2)","v":0},{"$f":"COUNTIF(Game!AH20:AJ22,2)","v":0},{"$f":"COUNTIF(Game!AI20:AK22,2)","v":0},{"$f":"COUNTIF(Game!AJ20:AL22,2)","v":0},{"$f":"COUNTIF(Game!AK20:AM22,2)","v":0}]
[null,{"$f":"COUNTIF(Game!A21:C23,2)","v":4},{"$f":"COUNTIF(Game!B21:D23,2)","v":5},{"$f":"COUNTIF(Game!C21:E23,2)","v":4},{"$f":"COUNTIF(Game!D21:F23,2)","v":3},{"$f":"COUNTIF(Game!E21:G23,2)","v":5},{"$f":"COUNTIF(Game!F21:H23,2)","v":5},{"$f":"COUNTIF(Game!G21:I23,2)","v":5},{"$f":"COUNTIF(Game!H21:J23,2)","v":4},{"$f":"COUNTIF(Game!I21:K23,2)","v":4},{"$f":"COUNTIF(Game!J21:L23,2)","v":3},{"$f":"COUNTIF(Game!K21:M23,2)","v":2},{"$f":"COUNTIF(Game!L21:N23,2)","v":2},{"$f":"COUNTIF(Game!M21:O23,2)","v":2},{"$f":"COUNTIF(Game!N21:P23,2)","v":1},{"$f":"COUNTIF(Game!O21:Q23,2)","v":0},{"$f":"COUNTIF(Game!P21:R23,2)","v":0},{"$f":"COUNTIF(Game!Q21:S23,2)","v":0},{"$f":"COUNTIF(Game!R21:T23,2)","v":0},{"$f":"COUNTIF(Game!S21:U23,2)","v":0},{"$f":"COUNTIF(Game!T21:V23,2)","v":0},{"$f":"COUNTIF(Game!U21:W23,2)","v":0},{"$f":"COUNTIF(Game!V21:X23,2)","v":0},{"$f":"COUNTIF(Game!W21:Y23,2)","v":0},{"$f":"COUNTIF(Game!X21:Z23,2)","v":0},{"$f":"COUNTIF(Game!Y21:AA23,2)","v":0},{"$f":"COUNTIF(Game!Z21:AB23,2)","v":0},{"$f":"COUNTIF(Game!AA21:AC23,2)","v":0},{"$f":"COUNTIF(Game!AB21:AD23,2)","v":0},{"$f":"COUNTIF(Game!AC21:AE23,2)","v":0},{"$f":"COUNTIF(Game!AD21:AF23,2)","v":0},{"$f":"COUNTIF(Game!AE21:AG23,2)","v":0},{"$f":"COUNTIF(Game!AF21:AH23,2)","v":0},{"$f":"COUNTIF(Game!AG21:AI23,2)","v":0},{"$f":"COUNTIF(Game!AH21:AJ23,2)","v":0},{"$f":"COUNTIF(Game!AI21:AK23,2)","v":0},{"$f":"COUNTIF(Game!AJ21:AL23,2)","v":0},{"$f":"COUNTIF(Game!AK21:AM23,2)","v":0}]
[null,{"$f":"COUNTIF(Game!A22:C24,2)","v":3},{"$f":"COUNTIF(Game!B22:D24,2)","v":4},{"$f":"COUNTIF(Game!C22:E24,2)","v":4},{"$f":"COUNTIF(Game!D22:F24,2)","v":3},{"$f":"COUNTIF(Game!E22:G24,2)","v":5},{"$f":"COUNTIF(Game!F22:H24,2)","v":6},{"$f":"COUNTIF(Game!G22:I24,2)","v":7},{"$f":"COUNTIF(Game!H22:J24,2)","v":6},{"$f":"COUNTIF(Game!I22:K24,2)","v":4},{"$f":"COUNTIF(Game!J22:L24,2)","v":3},{"$f":"COUNTIF(Game!K22:M24,2)","v":2},{"$f":"COUNTIF(Game!L22:N24,2)","v":2},{"$f":"COUNTIF(Game!M22:O24,2)","v":1},{"$f":"COUNTIF(Game!N22:P24,2)","v":0},{"$f":"COUNTIF(Game!O22:Q24,2)","v":0},{"$f":"COUNTIF(Game!P22:R24,2)","v":0},{"$f":"COUNTIF(Game!Q22:S24,2)","v":0},{"$f":"COUNTIF(Game!R22:T24,2)","v":0},{"$f":"COUNTIF(Game!S22:U24,2)","v":0},{"$f":"COUNTIF(Game!T22:V24,2)","v":0},{"$f":"COUNTIF(Game!U22:W24,2)","v":0},{"$f":"COUNTIF(Game!V22:X24,2)","v":0},{"$f":"COUNTIF(Game!W22:Y24,2)","v":0},{"$f":"COUNTIF(Game!X22:Z24,2)","v":0},{"$f":"COUNTIF(Game!Y22:AA24,2)","v":0},{"$f":"COUNTIF(Game!Z22:AB24,2)","v":0},{"$f":"COUNTIF(Game!AA22:AC24,2)","v":0},{"$f":"COUNTIF(Game!AB22:AD24,2)","v":0},{"$f":"COUNTIF(Game!AC22:AE24,2)","v":0},{"$f":"COUNTIF(Game!AD22:AF24,2)","v":0},{"$f":"COUNTIF(Game!AE22:AG24,2)","v":0},{"$f":"COUNTIF(Game!AF22:AH24,2)","v":0},{"$f":"COUNTIF(Game!AG22:AI24,2)","v":0},{"$f":"COUNTIF(Game!AH22:AJ24,2)","v":0},{"$f":"COUNTIF(Game!AI22:AK24,2)","v":0},{"$f":"COUNTIF(Game!AJ22:AL24,2)","v":0},{"$f":"COUNTIF(Game!AK22:AM24,2)","v":0}]
[null,{"$f":"COUNTIF(Game!A23:C25,2)","v":3},{"$f":"COUNTIF(Game!B23:D25,2)","v":4},{"$f":"COUNTIF(Game!C23:E25,2)","v":3},{"$f":"COUNTIF(Game!D23:F25,2)","v":2},{"$f":"COUNTIF(Game!E23:G25,2)","v":4},{"$f":"COUNTIF(Game!F23:H25,2)","v":6},{"$f":"COUNTIF(Game!G23:I25,2)","v":7},{"$f":"COUNTIF(Game!H23:J25,2)","v":5},{"$f":"COUNTIF(Game!I23:K25,2)","v":3},{"$f":"COUNTIF(Game!J23:L25,2)","v":2},{"$f":"COUNTIF(Game!K23:M25,2)","v":2},{"$f":"COUNTIF(Game!L23:N25,2)","v":2},{"$f":"COUNTIF(Game!M23:O25,2)","v":1},{"$f":"COUNTIF(Game!N23:P25,2)","v":0},{"$f":"COUNTIF(Game!O23:Q25,2)","v":0},{"$f":"COUNTIF(Game!P23:R25,2)","v":0},{"$f":"COUNTIF(Game!Q23:S25,2)","v":0},{"$f":"COUNTIF(Game!R23:T25,2)","v":0},{"$f":"COUNTIF(Game!S23:U25,2)","v":0},{"$f":"COUNTIF(Game!T23:V25,2)","v":0},{"$f":"COUNTIF(Game!U23:W25,2)","v":0},{"$f":"COUNTIF(Game!V23:X25,2)","v":0},{"$f":"COUNTIF(Game!W23:Y25,2)","v":0},{"$f":"COUNTIF(Game!X23:Z25,2)","v":0},{"$f":"COUNTIF(Game!Y23:AA25,2)","v":0},{"$f":"COUNTIF(Game!Z23:AB25,2)","v":0},{"$f":"COUNTIF(Game!AA23:AC25,2)","v":0},{"$f":"COUNTIF(Game!AB23:AD25,2)","v":0},{"$f":"COUNTIF(Game!AC23:AE25,2)","v":0},{"$f":"COUNTIF(Game!AD23:AF25,2)","v":0},{"$f":"COUNTIF(Game!AE23:AG25,2)","v":0},{"$f":"COUNTIF(Game!AF23:AH25,2)","v":0},{"$f":"COUNTIF(Game!AG23:AI25,2)","v":0},{"$f":"COUNTIF(Game!AH23:AJ25,2)","v":0},{"$f":"COUNTIF(Game!AI23:AK25,2)","v":0},{"$f":"COUNTIF(Game!AJ23:AL25,2)","v":0},{"$f":"COUNTIF(Game!AK23:AM25,2)","v":0}]
[null,{"$f":"COUNTIF(Game!A24:C26,2)","v":1},{"$f":"COUNTIF(Game!B24:D26,2)","v":1},{"$f":"COUNTIF(Game!C24:E26,2)","v":1},{"$f":"COUNTIF(Game!D24:F26,2)","v":0},{"$f":"COUNTIF(Game!E24:G26,2)","v":2},{"$f":"COUNTIF(Game!F24:H26,2)","v":4},{"$f":"COUNTIF(Game!G24:I26,2)","v":5},{"$f":"COUNTIF(Game!H24:J26,2)","v":3},{"$f":"COUNTIF(Game!I24:K26,2)","v":1},{"$f":"COUNTIF(Game!J24:L26,2)","v":1},{"$f":"COUNTIF(Game!K24:M26,2)","v":1},{"$f":"COUNTIF(Game!L24:N26,2)","v":1},{"$f":"COUNTIF(Game!M24:O26,2)","v":0},{"$f":"COUNTIF(Game!N24:P26,2)","v":0},{"$f":"COUNTIF(Game!O24:Q26,2)","v":0},{"$f":"COUNTIF(Game!P24:R26,2)","v":0},{"$f":"COUNTIF(Game!Q24:S26,2)","v":0},{"$f":"COUNTIF(Game!R24:T26,2)","v":0},{"$f":"COUNTIF(Game!S24:U26,2)","v":0},{"$f":"COUNTIF(Game!T24:V26,2)","v":0},{"$f":"COUNTIF(Game!U24:W26,2)","v":0},{"$f":"COUNTIF(Game!V24:X26,2)","v":0},{"$f":"COUNTIF(Game!W24:Y26,2)","v":0},{"$f":"COUNTIF(Game!X24:Z26,2)","v":0},{"$f":"COUNTIF(Game!Y24:AA26,2)","v":0},{"$f":"COUNTIF(Game!Z24:AB26,2)","v":0},{"$f":"COUNTIF(Game!AA24:AC26,2)","v":0},{"$f":"COUNTIF(Game!AB24:AD26,2)","v":0},{"$f":"COUNTIF(Game!AC24:AE26,2)","v":0},{"$f":"COUNTIF(Game!AD24:AF26,2)","v":0},{"$f":"COUNTIF(Game!AE24:AG26,2)","v":0},{"$f":"COUNTIF(Game!AF24:AH26,2)","v":0},{"$f":"COUNTIF(Game!AG24:AI26,2)","v":0},{"$f":"COUNTIF(Game!AH24:AJ26,2)","v":0},{"$f":"COUNTIF(Game!AI24:AK26,2)","v":0},{"$f":"COUNTIF(Game!AJ24:AL26,2)","v":0},{"$f":"COUNTIF(Game!AK24:AM26,2)","v":0}]
[null,{"$f":"COUNTIF(Game!A25:C27,2)","v":0},{"$f":"COUNTIF(Game!B25:D27,2)","v":0},{"$f":"COUNTIF(Game!C25:E27,2)","v":0},{"$f":"COUNTIF(Game!D25:F27,2)","v":0},{"$f":"COUNTIF(Game!E25:G27,2)","v":1},{"$f":"COUNTIF(Game!F25:H27,2)","v":2},{"$f":"COUNTIF(Game!G25:I27,2)","v":2},{"$f":"COUNTIF(Game!H25:J27,2)","v":1},{"$f":"COUNTIF(Game!I25:K27,2)","v":0},{"$f":"COUNTIF(Game!J25:L27,2)","v":0},{"$f":"COUNTIF(Game!K25:M27,2)","v":0},{"$f":"COUNTIF(Game!L25:N27,2)","v":0},{"$f":"COUNTIF(Game!M25:O27,2)","v":0},{"$f":"COUNTIF(Game!N25:P27,2)","v":0},{"$f":"COUNTIF(Game!O25:Q27,2)","v":0},{"$f":"COUNTIF(Game!P25:R27,2)","v":0},{"$f":"COUNTIF(Game!Q25:S27,2)","v":0},{"$f":"COUNTIF(Game!R25:T27,2)","v":0},{"$f":"COUNTIF(Game!S25:U27,2)","v":0},{"$f":"COUNTIF(Game!T25:V27,2)","v":0},{"$f":"COUNTIF(Game!U25:W27,2)","v":0},{"$f":"COUNTIF(Game!V25:X27,2)","v":0},{"$f":"COUNTIF(Game!W25:Y27,2)","v":0},{"$f":"COUNTIF(Game!X25:Z27,2)","v":0},{"$f":"COUNTIF(Game!Y25:AA27,2)","v":0},{"$f":"COUNTIF(Game!Z25:AB27,2)","v":0},{"$f":"COUNTIF(Game!AA25:AC27,2)","v":0},{"$f":"COUNTIF(Game!AB25:AD27,2)","v":0},{"$f":"COUNTIF(Game!AC25:AE27,2)","v":0},{"$f":"COUNTIF(Game!AD25:AF27,2)","v":0},{"$f":"COUNTIF(Game!AE25:AG27,2)","v":0},{"$f":"COUNTIF(Game!AF25:AH27,2)","v":0},{"$f":"COUNTIF(Game!AG25:AI27,2)","v":0},{"$f":"COUNTIF(Game!AH25:AJ27,2)","v":0},{"$f":"COUNTIF(Game!AI25:AK27,2)","v":0},{"$f":"COUNTIF(Game!AJ25:AL27,2)","v":0},{"$f":"COUNTIF(Game!AK25:AM27,2)","v":0}]
[null,{"$f":"COUNTIF(Game!A26:C28,2)","v":0},{"$f":"COUNTIF(Game!B26:D28,2)","v":0},{"$f":"COUNTIF(Game!C26:E28,2)","v":0},{"$f":"COUNTIF(Game!D26:F28,2)","v":0},{"$f":"COUNTIF(Game!E26:G28,2)","v":0},{"$f":"COUNTIF(Game!F26:H28,2)","v":0},{"$f":"COUNTIF(Game!G26:I28,2)","v":0},{"$f":"COUNTIF(Game!H26:J28,2)","v":0},{"$f":"COUNTIF(Game!I26:K28,2)","v":0},{"$f":"COUNTIF(Game!J26:L28,2)","v":0},{"$f":"COUNTIF(Game!K26:M28,2)","v":0},{"$f":"COUNTIF(Game!L26:N28,2)","v":0},{"$f":"COUNTIF(Game!M26:O28,2)","v":0},{"$f":"COUNTIF(Game!N26:P28,2)","v":0},{"$f":"COUNTIF(Game!O26:Q28,2)","v":0},{"$f":"COUNTIF(Game!P26:R28,2)","v":0},{"$f":"COUNTIF(Game!Q26:S28,2)","v":0},{"$f":"COUNTIF(Game!R26:T28,2)","v":0},{"$f":"COUNTIF(Game!S26:U28,2)","v":0},{"$f":"COUNTIF(Game!T26:V28,2)","v":0},{"$f":"COUNTIF(Game!U26:W28,2)","v":0},{"$f":"COUNTIF(Game!V26:X28,2)","v":0},{"$f":"COUNTIF(Game!W26:Y28,2)","v":0},{"$f":"COUNTIF(Game!X26:Z28,2)","v":0},{"$f":"COUNTIF(Game!Y26:AA28,2)","v":0},{"$f":"COUNTIF(Game!Z26:AB28,2)","v":0},{"$f":"COUNTIF(Game!AA26:AC28,2)","v":0},{"$f":"COUNTIF(Game!AB26:AD28,2)","v":0},{"$f":"COUNTIF(Game!AC26:AE28,2)","v":0},{"$f":"COUNTIF(Game!AD26:AF28,2)","v":0},{"$f":"COUNTIF(Game!AE26:AG28,2)","v":0},{"$f":"COUNTIF(Game!AF26:AH28,2)","v":0},{"$f":"COUNTIF(Game!AG26:AI28,2)","v":0},{"$f":"COUNTIF(Game!AH26:AJ28,2)","v":0},{"$f":"COUNTIF(Game!AI26:AK28,2)","v":0},{"$f":"COUNTIF(Game!AJ26:AL28,2)","v":0},{"$f":"COUNTIF(Game!AK26:AM28,2)","v":0}]
[null,{"$f":"COUNTIF(Game!A27:C29,2)","v":0},{"$f":"COUNTIF(Game!B27:D29,2)","v":0},{"$f":"COUNTIF(Game!C27:E29,2)","v":0},{"$f":"COUNTIF(Game!D27:F29,2)","v":0},{"$f":"COUNTIF(Game!E27:G29,2)","v":0},{"$f":"COUNTIF(Game!F27:H29,2)","v":0},{"$f":"COUNTIF(Game!G27:I29,2)","v":0},{"$f":"COUNTIF(Game!H27:J29,2)","v":0},{"$f":"COUNTIF(Game!I27:K29,2)","v":0},{"$f":"COUNTIF(Game!J27:L29,2)","v":0},{"$f":"COUNTIF(Game!K27:M29,2)","v":0},{"$f":"COUNTIF(Game!L27:N29,2)","v":0},{"$f":"COUNTIF(Game!M27:O29,2)","v":0},{"$f":"COUNTIF(Game!N27:P29,2)","v":0},{"$f":"COUNTIF(Game!O27:Q29,2)","v":0},{"$f":"COUNTIF(Game!P27:R29,2)","v":0},{"$f":"COUNTIF(Game!Q27:S29,2)","v":0},{"$f":"COUNTIF(Game!R27:T29,2)","v":0},{"$f":"COUNTIF(Game!S27:U29,2)","v":0},{"$f":"COUNTIF(Game!T27:V29,2)","v":0},{"$f":"COUNTIF(Game!U27:W29,2)","v":0},{"$f":"COUNTIF(Game!V27:X29,2)","v":0},{"$f":"COUNTIF(Game!W27:Y29,2)","v":0},{"$f":"COUNTIF(Game!X27:Z29,2)","v":0},{"$f":"COUNTIF(Game!Y27:AA29,2)","v":0},{"$f":"COUNTIF(Game!Z27:AB29,2)","v":0},{"$f":"COUNTIF(Game!AA27:AC29,2)","v":0},{"$f":"COUNTIF(Game!AB27:AD29,2)","v":0},{"$f":"COUNTIF(Game!AC27:AE29,2)","v":0},{"$f":"COUNTIF(Game!AD27:AF29,2)","v":0},{"$f":"COUNTIF(Game!AE27:AG29,2)","v":0},{"$f":"COUNTIF(Game!AF27:AH29,2)","v":0},{"$f":"COUNTIF(Game!AG27:AI29,2)","v":0},{"$f":"COUNTIF(Game!AH27:AJ29,2)","v":0},{"$f":"COUNTIF(Game!AI27:AK29,2)","v":0},{"$f":"COUNTIF(Game!AJ27:AL29,2)","v":0},{"$f":"COUNTIF(Game!AK27:AM29,2)","v":0}]
[null,{"$f":"COUNTIF(Game!A28:C30,2)","v":0},{"$f":"COUNTIF(Game!B28:D30,2)","v":0},{"$f":"COUNTIF(Game!C28:E30,2)","v":0},{"$f":"COUNTIF(Game!D28:F30,2)","v":0},{"$f":"COUNTIF(Game!E28:G30,2)","v":0},{"$f":"COUNTIF(Game!F28:H30,2)","v":0},{"$f":"COUNTIF(Game!G28:I30,2)","v":0},{"$f":"COUNTIF(Game!H28:J30,2)","v":0},{"$f":"COUNTIF(Game!I28:K30,2)","v":0},{"$f":"COUNTIF(Game!J28:L30,2)","v":0},{"$f":"COUNTIF(Game!K28:M30,2)","v":0},{"$f":"COUNTIF(Game!L28:N30,2)","v":0},{"$f":"COUNTIF(Game!M28:O30,2)","v":0},{"$f":"COUNTIF(Game!N28:P30,2)","v":0},{"$f":"COUNTIF(Game!O28:Q30,2)","v":0},{"$f":"COUNTIF(Game!P28:R30,2)","v":0},{"$f":"COUNTIF(Game!Q28:S30,2)","v":0},{"$f":"COUNTIF(Game!R28:T30,2)","v":0},{"$f":"COUNTIF(Game!S28:U30,2)","v":0},{"$f":"COUNTIF(Game!T28:V30,2)","v":0},{"$f":"COUNTIF(Game!U28:W30,2)","v":0},{"$f":"COUNTIF(Game!V28:X30,2)","v":0},{"$f":"COUNTIF(Game!W28:Y30,2)","v":0},{"$f":"COUNTIF(Game!X28:Z30,2)","v":0},{"$f":"COUNTIF(Game!Y28:AA30,2)","v":0},{"$f":"COUNTIF(Game!Z28:AB30,2)","v":0},{"$f":"COUNTIF(Game!AA28:AC30,2)","v":0},{"$f":"COUNTIF(Game!AB28:AD30,2)","v":0},{"$f":"COUNTIF(Game!AC28:AE30,2)","v":0},{"$f":"COUNTIF(Game!AD28:AF30,2)","v":0},{"$f":"COUNTIF(Game!AE28:AG30,2)","v":0},{"$f":"COUNTIF(Game!AF28:AH30,2)","v":0},{"$f":"COUNTIF(Game!AG28:AI30,2)","v":0},{"$f":"COUNTIF(Game!AH28:AJ30,2)","v":0},{"$f":"COUNTIF(Game!AI28:AK30,2)","v":0},{"$f":"COUNTIF(Game!AJ28:AL30,2)","v":0},{"$f":"COUNTIF(Game!AK28:AM30,2)","v":0}]
[null,{"$f":"COUNTIF(Game!A29:C31,2)","v":0},{"$f":"COUNTIF(Game!B29:D31,2)","v":0},{"$f":"COUNTIF(Game!C29:E31,2)","v":0},{"$f":"COUNTIF(Game!D29:F31,2)","v":0},{"$f":"COUNTIF(Game!E29:G31,2)","v":0},{"$f":"COUNTIF(Game!F29:H31,2)","v":0},{"$f":"COUNTIF(Game!G29:I31,2)","v":0},{"$f":"COUNTIF(Game!H29:J31,2)","v":0},{"$f":"COUNTIF(Game!I29:K31,2)","v":0},{"$f":"COUNTIF(Game!J29:L31,2)","v":0},{"$f":"COUNTIF(Game!K29:M31,2)","v":0},{"$f":"COUNTIF(Game!L29:N31,2)","v":0},{"$f":"COUNTIF(Game!M29:O31,2)","v":0},{"$f":"COUNTIF(Game!N29:P31,2)","v":0},{"$f":"COUNTIF(Game!O29:Q31,2)","v":0},{"$f":"COUNTIF(Game!P29:R31,2)","v":0},{"$f":"COUNTIF(Game!Q29:S31,2)","v":0},{"$f":"COUNTIF(Game!R29:T31,2)","v":0},{"$f":"COUNTIF(Game!S29:U31,2)","v":0},{"$f":"COUNTIF(Game!T29:V31,2)","v":0},{"$f":"COUNTIF(Game!U29:W31,2)","v":0},{"$f":"COUNTIF(Game!V29:X31,2)","v":0},{"$f":"COUNTIF(Game!W29:Y31,2)","v":0},{"$f":"COUNTIF(Game!X29:Z31,2)","v":0},{"$f":"COUNTIF(Game!Y29:AA31,2)","v":0},{"$f":"COUNTIF(Game!Z29:AB31,2)","v":0},{"$f":"COUNTIF(Game!AA29:AC31,2)","v":0},{"$f":"COUNTIF(Game!AB29:AD31,2)","v":0},{"$f":"COUNTIF(Game!AC29:AE31,2)","v":0},{"$f":"COUNTIF(Game!AD29:AF31,2)","v":0},{"$f":"COUNTIF(Game!AE29:AG31,2)","v":0},{"$f":"COUNTIF(Game!AF29:AH31,2)","v":0},{"$f":"COUNTIF(Game!AG29:AI31,2)","v":0},{"$f":"COUNTIF(Game!AH29:AJ31,2)","v":0},{"$f":"COUNTIF(Game!AI29:AK31,2)","v":0},{"$f":"COUNTIF(Game!AJ29:AL31,2)","v":0},{"$f":"COUNTIF(Game!AK29:AM31,2)","v":0}]
[null,{"$f":"COUNTIF(Game!A30:C32,2)","v":0},{"$f":"COUNTIF(Game!B30:D32,2)","v":0},{"$f":"COUNTIF(Game!C30:E32,2)","v":0},{"$f":"COUNTIF(Game!D30:F32,2)","v":0},{"$f":"COUNTIF(Game!E30:G32,2)","v":0},{"$f":"COUNTIF(Game!F30:H32,2)","v":0},{"$f":"COUNTIF(Game!G30:I32,2)","v":0},{"$f":"COUNTIF(Game!H30:J32,2)","v":0},{"$f":"COUNTIF(Game!I30:K32,2)","v":0},{"$f":"COUNTIF(Game!J30:L32,2)","v":0},{"$f":"COUNTIF(Game!K30:M32,2)","v":0},{"$f":"COUNTIF(Game!L30:N32,2)","v":0},{"$f":"COUNTIF(Game!M30:O32,2)","v":0},{"$f":"COUNTIF(Game!N30:P32,2)","v":0},{"$f":"COUNTIF(Game!O30:Q32,2)","v":0},{"$f":"COUNTIF(Game!P30:R32,2)","v":0},{"$f":"COUNTIF(Game!Q30:S32,2)","v":0},{"$f":"COUNTIF(Game!R30:T32,2)","v":0},{"$f":"COUNTIF(Game!S30:U32,2)","v":0},{"$f":"COUNTIF(Game!T30:V32,2)","v":0},{"$f":"COUNTIF(Game!U30:W32,2)","v":0},{"$f":"COUNTIF(Game!V30:X32,2)","v":0},{"$f":"COUNTIF(Game!W30:Y32,2)","v":0},{"$f":"COUNTIF(Game!X30:Z32,2)","v":0},{"$f":"COUNTIF(Game!Y30:AA32,2)","v":0},{"$f":"COUNTIF(Game!Z30:AB32,2)","v":0},{"$f":"COUNTIF(Game!AA30:AC32,2)","v":0},{"$f":"COUNTIF(Game!AB30:AD32,2)","v":0},{"$f":"COUNTIF(Game!AC30:AE32,2)","v":0},{"$f":"COUNTIF(Game!AD30:AF32,2)","v":0},{"$f":"COUNTIF(Game!AE30:AG32,2)","v":0},{"$f":"COUNTIF(Game!AF30:AH32,2)","v":0},{"$f":"COUNTIF(Game!AG30:AI32,2)","v":0},{"$f":"COUNTIF(Game!AH30:AJ32,2)","v":0},{"$f":"COUNTIF(Game!AI30:AK32,2)","v":0},{"$f":"COUNTIF(Game!AJ30:AL32,2)","v":0},{"$f":"COUNTIF(Game!AK30:AM32,2)","v":0}]
[null,{"$f":"COUNTIF(Game!A31:C33,2)","v":0},{"$f":"COUNTIF(Game!B31:D33,2)","v":0},{"$f":"COUNTIF(Game!C31:E33,2)","v":0},{"$f":"COUNTIF(Game!D31:F33,2)","v":0},{"$f":"COUNTIF(Game!E31:G33,2)","v":0},{"$f":"COUNTIF(Game!F31:H33,2)","v":0},{"$f":"COUNTIF(Game!G31:I33,2)","v":0},{"$f":"COUNTIF(Game!H31:J33,2)","v":0},{"$f":"COUNTIF(Game!I31:K33,2)","v":0},{"$f":"COUNTIF(Game!J31:L33,2)","v":0},{"$f":"COUNTIF(Game!K31:M33,2)","v":0},{"$f":"COUNTIF(Game!L31:N33,2)","v":0},{"$f":"COUNTIF(Game!M31:O33,2)","v":0},{"$f":"COUNTIF(Game!N31:P33,2)","v":0},{"$f":"COUNTIF(Game!O31:Q33,2)","v":0},{"$f":"COUNTIF(Game!P31:R33,2)","v":0},{"$f":"COUNTIF(Game!Q31:S33,2)","v":0},{"$f":"COUNTIF(Game!R31:T33,2)","v":0},{"$f":"COUNTIF(Game!S31:U33,2)","v":0},{"$f":"COUNTIF(Game!T31:V33,2)","v":0},{"$f":"COUNTIF(Game!U31:W33,2)","v":0},{"$f":"COUNTIF(Game!V31:X33,2)","v":0},{"$f":"COUNTIF(Game!W31:Y33,2)","v":0},{"$f":"COUNTIF(Game!X31:Z33,2)","v":0},{"$f":"COUNTIF(Game!Y31:AA33,2)","v":0},{"$f":"COUNTIF(Game!Z31:AB33,2)","v":0},{"$f":"COUNTIF(Game!AA31:AC33,2)","v":0},{"$f":"COUNTIF(Game!AB31:AD33,2)","v":0},{"$f":"COUNTIF(Game!AC31:AE33,2)","v":0},{"$f":"COUNTIF(Game!AD31:AF33,2)","v":0},{"$f":"COUNTIF(Game!AE31:AG33,2)","v":0},{"$f":"COUNTIF(Game!AF31:AH33,2)","v":0},{"$f":"COUNTIF(Game!AG31:AI33,2)","v":0},{"$f":"COUNTIF(Game!AH31:AJ33,2)","v":0},{"$f":"COUNTIF(Game!AI31:AK33,2)","v":0},{"$f":"COUNTIF(Game!AJ31:AL33,2)","v":0},{"$f":"COUNTIF(Game!AK31:AM33,2)","v":0}]
[null,{"$f":"COUNTIF(Game!A32:C34,2)","v":0},{"$f":"COUNTIF(Game!B32:D34,2)","v":0},{"$f":"COUNTIF(Game!C32:E34,2)","v":0},{"$f":"COUNTIF(Game!D32:F34,2)","v":0},{"$f":"COUNTIF(Game!E32:G34,2)","v":0},{"$f":"COUNTIF(Game!F32:H34,2)","v":0},{"$f":"COUNTIF(Game!G32:I34,2)","v":0},{"$f":"COUNTIF(Game!H32:J34,2)","v":0},{"$f":"COUNTIF(Game!I32:K34,2)","v":0},{"$f":"COUNTIF(Game!J32:L34,2)","v":0},{"$f":"COUNTIF(Game!K32:M34,2)","v":0},{"$f":"COUNTIF(Game!L32:N34,2)","v":0},{"$f":"COUNTIF(Game!M32:O34,2)","v":0},{"$f":"COUNTIF(Game!N32:P34,2)","v":0},{"$f":"COUNTIF(Game!O32:Q34,2)","v":0},{"$f":"COUNTIF(Game!P32:R34,2)","v":0},{"$f":"COUNTIF(Game!Q32:S34,2)","v":0},{"$f":"COUNTIF(Game!R32:T34,2)","v":0},{"$f":"COUNTIF(Game!S32:U34,2)","v":0},{"$f":"COUNTIF(Game!T32:V34,2)","v":0},{"$f":"COUNTIF(Game!U32:W34,2)","v":0},{"$f":"COUNTIF(Game!V32:X34,2)","v":0},{"$f":"COUNTIF(Game!W32:Y34,2)","v":0},{"$f":"COUNTIF(Game!X32:Z34,2)","v":0},{"$f":"COUNTIF(Game!Y32:AA34,2)","v":0},{"$f":"COUNTIF(Game!Z32:AB34,2)","v":0},{"$f":"COUNTIF(Game!AA32:AC34,2)","v":0},{"$f":"COUNTIF(Game!AB32:AD34,2)","v":0},{"$f":"COUNTIF(Game!AC32:AE34,2)","v":0},{"$f":"COUNTIF(Game!AD32:AF34,2)","v":0},{"$f":"COUNTIF(Game!AE32:AG34,2)","v":0},{"$f":"COUNTIF(Game!AF32:AH34,2)","v":0},{"$f":"COUNTIF(Game!AG32:AI34,2)","v":0},{"$f":"COUNTIF(Game!AH32:AJ34,2)","v":0},{"$f":"COUNTIF(Game!AI32:AK34,2)","v":0},{"$f":"COUNTIF(Game!AJ32:AL34,2)","v":0},{"$f":"COUNTIF(Game!AK32:AM34,2)","v":0}]
[null,{"$f":"COUNTIF(Game!A33:C35,2)","v":0},{"$f":"COUNTIF(Game!B33:D35,2)","v":0},{"$f":"COUNTIF(Game!C33:E35,2)","v":0},{"$f":"COUNTIF(Game!D33:F35,2)","v":0},{"$f":"COUNTIF(Game!E33:G35,2)","v":0},{"$f":"COUNTIF(Game!F33:H35,2)","v":0},{"$f":"COUNTIF(Game!G33:I35,2)","v":0},{"$f":"COUNTIF(Game!H33:J35,2)","v":0},{"$f":"COUNTIF(Game!I33:K35,2)","v":0},{"$f":"COUNTIF(Game!J33:L35,2)","v":0},{"$f":"COUNTIF(Game!K33:M35,2)","v":0},{"$f":"COUNTIF(Game!L33:N35,2)","v":0},{"$f":"COUNTIF(Game!M33:O35,2)","v":0},{"$f":"COUNTIF(Game!N33:P35,2)","v":0},{"$f":"COUNTIF(Game!O33:Q35,2)","v":0},{"$f":"COUNTIF(Game!P33:R35,2)","v":0},{"$f":"COUNTIF(Game!Q33:S35,2)","v":0},{"$f":"COUNTIF(Game!R33:T35,2)","v":0},{"$f":"COUNTIF(Game!S33:U35,2)","v":0},{"$f":"COUNTIF(Game!T33:V35,2)","v":0},{"$f":"COUNTIF(Game!U33:W35,2)","v":0},{"$f":"COUNTIF(Game!V33:X35,2)","v":0},{"$f":"COUNTIF(Game!W33:Y35,2)","v":0},{"$f":"COUNTIF(Game!X33:Z35,2)","v":0},{"$f":"COUNTIF(Game!Y33:AA35,2)","v":0},{"$f":"COUNTIF(Game!Z33:AB35,2)","v":0},{"$f":"COUNTIF(Game!AA33:AC35,2)","v":0},{"$f":"COUNTIF(Game!AB33:AD35,2)","v":0},{"$f":"COUNTIF(Game!AC33:AE35,2)","v":0},{"$f":"COUNTIF(Game!AD33:AF35,2)","v":0},{"$f":"COUNTIF(Game!AE33:AG35,2)","v":0},{"$f":"COUNTIF(Game!AF33:AH35,2)","v":0},{"$f":"COUNTIF(Game!AG33:AI35,2)","v":0},{"$f":"COUNTIF(Game!AH33:AJ35,2)","v":0},{"$f":"COUNTIF(Game!AI33:AK35,2)","v":0},{"$f":"COUNTIF(Game!AJ33:AL35,2)","v":0},{"$f":"COUNTIF(Game!AK33:AM35,2)","v":0}]
[null,{"$f":"COUNTIF(Game!A34:C36,2)","v":0},{"$f":"COUNTIF(Game!B34:D36,2)","v":0},{"$f":"COUNTIF(Game!C34:E36,2)","v":0},{"$f":"COUNTIF(Game!D34:F36,2)","v":0},{"$f":"COUNTIF(Game!E34:G36,2)","v":0},{"$f":"COUNTIF(Game!F34:H36,2)","v":0},{"$f":"COUNTIF(Game!G34:I36,2)","v":0},{"$f":"COUNTIF(Game!H34:J36,2)","v":0},{"$f":"COUNTIF(Game!I34:K36,2)","v":0},{"$f":"COUNTIF(Game!J34:L36,2)","v":0},{"$f":"COUNTIF(Game!K34:M36,2)","v":0},{"$f":"COUNTIF(Game!L34:N36,2)","v":0},{"$f":"COUNTIF(Game!M34:O36,2)","v":0},{"$f":"COUNTIF(Game!N34:P36,2)","v":0},{"$f":"COUNTIF(Game!O34:Q36,2)","v":0},{"$f":"COUNTIF(Game!P34:R36,2)","v":0},{"$f":"COUNTIF(Game!Q34:S36,2)","v":0},{"$f":"COUNTIF(Game!R34:T36,2)","v":0},{"$f":"COUNTIF(Game!S34:U36,2)","v":0},{"$f":"COUNTIF(Game!T34:V36,2)","v":0},{"$f":"COUNTIF(Game!U34:W36,2)","v":0},{"$f":"COUNTIF(Game!V34:X36,2)","v":0},{"$f":"COUNTIF(Game!W34:Y36,2)","v":0},{"$f":"COUNTIF(Game!X34:Z36,2)","v":0},{"$f":"COUNTIF(Game!Y34:AA36,2)","v":0},{"$f":"COUNTIF(Game!Z34:AB36,2)","v":0},{"$f":"COUNTIF(Game!AA34:AC36,2)","v":0},{"$f":"COUNTIF(Game!AB34:AD36,2)","v":0},{"$f":"COUNTIF(Game!AC34:AE36,2)","v":0},{"$f":"COUNTIF(Game!AD34:AF36,2)","v":0},{"$f":"COUNTIF(Game!AE34:AG36,2)","v":0},{"$f":"COUNTIF(Game!AF34:AH36,2)","v":0},{"$f":"COUNTIF(Game!AG34:AI36,2)","v":0},{"$f":"COUNTIF(Game!AH34:AJ36,2)","v":0},{"$f":"COUNTIF(Game!AI34:AK36,2)","v":0},{"$f":"COUNTIF(Game!AJ34:AL36,2)","v":0},{"$f":"COUNTIF(Game!AK34:AM36,2)","v":0}]
[null,{"$f":"COUNTIF(Game!A35:C37,2)","v":0},{"$f":"COUNTIF(Game!B35:D37,2)","v":0},{"$f":"COUNTIF(Game!C35:E37,2)","v":0},{"$f":"COUNTIF(Game!D35:F37,2)","v":0},{"$f":"COUNTIF(Game!E35:G37,2)","v":0},{"$f":"COUNTIF(Game!F35:H37,2)","v":0},{"$f":"COUNTIF(Game!G35:I37,2)","v":0},{"$f":"COUNTIF(Game!H35:J37,2)","v":0},{"$f":"COUNTIF(Game!I35:K37,2)","v":0},{"$f":"COUNTIF(Game!J35:L37,2)","v":0},{"$f":"COUNTIF(Game!K35:M37,2)","v":0},{"$f":"COUNTIF(Game!L35:N37,2)","v":0},{"$f":"COUNTIF(Game!M35:O37,2)","v":0},{"$f":"COUNTIF(Game!N35:P37,2)","v":0},{"$f":"COUNTIF(Game!O35:Q37,2)","v":0},{"$f":"COUNTIF(Game!P35:R37,2)","v":0},{"$f":"COUNTIF(Game!Q35:S37,2)","v":0},{"$f":"COUNTIF(Game!R35:T37,2)","v":0},{"$f":"COUNTIF(Game!S35:U37,2)","v":0},{"$f":"COUNTIF(Game!T35:V37,2)","v":0},{"$f":"COUNTIF(Game!U35:W37,2)","v":0},{"$f":"COUNTIF(Game!V35:X37,2)","v":0},{"$f":"COUNTIF(Game!W35:Y37,2)","v":0},{"$f":"COUNTIF(Game!X35:Z37,2)","v":0},{"$f":"COUNTIF(Game!Y35:AA37,2)","v":0},{"$f":"COUNTIF(Game!Z35:AB37,2)","v":0},{"$f":"COUNTIF(Game!AA35:AC37,2)","v":0},{"$f":"COUNTIF(Game!AB35:AD37,2)","v":0},{"$f":"COUNTIF(Game!AC35:AE37,2)","v":0},{"$f":"COUNTIF(Game!AD35:AF37,2)","v":0},{"$f":"COUNTIF(Game!AE35:AG37,2)","v":0},{"$f":"COUNTIF(Game!AF35:AH37,2)","v":0},{"$f":"COUNTIF(Game!AG35:AI37,2)","v":0},{"$f":"COUNTIF(Game!AH35:AJ37,2)","v":0},{"$f":"COUNTIF(Game!AI35:AK37,2)","v":0},{"$f":"COUNTIF(Game!AJ35:AL37,2)","v":0},{"$f":"COUNTIF(Game!AK35:AM37,2)","v":0}]
[null,{"$f":"COUNTIF(Game!A36:C38,2)","v":0},{"$f":"COUNTIF(Game!B36:D38,2)","v":0},{"$f":"COUNTIF(Game!C36:E38,2)","v":0},{"$f":"COUNTIF(Game!D36:F38,2)","v":0},{"$f":"COUNTIF(Game!E36:G38,2)","v":0},{"$f":"COUNTIF(Game!F36:H38,2)","v":0},{"$f":"COUNTIF(Game!G36:I38,2)","v":0},{"$f":"COUNTIF(Game!H36:J38,2)","v":0},{"$f":"COUNTIF(Game!I36:K38,2)","v":0},{"$f":"COUNTIF(Game!J36:L38,2)","v":0},{"$f":"COUNTIF(Game!K36:M38,2)","v":0},{"$f":"COUNTIF(Game!L36:N38,2)","v":0},{"$f":"COUNTIF(Game!M36:O38,2)","v":0},{"$f":"COUNTIF(Game!N36:P38,2)","v":0},{"$f":"COUNTIF(Game!O36:Q38,2)","v":0},{"$f":"COUNTIF(Game!P36:R38,2)","v":0},{"$f":"COUNTIF(Game!Q36:S38,2)","v":0},{"$f":"COUNTIF(Game!R36:T38,2)","v":0},{"$f":"COUNTIF(Game!S36:U38,2)","v":0},{"$f":"COUNTIF(Game!T36:V38,2)","v":0},{"$f":"COUNTIF(Game!U36:W38,2)","v":0},{"$f":"COUNTIF(Game!V36:X38,2)","v":0},{"$f":"COUNTIF(Game!W36:Y38,2)","v":0},{"$f":"COUNTIF(Game!X36:Z38,2)","v":0},{"$f":"COUNTIF(Game!Y36:AA38,2)","v":0},{"$f":"COUNTIF(Game!Z36:AB38,2)","v":0},{"$f":"COUNTIF(Game!AA36:AC38,2)","v":0},{"$f":"COUNTIF(Game!AB36:AD38,2)","v":0},{"$f":"COUNTIF(Game!AC36:AE38,2)","v":0},{"$f":"COUNTIF(Game!AD36:AF38,2)","v":0},{"$f":"COUNTIF(Game!AE36:AG38,2)","v":0},{"$f":"COUNTIF(Game!AF36:AH38,2)","v":0},{"$f":"COUNTIF(Game!AG36:AI38,2)","v":0},{"$f":"COUNTIF(Game!AH36:AJ38,2)","v":0},{"$f":"COUNTIF(Game!AI36:AK38,2)","v":0},{"$f":"COUNTIF(Game!AJ36:AL38,2)","v":0},{"$f":"COUNTIF(Game!AK36:AM38,2)","v":0}]
[null,{"$f":"COUNTIF(Game!A37:C39,2)","v":0},{"$f":"COUNTIF(Game!B37:D39,2)","v":0},{"$f":"COUNTIF(Game!C37:E39,2)","v":0},{"$f":"COUNTIF(Game!D37:F39,2)","v":0},{"$f":"COUNTIF(Game!E37:G39,2)","v":0},{"$f":"COUNTIF(Game!F37:H39,2)","v":0},{"$f":"COUNTIF(Game!G37:I39,2)","v":0},{"$f":"COUNTIF(Game!H37:J39,2)","v":0},{"$f":"COUNTIF(Game!I37:K39,2)","v":0},{"$f":"COUNTIF(Game!J37:L39,2)","v":0},{"$f":"COUNTIF(Game!K37:M39,2)","v":0},{"$f":"COUNTIF(Game!L37:N39,2)","v":0},{"$f":"COUNTIF(Game!M37:O39,2)","v":0},{"$f":"COUNTIF(Game!N37:P39,2)","v":0},{"$f":"COUNTIF(Game!O37:Q39,2)","v":0},{"$f":"COUNTIF(Game!P37:R39,2)","v":0},{"$f":"COUNTIF(Game!Q37:S39,2)","v":0},{"$f":"COUNTIF(Game!R37:T39,2)","v":0},{"$f":"COUNTIF(Game!S37:U39,2)","v":0},{"$f":"COUNTIF(Game!T37:V39,2)","v":0},{"$f":"COUNTIF(Game!U37:W39,2)","v":0},{"$f":"COUNTIF(Game!V37:X39,2)","v":0},{"$f":"COUNTIF(Game!W37:Y39,2)","v":0},{"$f":"COUNTIF(Game!X37:Z39,2)","v":0},{"$f":"COUNTIF(Game!Y37:AA39,2)","v":0},{"$f":"COUNTIF(Game!Z37:AB39,2)","v":0},{"$f":"COUNTIF(Game!AA37:AC39,2)","v":0},{"$f":"COUNTIF(Game!AB37:AD39,2)","v":0},{"$f":"COUNTIF(Game!AC37:AE39,2)","v":0},{"$f":"COUNTIF(Game!AD37:AF39,2)","v":0},{"$f":"COUNTIF(Game!AE37:AG39,2)","v":0},{"$f":"COUNTIF(Game!AF37:AH39,2)","v":0},{"$f":"COUNTIF(Game!AG37:AI39,2)","v":0},{"$f":"COUNTIF(Game!AH37:AJ39,2)","v":0},{"$f":"COUNTIF(Game!AI37:AK39,2)","v":0},{"$f":"COUNTIF(Game!AJ37:AL39,2)","v":0},{"$f":"COUNTIF(Game!AK37:AM39,2)","v":0}]

{"sheet":"Edit","index":4,"n_rows":42,"n_cols":38,"rows_kept":42,"hidden":true,"merged":[[40,0,40,3]]}
[]
[null,0,0,0,0,0,0,0,1,1,0,0,0,0,0,0,0,0,0,0,0,0,0,0,0,0,0,0,0,0,0,0,0,0,0,0,0,0]
[null,0,0,0,0,0,0,0,2,1,0,0,0,0,0,0,0,0,0,0,0,0,0,0,0,0,0,0,0,0,0,0,0,0,0,0,0,0]
[null,0,0,0,0,0,0,0,0,0,0,0,0,0,0,0,0,0,0,0,0,0,0,0,0,0,0,0,0,0,0,0,0,0,0,0,0,0]
[null,0,0,0,0,0,0,0,0,0,0,0,0,0,0,0,0,0,0,0,0,0,0,0,1,1,0,0,0,0,0,0,0,0,0,0,0,0]
[null,0,0,0,1,0,0,0,0,0,0,0,0,0,0,0,0,0,0,0,0,0,0,1,0,0,1,0,0,0,0,0,0,0,0,1,1,0]
[null,0,0,1,0,1,0,0,0,0,0,0,0,0,0,0,0,0,0,0,0,0,0,0,1,1,0,0,0,0,1,1,0,0,0,1,1,0]
[null,0,0,0,1,1,0,0,0,0,0,0,0,0,0,0,0,0,0,0,0,0,0,0,0,0,0,0,0,0,1,1,0,0,0,0,0,0]
[null,0,0,0,0,0,0,0,0,0,0,0,0,0,0,0,0,0,0,1,1,0,0,0,0,0,0,0,0,0,0,0,0,0,0,0,0,0]
[null,0,0,0,0,0,0,0,0,0,0,0,0,0,0,0,0,0,0,1,1,0,0,0,0,0,0,0,0,0,0,0,0,0,0,0,0,0]
[null,0,0,0,0,0,0,0,0,0,0,0,0,0,0,0,0,0,0,0,0,0,0,0,0,0,0,0,0,0,0,0,0,0,0,0,0,0]
[null,0,0,0,0,0,0,0,0,0,0,0,0,0,0,0,0,0,0,0,0,0,0,0,0,0,0,0,0,0,0,0,0,0,0,0,0,0]
[null,0,0,0,0,0,0,0,0,0,0,0,0,0,0,0,0,0,0,0,0,0,0,0,0,0,0,0,0,0,0,0,0,0,0,0,0,0]
[null,0,0,0,0,0,0,0,0,0,0,0,0,0,0,0,0,0,0,0,0,0,0,0,0,0,0,0,0,0,0,0,0,0,0,0,0,0]
[null,0,0,0,0,0,0,0,0,0,0,0,0,0,0,0,0,0,0,0,0,0,0,0,0,0,0,0,0,0,0,0,0,0,0,0,0,0]
[null,0,0,0,0,0,0,0,0,0,1,0,0,0,0,0,0,0,0,0,0,0,0,0,0,0,0,0,0,0,0,0,0,0,0,0,0,0]
[null,0,0,0,0,0,0,0,2,1,1,0,0,0,0,0,0,0,0,0,0,0,0,0,0,0,0,0,0,0,0,0,0,0,0,0,0,0]
[null,0,0,0,0,0,0,2,0,0,0,0,0,1,1,0,0,0,0,0,0,0,0,0,0,0,0,0,0,0,0,0,0,0,0,0,0,0]
[null,0,0,0,2,2,0,2,2,2,0,1,0,0,1,1,0,0,0,0,0,0,0,0,0,0,0,0,0,0,0,0,0,0,1,0,0,0]
[null,0,2,2,0,0,0,0,0,0,1,0,2,0,0,0,0,0,0,0,0,0,0,0,0,0,0,0,0,0,0,0,0,0,1,0,0,0]
[null,2,2,0,0,0,2,0,0,0,2,0,0,2,0,0,0,0,0,0,0,0,0,0,0,0,1,0,0,0,0,1,0,1,1,0,0,0]
[null,0,0,0,2,0,2,2,0,2,0,0,0,0,0,0,0,0,0,0,0,0,0,0,0,0,1,0,0,0,1,1,1,0,0,0,0,0]
[null,2,2,2,0,2,2,0,2,2,0,0,2,0,0,0,0,0,0,0,0,0,0,0,0,0,0,0,0,1,0,0,0,0,0,0,0,0]
[null,0,2,0,0,0,2,2,2,0,0,2,0,0,0,0,0,0,0,0,0,0,0,0,0,0,0,0,0,0,1,0,0,0,0,0,1,1]
[null,0,0,0,0,0,2,2,0,0,0,0,0,0,0,0,0,0,0,0,0,0,0,0,0,0,0,0,0,0,0,0,0,0,0,0,0,1]
[null,1,1,1,0,1,0,0,0,0,0,0,0,0,0,0,0,0,0,0,0,0,0,0,0,0,0,0,0,0,0,0,0,0,0,0,1,1]
[null,1,1,1,0,1,0,0,1,0,0,0,0,0,0,0,0,0,0,0,0,0,0,0,0,0,0,0,0,1,1,0,1,1,0,0,1,0]
[null,0,1,1,0,0,0,0,0,1,0,0,0,0,0,0,0,0,0,0,0,0,0,0,0,0,0,0,1,0,1,0,1,1,0,1,0,0]
[null,0,0,1,1,0,0,0,0,1,0,0,0,1,1,1,0,0,0,0,0,0,0,0,0,0,0,0,0,1,0,0,1,1,1,1,0,0]
[null,1,1,0,1,0,1,1,1,1,0,0,0,0,0,0,0,0,0,0,0,0,0,0,0,0,0,0,0,0,0,0,1,0,0,0,1,0]
[null,1,1,0,0,0,1,0,0,0,0,0,0,0,0,0,0,1,1,1,0,0,0,0,0,0,0,0,1,0,0,0,1,1,0,1,1,0]
[null,0,0,1,1,1,0,0,0,0,0,0,0,0,0,0,0,0,0,0,0,0,0,0,0,0,0,1,1,1,0,0,0,0,0,0,0,0]
[null,0,0,1,1,1,0,0,0,0,0,0,0,0,0,1,1,0,0,0,0,0,0,0,0,0,1,1,1,1,1,0,0,0,0,0,0,0]
[null,0,0,0,0,0,0,0,0,0,0,0,0,0,0,1,1,0,0,1,0,0,0,0,0,1,0,0,0,0,0,1,0,0,0,0,0,0]
[null,0,0,0,0,0,0,0,0,0,0,0,0,0,0,1,1,0,0,0,0,0,0,0,1,1,0,0,1,0,0,1,1,0,0,0,1,1]
[null,0,0,0,0,0,0,0,0,0,0,0,0,0,0,0,0,0,0,0,1,0,0,1,1,0,0,1,1,1,0,0,1,1,0,0,1,1]
[null,0,0,0,0,0,0,0,0,0,0,0,0,0,0,0,0,1,0,1,1,0,0,0,0,1,0,0,0,0,0,1,0,0,0,0,0,0]
[null,0,0,0,0,0,0,0,0,0,0,0,0,0,0,0,0,1,1,1,0,0,0,0,0,0,0,0,0,0,0,0,0,0,0,0,0,0]
[]
[]
["Edit Mode:"]
[false]

{"sheet":"Lists","index":5,"n_rows":26,"n_cols":3,"rows_kept":26,"hidden":true}
[5,"Vs CPU",1]
[6,"PVP",2]
[7,"Free Play",3]
[8,null,4]
[9,null,5]
[10,null,6]
[11,null,7]
[12,null,8]
[13,null,9]
[14,null,10]
[15,null,11]
[16,null,12]
[17,null,13]
[18,null,14]
[19,null,15]
[20,null,16]
[21,null,17]
[22,null,18]
[23,null,19]
[24,null,20]
[25]
[26]
[27]
[28]
[29]
[30]